| Back to Multiple platform build/check report for BioC 3.15 |
|
This page was generated on 2022-10-19 13:23:47 -0400 (Wed, 19 Oct 2022).
| Hostname | OS | Arch (*) | R version | Installed pkgs |
|---|---|---|---|---|
| nebbiolo1 | Linux (Ubuntu 20.04.5 LTS) | x86_64 | 4.2.1 (2022-06-23) -- "Funny-Looking Kid" | 4386 |
| palomino3 | Windows Server 2022 Datacenter | x64 | 4.2.1 (2022-06-23 ucrt) -- "Funny-Looking Kid" | 4138 |
| merida1 | macOS 10.14.6 Mojave | x86_64 | 4.2.1 (2022-06-23) -- "Funny-Looking Kid" | 4205 |
| Click on any hostname to see more info about the system (e.g. compilers) (*) as reported by 'uname -p', except on Windows and Mac OS X | ||||
|
To the developers/maintainers of the splots package: - Please allow up to 24 hours (and sometimes 48 hours) for your latest push to git@git.bioconductor.org:packages/splots.git to reflect on this report. See How and When does the builder pull? When will my changes propagate? for more information. - Make sure to use the following settings in order to reproduce any error or warning you see on this page. |
| Package 1914/2140 | Hostname | OS / Arch | INSTALL | BUILD | CHECK | BUILD BIN | ||||||||
| splots 1.62.0 (landing page) Wolfgang Huber
| nebbiolo1 | Linux (Ubuntu 20.04.5 LTS) / x86_64 | OK | OK | OK | |||||||||
| palomino3 | Windows Server 2022 Datacenter / x64 | OK | OK | OK | OK | |||||||||
| merida1 | macOS 10.14.6 Mojave / x86_64 | OK | OK | OK | OK | |||||||||
| Package: splots |
| Version: 1.62.0 |
| Command: /Library/Frameworks/R.framework/Resources/bin/R CMD build --keep-empty-dirs --no-resave-data splots |
| StartedAt: 2022-10-18 22:03:15 -0400 (Tue, 18 Oct 2022) |
| EndedAt: 2022-10-18 22:06:25 -0400 (Tue, 18 Oct 2022) |
| EllapsedTime: 190.0 seconds |
| RetCode: 0 |
| Status: OK |
| PackageFile: splots_1.62.0.tar.gz |
| PackageFileSize: 486.8 MiB |
##############################################################################
##############################################################################
###
### Running command:
###
### /Library/Frameworks/R.framework/Resources/bin/R CMD build --keep-empty-dirs --no-resave-data splots
###
##############################################################################
##############################################################################
* checking for file ‘splots/DESCRIPTION’ ... OK
* preparing ‘splots’:
* checking DESCRIPTION meta-information ... OK
* installing the package to build vignettes
* creating vignettes ... OK
* checking for LF line-endings in source and make files and shell scripts
* checking for empty or unneeded directories
NB: this package now depends on R (>= 3.5.0)
WARNING: Added dependency on R >= 3.5.0 because serialized objects in
serialize/load version 3 cannot be read in older versions of R.
File(s) containing such objects:
‘splots/vignettes/splots_cache/html/exampledata_c08b4f5335b5ad6c380c92ab605c02db.RData’
‘splots/vignettes/splots_cache/html/exampledata_c08b4f5335b5ad6c380c92ab605c02db.rdx’
‘splots/vignettes/splots_cache/html/fig1_f5216c06be794e3a221155b1892b1562.RData’
‘splots/vignettes/splots_cache/html/fig1_f5216c06be794e3a221155b1892b1562.rdx’
‘splots/vignettes/splots_cache/html/sessionInfo_be656250b3d156e1c8cd1ed8627c92c3.RData’
‘splots/vignettes/splots_cache/html/sessionInfo_be656250b3d156e1c8cd1ed8627c92c3.rdx’
‘splots/vignettes/splots_cache/html/xl_cbb82a8fe0335f7109b5160fe8837efd.RData’
‘splots/vignettes/splots_cache/html/xl_cbb82a8fe0335f7109b5160fe8837efd.rdx’
* building ‘splots_1.62.0.tar.gz’