Back to Multiple platform build/check report for BioC 3.15
ABCDEFGHIJKLMNOPQR[S]TUVWXYZ

This page was generated on 2022-03-18 11:08:45 -0400 (Fri, 18 Mar 2022).

HostnameOSArch (*)R versionInstalled pkgs
nebbiolo1Linux (Ubuntu 20.04.4 LTS)x86_64R Under development (unstable) (2022-02-17 r81757) -- "Unsuffered Consequences" 4334
riesling1Windows Server 2019 Standardx64R Under development (unstable) (2021-11-21 r81221) -- "Unsuffered Consequences" 4097
palomino3Windows Server 2022 Datacenterx64R Under development (unstable) (2022-02-17 r81757 ucrt) -- "Unsuffered Consequences" 4083
merida1macOS 10.14.6 Mojavex86_64R Under development (unstable) (2022-03-02 r81842) -- "Unsuffered Consequences" 4134
Click on any hostname to see more info about the system (e.g. compilers)      (*) as reported by 'uname -p', except on Windows and Mac OS X

CHECK results for sparseMatrixStats on riesling1


To the developers/maintainers of the sparseMatrixStats package:
- Please allow up to 24 hours (and sometimes 48 hours) for your latest push to git@git.bioconductor.org:packages/sparseMatrixStats.git to
reflect on this report. See How and When does the builder pull? When will my changes propagate? here for more information.
- Make sure to use the following settings in order to reproduce any error or warning you see on this page.

raw results

Package 1848/2090HostnameOS / ArchINSTALLBUILDCHECKBUILD BIN
sparseMatrixStats 1.7.0  (landing page)
Constantin Ahlmann-Eltze
Snapshot Date: 2022-03-17 13:55:23 -0400 (Thu, 17 Mar 2022)
git_url: https://git.bioconductor.org/packages/sparseMatrixStats
git_branch: master
git_last_commit: b09d608
git_last_commit_date: 2021-11-23 04:46:55 -0400 (Tue, 23 Nov 2021)
nebbiolo1Linux (Ubuntu 20.04.4 LTS) / x86_64  OK    OK    OK  UNNEEDED, same version is already published
riesling1Windows Server 2019 Standard / x64  OK    OK    OK    OK  
palomino3Windows Server 2022 Datacenter / x64  OK    OK    OK    OK  UNNEEDED, same version is already published
merida1macOS 10.14.6 Mojave / x86_64  OK    OK    OK    OK  UNNEEDED, same version is already published

Summary

Package: sparseMatrixStats
Version: 1.7.0
Command: D:\biocbuild\bbs-3.15-bioc\R\bin\R.exe CMD check --no-multiarch --install=check:sparseMatrixStats.install-out.txt --library=D:\biocbuild\bbs-3.15-bioc\R\library --no-vignettes --timings sparseMatrixStats_1.7.0.tar.gz
StartedAt: 2022-03-17 20:20:45 -0400 (Thu, 17 Mar 2022)
EndedAt: 2022-03-17 20:21:50 -0400 (Thu, 17 Mar 2022)
EllapsedTime: 64.9 seconds
RetCode: 0
Status:   OK  
CheckDir: sparseMatrixStats.Rcheck
Warnings: 0

Command output

##############################################################################
##############################################################################
###
### Running command:
###
###   D:\biocbuild\bbs-3.15-bioc\R\bin\R.exe CMD check --no-multiarch --install=check:sparseMatrixStats.install-out.txt --library=D:\biocbuild\bbs-3.15-bioc\R\library --no-vignettes --timings sparseMatrixStats_1.7.0.tar.gz
###
##############################################################################
##############################################################################


* using log directory 'D:/biocbuild/bbs-3.15-bioc/meat/sparseMatrixStats.Rcheck'
* using R Under development (unstable) (2021-11-21 r81221)
* using platform: x86_64-w64-mingw32 (64-bit)
* using session charset: ISO8859-1
* using option '--no-vignettes'
* checking for file 'sparseMatrixStats/DESCRIPTION' ... OK
* checking extension type ... Package
* this is package 'sparseMatrixStats' version '1.7.0'
* package encoding: UTF-8
* checking package namespace information ... OK
* checking package dependencies ... OK
* checking if this is a source package ... OK
* checking if there is a namespace ... OK
* checking for hidden files and directories ... OK
* checking for portable file names ... OK
* checking whether package 'sparseMatrixStats' can be installed ... OK
* checking installed package size ... OK
* checking package directory ... OK
* checking 'build' directory ... OK
* checking DESCRIPTION meta-information ... OK
* checking top-level files ... OK
* checking for left-over files ... OK
* checking index information ... OK
* checking package subdirectories ... OK
* checking R files for non-ASCII characters ... OK
* checking R files for syntax errors ... OK
* checking whether the package can be loaded ... OK
* checking whether the package can be loaded with stated dependencies ... OK
* checking whether the package can be unloaded cleanly ... OK
* checking whether the namespace can be loaded with stated dependencies ... OK
* checking whether the namespace can be unloaded cleanly ... OK
* checking dependencies in R code ... OK
* checking S3 generic/method consistency ... OK
* checking replacement functions ... OK
* checking foreign function calls ... OK
* checking R code for possible problems ... OK
* checking Rd files ... OK
* checking Rd metadata ... OK
* checking Rd cross-references ... OK
* checking for missing documentation entries ... OK
* checking for code/documentation mismatches ... OK
* checking Rd \usage sections ... OK
* checking Rd contents ... OK
* checking for unstated dependencies in examples ... OK
* checking line endings in C/C++/Fortran sources/headers ... OK
* checking compiled code ... NOTE
Note: information on .o files for x64 is not available
File 'D:/biocbuild/bbs-3.15-bioc/R/library/sparseMatrixStats/libs/x64/sparseMatrixStats.dll':
  Found 'abort', possibly from 'abort' (C), 'runtime' (Fortran)
  Found 'exit', possibly from 'exit' (C), 'stop' (Fortran)
  Found 'printf', possibly from 'printf' (C)

Compiled code should not call entry points which might terminate R nor
write to stdout/stderr instead of to the console, nor use Fortran I/O
nor system RNGs. The detected symbols are linked into the code but
might come from libraries and not actually be called.

See 'Writing portable packages' in the 'Writing R Extensions' manual.
* checking files in 'vignettes' ... OK
* checking examples ... OK
* checking for unstated dependencies in 'tests' ... OK
* checking tests ...
  Running 'testthat.R'
 OK
* checking for unstated dependencies in vignettes ... OK
* checking package vignettes in 'inst/doc' ... OK
* checking running R code from vignettes ... SKIPPED
* checking re-building of vignette outputs ... SKIPPED
* checking PDF version of manual ... OK
* DONE

Status: 1 NOTE
See
  'D:/biocbuild/bbs-3.15-bioc/meat/sparseMatrixStats.Rcheck/00check.log'
for details.



Installation output

sparseMatrixStats.Rcheck/00install.out

##############################################################################
##############################################################################
###
### Running command:
###
###   D:\biocbuild\bbs-3.15-bioc\R\bin\R.exe CMD INSTALL sparseMatrixStats
###
##############################################################################
##############################################################################


* installing to library 'D:/biocbuild/bbs-3.15-bioc/R/library'
* installing *source* package 'sparseMatrixStats' ...
** using staged installation
** libs
"C:/rtools40/mingw64/bin/"g++  -std=gnu++11 -I"D:/biocbuild/bbs-3.15-bioc/R/include" -DNDEBUG  -I'D:/biocbuild/bbs-3.15-bioc/R/library/Rcpp/include'   -I"C:/extsoft/include"     -O2 -Wall  -mfpmath=sse -msse2 -mstackrealign -fno-reorder-blocks-and-partition  -c RcppExports.cpp -o RcppExports.o
"C:/rtools40/mingw64/bin/"g++  -std=gnu++11 -I"D:/biocbuild/bbs-3.15-bioc/R/include" -DNDEBUG  -I'D:/biocbuild/bbs-3.15-bioc/R/library/Rcpp/include'   -I"C:/extsoft/include"     -O2 -Wall  -mfpmath=sse -msse2 -mstackrealign -fno-reorder-blocks-and-partition  -c SparseMatrixView.cpp -o SparseMatrixView.o
"C:/rtools40/mingw64/bin/"g++  -std=gnu++11 -I"D:/biocbuild/bbs-3.15-bioc/R/include" -DNDEBUG  -I'D:/biocbuild/bbs-3.15-bioc/R/library/Rcpp/include'   -I"C:/extsoft/include"     -O2 -Wall  -mfpmath=sse -msse2 -mstackrealign -fno-reorder-blocks-and-partition  -c methods.cpp -o methods.o
In file included from methods.cpp:6:
quantile.h: In instantiation of 'double quantile_sparse_impl(T, int, double) [with T = VectorSubsetView<14>]':
quantile.h:85:85:   required from here
quantile.h:35:20: warning: comparison of integer expressions of different signedness: 'int' and 'std::vector<double>::size_type' {aka 'long long unsigned int'} [-Wsign-compare]
   for(int i = 0; i < sorted_values.size() + number_of_zeros; i++){
                  ~~^~~~~~~~~~~~~~~~~~~~~~~~~~~~~~~~~~~~~~~~
methods.cpp: In instantiation of 'double colOrderStats::operator()(V&, R&, int) const [with V = SkipNAVectorSubsetView<14>; R = SkipNAVectorSubsetView<13>]':
methods.cpp:25:18:   required from 'Rcpp::NumericVector reduce_matrix_double(Rcpp::S4, bool, Functor) [with Functor = colOrderStats; Rcpp::NumericVector = Rcpp::Vector<14, Rcpp::PreserveStorage>; Rcpp::S4 = Rcpp::S4_Impl<Rcpp::PreserveStorage>]'
methods.cpp:510:73:   required from here
methods.cpp:475:22: warning: comparison of integer expressions of different signedness: 'int' and 'std::vector<double>::size_type' {aka 'long long unsigned int'} [-Wsign-compare]
     for(int i = 0; i < sorted_values.size() + number_of_zeros; i++){
                    ~~^~~~~~~~~~~~~~~~~~~~~~~~~~~~~~~~~~~~~~~~
methods.cpp: In instantiation of 'double colOrderStats::operator()(V&, R&, int) const [with V = VectorSubsetView<14>; R = VectorSubsetView<13>]':
methods.cpp:30:18:   required from 'Rcpp::NumericVector reduce_matrix_double(Rcpp::S4, bool, Functor) [with Functor = colOrderStats; Rcpp::NumericVector = Rcpp::Vector<14, Rcpp::PreserveStorage>; Rcpp::S4 = Rcpp::S4_Impl<Rcpp::PreserveStorage>]'
methods.cpp:510:73:   required from here
methods.cpp:475:22: warning: comparison of integer expressions of different signedness: 'int' and 'std::vector<double>::size_type' {aka 'long long unsigned int'} [-Wsign-compare]
In file included from methods.cpp:6:
quantile.h: In instantiation of 'double quantile_sparse_impl(T, int, double) [with T = SkipNAVectorSubsetView<14>]':
methods.cpp:269:32:   required from 'double colMedians::operator()(V&, R&, int) const [with V = SkipNAVectorSubsetView<14>; R = SkipNAVectorSubsetView<13>]'
methods.cpp:25:18:   required from 'Rcpp::NumericVector reduce_matrix_double(Rcpp::S4, bool, Functor) [with Functor = colMedians; Rcpp::NumericVector = Rcpp::Vector<14, Rcpp::PreserveStorage>; Rcpp::S4 = Rcpp::S4_Impl<Rcpp::PreserveStorage>]'
methods.cpp:277:63:   required from here
quantile.h:35:20: warning: comparison of integer expressions of different signedness: 'int' and 'std::vector<double>::size_type' {aka 'long long unsigned int'} [-Wsign-compare]
   for(int i = 0; i < sorted_values.size() + number_of_zeros; i++){
                  ~~^~~~~~~~~~~~~~~~~~~~~~~~~~~~~~~~~~~~~~~~
"C:/rtools40/mingw64/bin/"g++  -std=gnu++11 -I"D:/biocbuild/bbs-3.15-bioc/R/include" -DNDEBUG  -I'D:/biocbuild/bbs-3.15-bioc/R/library/Rcpp/include'   -I"C:/extsoft/include"     -O2 -Wall  -mfpmath=sse -msse2 -mstackrealign -fno-reorder-blocks-and-partition  -c row_methods.cpp -o row_methods.o
C:/rtools40/mingw64/bin/g++ -shared -s -static-libgcc -o sparseMatrixStats.dll tmp.def RcppExports.o SparseMatrixView.o methods.o row_methods.o -LC:/extsoft/lib/x64 -LC:/extsoft/lib -LD:/biocbuild/bbs-3.15-bioc/R/bin/x64 -lR
installing to D:/biocbuild/bbs-3.15-bioc/R/library/00LOCK-sparseMatrixStats/00new/sparseMatrixStats/libs/x64
** R
** byte-compile and prepare package for lazy loading
** help
*** installing help indices
  converting help for package 'sparseMatrixStats'
    finding HTML links ... done
    colAlls-xgCMatrix-method                html  
    colAnyNAs-xgCMatrix-method              html  
    colAnys-xgCMatrix-method                html  
    colAvgsPerRowSet-xgCMatrix-method       html  
    colCollapse-xgCMatrix-method            html  
    colCounts-xgCMatrix-method              html  
    colCummaxs-dgCMatrix-method             html  
    colCummins-dgCMatrix-method             html  
    colCumprods-xgCMatrix-method            html  
    colCumsums-xgCMatrix-method             html  
    colDiffs-dgCMatrix-method               html  
    colIQRDiffs-dgCMatrix-method            html  
    colIQRs-xgCMatrix-method                html  
    colLogSumExps-xgCMatrix-method          html  
    colMadDiffs-dgCMatrix-method            html  
    colMads-dgCMatrix-method                html  
    colMaxs-dgCMatrix-method                html  
    colMeans2-xgCMatrix-method              html  
    colMedians-dgCMatrix-method             html  
    colMins-dgCMatrix-method                html  
    colOrderStats-dgCMatrix-method          html  
    colProds-xgCMatrix-method               html  
    colQuantiles-xgCMatrix-method           html  
    colRanges-dgCMatrix-method              html  
    colRanks-dgCMatrix-method               html  
    colSdDiffs-dgCMatrix-method             html  
    colSds-xgCMatrix-method                 html  
    colSums2-xgCMatrix-method               html  
    colTabulates-xgCMatrix-method           html  
    colVarDiffs-dgCMatrix-method            html  
    colVars-xgCMatrix-method                html  
    colWeightedMads-dgCMatrix-method        html  
    colWeightedMeans-xgCMatrix-method       html  
    colWeightedMedians-dgCMatrix-method     html  
    colWeightedSds-xgCMatrix-method         html  
    colWeightedVars-xgCMatrix-method        html  
    xgCMatrix-class                         html  
*** copying figures
** building package indices
** installing vignettes
** testing if installed package can be loaded from temporary location
** testing if installed package can be loaded from final location
** testing if installed package keeps a record of temporary installation path
* DONE (sparseMatrixStats)
Making 'packages.html' ...Warning in packageDescription(i, lib.loc = lib, fields = "Title", encoding = "UTF-8") :
  DESCRIPTION file of package 'phosphonormalizer' is missing or broken
 done

Tests output

sparseMatrixStats.Rcheck/tests/testthat.Rout


R Under development (unstable) (2021-11-21 r81221) -- "Unsuffered Consequences"
Copyright (C) 2021 The R Foundation for Statistical Computing
Platform: x86_64-w64-mingw32/x64 (64-bit)

R is free software and comes with ABSOLUTELY NO WARRANTY.
You are welcome to redistribute it under certain conditions.
Type 'license()' or 'licence()' for distribution details.

R is a collaborative project with many contributors.
Type 'contributors()' for more information and
'citation()' on how to cite R or R packages in publications.

Type 'demo()' for some demos, 'help()' for on-line help, or
'help.start()' for an HTML browser interface to help.
Type 'q()' to quit R.

> library(testthat)
> library(sparseMatrixStats)
Loading required package: MatrixGenerics
Loading required package: matrixStats

Attaching package: 'MatrixGenerics'

The following objects are masked from 'package:matrixStats':

    colAlls, colAnyNAs, colAnys, colAvgsPerRowSet, colCollapse,
    colCounts, colCummaxs, colCummins, colCumprods, colCumsums,
    colDiffs, colIQRDiffs, colIQRs, colLogSumExps, colMadDiffs,
    colMads, colMaxs, colMeans2, colMedians, colMins, colOrderStats,
    colProds, colQuantiles, colRanges, colRanks, colSdDiffs, colSds,
    colSums2, colTabulates, colVarDiffs, colVars, colWeightedMads,
    colWeightedMeans, colWeightedMedians, colWeightedSds,
    colWeightedVars, rowAlls, rowAnyNAs, rowAnys, rowAvgsPerColSet,
    rowCollapse, rowCounts, rowCummaxs, rowCummins, rowCumprods,
    rowCumsums, rowDiffs, rowIQRDiffs, rowIQRs, rowLogSumExps,
    rowMadDiffs, rowMads, rowMaxs, rowMeans2, rowMedians, rowMins,
    rowOrderStats, rowProds, rowQuantiles, rowRanges, rowRanks,
    rowSdDiffs, rowSds, rowSums2, rowTabulates, rowVarDiffs, rowVars,
    rowWeightedMads, rowWeightedMeans, rowWeightedMedians,
    rowWeightedSds, rowWeightedVars

> 
> test_check("sparseMatrixStats")
[ FAIL 0 | WARN 0 | SKIP 21 | PASS 1755 ]

== Skipped tests ===============================================================
* different result than matrixStats version, because sparseMatrixStats uses `interpolate=FALSE`. (10)
* matrixStats doesn't convert values to logical if mat is logical?! (1)
* matrixStats::xxxOrderStats() does not support missing values (10)

[ FAIL 0 | WARN 0 | SKIP 21 | PASS 1755 ]
> 
> proc.time()
   user  system elapsed 
   5.40    0.18    5.57 

Example timings

sparseMatrixStats.Rcheck/sparseMatrixStats-Ex.timings

nameusersystemelapsed
colAlls-xgCMatrix-method000
colAnyNAs-xgCMatrix-method000
colAnys-xgCMatrix-method000
colAvgsPerRowSet-xgCMatrix-method000
colCollapse-xgCMatrix-method000
colCounts-xgCMatrix-method000
colCummaxs-dgCMatrix-method000
colCummins-dgCMatrix-method0.020.000.02
colCumprods-xgCMatrix-method000
colCumsums-xgCMatrix-method000
colDiffs-dgCMatrix-method000
colIQRDiffs-dgCMatrix-method000
colIQRs-xgCMatrix-method000
colLogSumExps-xgCMatrix-method000
colMadDiffs-dgCMatrix-method0.000.010.02
colMads-dgCMatrix-method000
colMaxs-dgCMatrix-method0.020.000.01
colMeans2-xgCMatrix-method000
colMedians-dgCMatrix-method000
colMins-dgCMatrix-method000
colOrderStats-dgCMatrix-method000
colProds-xgCMatrix-method000
colQuantiles-xgCMatrix-method000
colRanges-dgCMatrix-method000
colRanks-dgCMatrix-method000
colSdDiffs-dgCMatrix-method0.020.000.01
colSds-xgCMatrix-method000
colSums2-xgCMatrix-method000
colTabulates-xgCMatrix-method000
colVarDiffs-dgCMatrix-method000
colVars-xgCMatrix-method000
colWeightedMads-dgCMatrix-method000
colWeightedMeans-xgCMatrix-method000
colWeightedMedians-dgCMatrix-method000
colWeightedSds-xgCMatrix-method000
colWeightedVars-xgCMatrix-method0.010.000.02