| Back to Multiple platform build/check report for BioC 3.15 |
|
This page was generated on 2022-03-18 11:08:44 -0400 (Fri, 18 Mar 2022).
| Hostname | OS | Arch (*) | R version | Installed pkgs |
|---|---|---|---|---|
| nebbiolo1 | Linux (Ubuntu 20.04.4 LTS) | x86_64 | R Under development (unstable) (2022-02-17 r81757) -- "Unsuffered Consequences" | 4334 |
| riesling1 | Windows Server 2019 Standard | x64 | R Under development (unstable) (2021-11-21 r81221) -- "Unsuffered Consequences" | 4097 |
| palomino3 | Windows Server 2022 Datacenter | x64 | R Under development (unstable) (2022-02-17 r81757 ucrt) -- "Unsuffered Consequences" | 4083 |
| merida1 | macOS 10.14.6 Mojave | x86_64 | R Under development (unstable) (2022-03-02 r81842) -- "Unsuffered Consequences" | 4134 |
| Click on any hostname to see more info about the system (e.g. compilers) (*) as reported by 'uname -p', except on Windows and Mac OS X | ||||
|
To the developers/maintainers of the sparrow package: - Please allow up to 24 hours (and sometimes 48 hours) for your latest push to git@git.bioconductor.org:packages/sparrow.git to reflect on this report. See How and When does the builder pull? When will my changes propagate? here for more information. - Make sure to use the following settings in order to reproduce any error or warning you see on this page. |
| Package 1846/2090 | Hostname | OS / Arch | INSTALL | BUILD | CHECK | BUILD BIN | ||||||||
| sparrow 1.1.3 (landing page) Steve Lianoglou
| nebbiolo1 | Linux (Ubuntu 20.04.4 LTS) / x86_64 | OK | OK | ERROR | |||||||||
| riesling1 | Windows Server 2019 Standard / x64 | OK | OK | ERROR | OK | |||||||||
| palomino3 | Windows Server 2022 Datacenter / x64 | OK | OK | ERROR | OK | |||||||||
| merida1 | macOS 10.14.6 Mojave / x86_64 | OK | OK | ERROR | OK | |||||||||
| Package: sparrow |
| Version: 1.1.3 |
| Command: rm -rf sparrow.buildbin-libdir && mkdir sparrow.buildbin-libdir && D:\biocbuild\bbs-3.15-bioc\R\bin\R.exe CMD INSTALL --build --library=sparrow.buildbin-libdir sparrow_1.1.3.tar.gz |
| StartedAt: 2022-03-17 21:41:35 -0400 (Thu, 17 Mar 2022) |
| EndedAt: 2022-03-17 21:42:52 -0400 (Thu, 17 Mar 2022) |
| EllapsedTime: 77.6 seconds |
| RetCode: 0 |
| Status: OK |
| PackageFile: sparrow_1.1.3.zip |
| PackageFileSize: 4.454 MiB |
##############################################################################
##############################################################################
###
### Running command:
###
### rm -rf sparrow.buildbin-libdir && mkdir sparrow.buildbin-libdir && D:\biocbuild\bbs-3.15-bioc\R\bin\R.exe CMD INSTALL --build --library=sparrow.buildbin-libdir sparrow_1.1.3.tar.gz
###
##############################################################################
##############################################################################
* installing *source* package 'sparrow' ...
** using staged installation
** R
** inst
** byte-compile and prepare package for lazy loading
** help
*** installing help indices
converting help for package 'sparrow'
finding HTML links ... done
GeneSetDb-class html
SparrowResult-utilities html
REDIRECT:topic Previous alias or file overwritten by alias: D:/biocbuild/bbs-3.15-bioc/meat/sparrow.buildbin-libdir/00LOCK-sparrow/00new/sparrow/help/geneSetDb.html
SparrowResult html
addGeneSetMetadata html
all.equal.GeneSetDb html
annotateGeneSetMembership html
calculateIndividualLogFC html
collectionMetadata html
combine-GeneSetDb-GeneSetDb-method html
combine-SparrowResult-SparrowResult-method
html
conform html
conversion html
convertIdentifiers html
corplot html
eigenWeightedMean html
examples html
failWith html
featureIdMap html
featureIds html
geneSet html
geneSetCollectionURLfunction html
geneSetSummaryByGenes html
geneSets html
geneSetsStats html
getKeggCollection html
getMSigCollection html
getPantherCollection html
getReactomeCollection html
goseq html
gsdScore html
gskey html
hasGeneSet html
hasGeneSetCollection html
incidenceMatrix html
iplot html
is.active html
logFC html
mgheatmap html
mgheatmap2 html
msg html
ora html
p.matrix html
randomGeneSetDb html
renameCollections html
renameRows html
results html
scale_rows html
scoreSingleSamples html
seas html
finding level-2 HTML links ... done
sparrow_methods html
species_info html
ssGSEA.normalize html
sub-GeneSetDb-ANY-ANY-ANY-method html
subset.GeneSetDb html
subsetByFeatures html
validateInputs html
volcanoPlot html
volcanoStatsTable html
zScore html
*** copying figures
** building package indices
** installing vignettes
** testing if installed package can be loaded from temporary location
** testing if installed package can be loaded from final location
** testing if installed package keeps a record of temporary installation path
* MD5 sums
packaged installation of 'sparrow' as sparrow_1.1.3.zip
* DONE (sparrow)