Back to Multiple platform build/check report for BioC 3.15
ABCDEFGHIJKLMNOPQR[S]TUVWXYZ

This page was generated on 2022-07-08 13:22:04 -0400 (Fri, 08 Jul 2022).

HostnameOSArch (*)R versionInstalled pkgs
nebbiolo1Linux (Ubuntu 20.04.4 LTS)x86_644.2.0 (2022-04-22) -- "Vigorous Calisthenics" 4380
palomino3Windows Server 2022 Datacenterx644.2.0 (2022-04-22 ucrt) -- "Vigorous Calisthenics" 4157
merida1macOS 10.14.6 Mojavex86_644.2.0 (2022-04-22) -- "Vigorous Calisthenics" 4222
Click on any hostname to see more info about the system (e.g. compilers)      (*) as reported by 'uname -p', except on Windows and Mac OS X

CHECK results for sojourner on palomino3


To the developers/maintainers of the sojourner package:
- Please allow up to 24 hours (and sometimes 48 hours) for your latest push to git@git.bioconductor.org:packages/sojourner.git to
reflect on this report. See How and When does the builder pull? When will my changes propagate? for more information.
- Make sure to use the following settings in order to reproduce any error or warning you see on this page.

raw results

Package 1882/2140HostnameOS / ArchINSTALLBUILDCHECKBUILD BIN
sojourner 1.10.0  (landing page)
Sojourner Developer
Snapshot Date: 2022-07-07 15:22:31 -0400 (Thu, 07 Jul 2022)
git_url: https://git.bioconductor.org/packages/sojourner
git_branch: RELEASE_3_15
git_last_commit: 077ecb3
git_last_commit_date: 2022-04-26 11:58:30 -0400 (Tue, 26 Apr 2022)
nebbiolo1Linux (Ubuntu 20.04.4 LTS) / x86_64  OK    OK    OK  UNNEEDED, same version is already published
palomino3Windows Server 2022 Datacenter / x64  OK    OK    OK    OK  UNNEEDED, same version is already published
merida1macOS 10.14.6 Mojave / x86_64  OK    OK    OK    OK  UNNEEDED, same version is already published

Summary

Package: sojourner
Version: 1.10.0
Command: F:\biocbuild\bbs-3.15-bioc\R\bin\R.exe CMD check --no-multiarch --install=check:sojourner.install-out.txt --library=F:\biocbuild\bbs-3.15-bioc\R\library --no-vignettes --timings sojourner_1.10.0.tar.gz
StartedAt: 2022-07-08 06:02:02 -0400 (Fri, 08 Jul 2022)
EndedAt: 2022-07-08 06:09:29 -0400 (Fri, 08 Jul 2022)
EllapsedTime: 446.6 seconds
RetCode: 0
Status:   OK  
CheckDir: sojourner.Rcheck
Warnings: 0

Command output

##############################################################################
##############################################################################
###
### Running command:
###
###   F:\biocbuild\bbs-3.15-bioc\R\bin\R.exe CMD check --no-multiarch --install=check:sojourner.install-out.txt --library=F:\biocbuild\bbs-3.15-bioc\R\library --no-vignettes --timings sojourner_1.10.0.tar.gz
###
##############################################################################
##############################################################################


* using log directory 'F:/biocbuild/bbs-3.15-bioc/meat/sojourner.Rcheck'
* using R version 4.2.0 (2022-04-22 ucrt)
* using platform: x86_64-w64-mingw32 (64-bit)
* using session charset: UTF-8
* using option '--no-vignettes'
* checking for file 'sojourner/DESCRIPTION' ... OK
* this is package 'sojourner' version '1.10.0'
* package encoding: UTF-8
* checking package namespace information ... OK
* checking package dependencies ... OK
* checking if this is a source package ... OK
* checking if there is a namespace ... OK
* checking for hidden files and directories ... OK
* checking for portable file names ... OK
* checking whether package 'sojourner' can be installed ... OK
* checking installed package size ... OK
* checking package directory ... OK
* checking 'build' directory ... OK
* checking DESCRIPTION meta-information ... OK
* checking top-level files ... OK
* checking for left-over files ... OK
* checking index information ... OK
* checking package subdirectories ... OK
* checking R files for non-ASCII characters ... OK
* checking R files for syntax errors ... OK
* checking whether the package can be loaded ... OK
* checking whether the package can be loaded with stated dependencies ... OK
* checking whether the package can be unloaded cleanly ... OK
* checking whether the namespace can be loaded with stated dependencies ... OK
* checking whether the namespace can be unloaded cleanly ... OK
* checking dependencies in R code ... OK
* checking S3 generic/method consistency ... OK
* checking replacement functions ... OK
* checking foreign function calls ... OK
* checking R code for possible problems ... OK
* checking Rd files ... OK
* checking Rd metadata ... OK
* checking Rd cross-references ... OK
* checking for missing documentation entries ... OK
* checking for code/documentation mismatches ... OK
* checking Rd \usage sections ... OK
* checking Rd contents ... OK
* checking for unstated dependencies in examples ... OK
* checking files in 'vignettes' ... OK
* checking examples ... OK
Examples with CPU (user + system) or elapsed time > 5s
                                   user system elapsed
plotLocalizations_Density-methods 25.52   0.60   26.11
fitNormDistr-methods              25.58   0.37   25.98
plotTrackOverlay_Dcoef-methods    19.84   0.40   20.25
maskTracks-methods                 8.89   0.22    9.39
plotIndividual_Tracks-methods      7.03   0.26    7.29
Dcoef-methods                      6.86   0.23    7.09
compare_RT_CDF-methods             3.43   0.12   73.65
combineTrackll-methods             2.54   0.08   75.58
* checking for unstated dependencies in 'tests' ... OK
* checking tests ...
  Running 'runTests.R'
 OK
* checking for unstated dependencies in vignettes ... OK
* checking package vignettes in 'inst/doc' ... OK
* checking running R code from vignettes ... SKIPPED
* checking re-building of vignette outputs ... SKIPPED
* checking PDF version of manual ... OK
* DONE

Status: OK


Installation output

sojourner.Rcheck/00install.out

##############################################################################
##############################################################################
###
### Running command:
###
###   F:\biocbuild\bbs-3.15-bioc\R\bin\R.exe CMD INSTALL sojourner
###
##############################################################################
##############################################################################


* installing to library 'F:/biocbuild/bbs-3.15-bioc/R/library'
* installing *source* package 'sojourner' ...
** using staged installation
** R
** inst
** byte-compile and prepare package for lazy loading
** help
*** installing help indices
** building package indices
** installing vignettes
** testing if installed package can be loaded from temporary location
** testing if installed package can be loaded from final location
** testing if installed package keeps a record of temporary installation path
* DONE (sojourner)

Tests output

sojourner.Rcheck/tests/runTests.Rout


R version 4.2.0 (2022-04-22 ucrt) -- "Vigorous Calisthenics"
Copyright (C) 2022 The R Foundation for Statistical Computing
Platform: x86_64-w64-mingw32/x64 (64-bit)

R is free software and comes with ABSOLUTELY NO WARRANTY.
You are welcome to redistribute it under certain conditions.
Type 'license()' or 'licence()' for distribution details.

R is a collaborative project with many contributors.
Type 'contributors()' for more information and
'citation()' on how to cite R or R packages in publications.

Type 'demo()' for some demos, 'help()' for on-line help, or
'help.start()' for an HTML browser interface to help.
Type 'q()' to quit R.

> BiocGenerics:::testPackage("sojourner")

Reading ParticleTracker file:  SWR1_WT_140mW_image6.csv ...

 mage6 read and processed.

Process complete.

Reading ParticleTracker file:  SWR1_WT_140mW_image6.csv ...

 mage6 read and processed.

Process complete.
applying filter, min 5   max Inf 

Reading ParticleTracker file:  SWR1_WT_140mW_image6.csv ...

 mage6 read and processed.

Process complete.
applying filter, min 5   max Inf 
applying filter, min 7   max Inf 

 45 	tracks length > & =	 1
 45 	tracks length > & =	 2
 45 	tracks length > & =	 3
 45 	tracks length > & =	 4
 45 	tracks length > & =	 5
 45 	tracks length > & =	 6

...

Reading ParticleTracker file:  SWR1_WT_140mW_image6.csv ...

 mage6 read and processed.

Process complete.
applying trimmer, min 1   max 20 


RUNIT TEST PROTOCOL -- Fri Jul  8 06:09:18 2022 
*********************************************** 
Number of test functions: 4 
Number of errors: 0 
Number of failures: 0 

 
1 Test Suite : 
sojourner RUnit Tests - 4 test functions, 0 errors, 0 failures
Number of test functions: 4 
Number of errors: 0 
Number of failures: 0 
> 
> proc.time()
   user  system elapsed 
   9.10    0.70    9.76 

Example timings

sojourner.Rcheck/sojourner-Ex.timings

nameusersystemelapsed
Dcoef-methods6.860.237.09
combineTrackll-methods 2.54 0.0875.58
compareFolder-methods0.080.000.08
compare_RT_CDF-methods 3.43 0.1273.65
createTrackll-methods0.020.000.01
dispVariance-methods0.840.020.86
displacementCDF-methods1.670.081.75
dwellTime-methods0.390.000.39
exportTrackll-methods0.070.010.08
filterTrack-methods0.070.000.08
fitNormDistr-methods25.58 0.3725.98
fitRT-methods3.080.163.23
linkSkippedFrames-methods0.090.000.09
maskTracks-methods8.890.229.39
mergeTracks-methods0.020.000.02
msd-methods2.790.092.89
plotIndividual_Tracks-methods7.030.267.29
plotLocalizations_Density-methods25.52 0.6026.11
plotTrack-methods4.580.114.69
plotTrackOverlay_Dcoef-methods19.84 0.4020.25
sojournerGUI-methods000
squareDisp-methods0.080.000.08