| Back to Multiple platform build/check report for BioC 3.15 |
|
This page was generated on 2022-03-18 11:08:42 -0400 (Fri, 18 Mar 2022).
| Hostname | OS | Arch (*) | R version | Installed pkgs |
|---|---|---|---|---|
| nebbiolo1 | Linux (Ubuntu 20.04.4 LTS) | x86_64 | R Under development (unstable) (2022-02-17 r81757) -- "Unsuffered Consequences" | 4334 |
| riesling1 | Windows Server 2019 Standard | x64 | R Under development (unstable) (2021-11-21 r81221) -- "Unsuffered Consequences" | 4097 |
| palomino3 | Windows Server 2022 Datacenter | x64 | R Under development (unstable) (2022-02-17 r81757 ucrt) -- "Unsuffered Consequences" | 4083 |
| merida1 | macOS 10.14.6 Mojave | x86_64 | R Under development (unstable) (2022-03-02 r81842) -- "Unsuffered Consequences" | 4134 |
| Click on any hostname to see more info about the system (e.g. compilers) (*) as reported by 'uname -p', except on Windows and Mac OS X | ||||
|
To the developers/maintainers of the sincell package: - Please allow up to 24 hours (and sometimes 48 hours) for your latest push to git@git.bioconductor.org:packages/sincell.git to reflect on this report. See How and When does the builder pull? When will my changes propagate? here for more information. - Make sure to use the following settings in order to reproduce any error or warning you see on this page. |
| Package 1812/2090 | Hostname | OS / Arch | INSTALL | BUILD | CHECK | BUILD BIN | ||||||||
| sincell 1.27.0 (landing page) Miguel Julia
| nebbiolo1 | Linux (Ubuntu 20.04.4 LTS) / x86_64 | OK | OK | OK | |||||||||
| riesling1 | Windows Server 2019 Standard / x64 | OK | OK | OK | OK | |||||||||
| palomino3 | Windows Server 2022 Datacenter / x64 | OK | OK | OK | OK | |||||||||
| merida1 | macOS 10.14.6 Mojave / x86_64 | OK | OK | OK | OK | |||||||||
| Package: sincell |
| Version: 1.27.0 |
| Command: rm -rf sincell.buildbin-libdir && mkdir sincell.buildbin-libdir && D:\biocbuild\bbs-3.15-bioc\R\bin\R.exe CMD INSTALL --build --library=sincell.buildbin-libdir sincell_1.27.0.tar.gz |
| StartedAt: 2022-03-17 21:40:47 -0400 (Thu, 17 Mar 2022) |
| EndedAt: 2022-03-17 21:42:06 -0400 (Thu, 17 Mar 2022) |
| EllapsedTime: 79.0 seconds |
| RetCode: 0 |
| Status: OK |
| PackageFile: sincell_1.27.0.zip |
| PackageFileSize: 1.361 MiB |
##############################################################################
##############################################################################
###
### Running command:
###
### rm -rf sincell.buildbin-libdir && mkdir sincell.buildbin-libdir && D:\biocbuild\bbs-3.15-bioc\R\bin\R.exe CMD INSTALL --build --library=sincell.buildbin-libdir sincell_1.27.0.tar.gz
###
##############################################################################
##############################################################################
* installing *source* package 'sincell' ...
** using staged installation
** libs
"C:/rtools40/mingw64/bin/"g++ -std=gnu++11 -I"D:/biocbuild/bbs-3.15-bioc/R/include" -DNDEBUG -I'D:/biocbuild/bbs-3.15-bioc/R/library/Rcpp/include' -I"C:/extsoft/include" -O2 -Wall -mfpmath=sse -msse2 -mstackrealign -fno-reorder-blocks-and-partition -c RcppExports.cpp -o RcppExports.o
"C:/rtools40/mingw64/bin/"g++ -std=gnu++11 -I"D:/biocbuild/bbs-3.15-bioc/R/include" -DNDEBUG -I'D:/biocbuild/bbs-3.15-bioc/R/library/Rcpp/include' -I"C:/extsoft/include" -O2 -Wall -mfpmath=sse -msse2 -mstackrealign -fno-reorder-blocks-and-partition -c pseudoreplicatesbymodel.cpp -o pseudoreplicatesbymodel.o
"C:/rtools40/mingw64/bin/"g++ -std=gnu++11 -I"D:/biocbuild/bbs-3.15-bioc/R/include" -DNDEBUG -I'D:/biocbuild/bbs-3.15-bioc/R/library/Rcpp/include' -I"C:/extsoft/include" -O2 -Wall -mfpmath=sse -msse2 -mstackrealign -fno-reorder-blocks-and-partition -c pseudoreplicatesbynoise.cpp -o pseudoreplicatesbynoise.o
"C:/rtools40/mingw64/bin/"g++ -std=gnu++11 -I"D:/biocbuild/bbs-3.15-bioc/R/include" -DNDEBUG -I'D:/biocbuild/bbs-3.15-bioc/R/library/Rcpp/include' -I"C:/extsoft/include" -O2 -Wall -mfpmath=sse -msse2 -mstackrealign -fno-reorder-blocks-and-partition -c pseudoreplicatesbynoise_cv2.cpp -o pseudoreplicatesbynoise_cv2.o
"C:/rtools40/mingw64/bin/"g++ -std=gnu++11 -I"D:/biocbuild/bbs-3.15-bioc/R/include" -DNDEBUG -I'D:/biocbuild/bbs-3.15-bioc/R/library/Rcpp/include' -I"C:/extsoft/include" -O2 -Wall -mfpmath=sse -msse2 -mstackrealign -fno-reorder-blocks-and-partition -c sstalgorithm.cpp -o sstalgorithm.o
sstalgorithm.cpp: In function 'Rcpp::NumericVector sstalgorithm(Rcpp::NumericVector, int, Rcpp::NumericMatrix)':
sstalgorithm.cpp:28:10: warning: 'disty' may be used uninitialized in this function [-Wmaybe-uninitialized]
out[2] = disty;
sstalgorithm.cpp:27:10: warning: 'distx' may be used uninitialized in this function [-Wmaybe-uninitialized]
out[1] = distx;
C:/rtools40/mingw64/bin/g++ -std=gnu++11 -shared -s -static-libgcc -o sincell.dll tmp.def RcppExports.o pseudoreplicatesbymodel.o pseudoreplicatesbynoise.o pseudoreplicatesbynoise_cv2.o sstalgorithm.o -LC:/extsoft/lib/x64 -LC:/extsoft/lib -LD:/biocbuild/bbs-3.15-bioc/R/bin/x64 -lR
installing to D:/biocbuild/bbs-3.15-bioc/meat/sincell.buildbin-libdir/00LOCK-sincell/00new/sincell/libs/x64
** R
** data
** inst
** byte-compile and prepare package for lazy loading
** help
*** installing help indices
converting help for package 'sincell'
finding HTML links ... done
ExpressionMatrix html
f_distance2vector html
geneset.list html
knnalgorithm html
pseudoreplicatesbymodel html
pseudoreplicatesbynoise html
pseudoreplicatesbynoise_cv2 html
sc_AssociationOfCellsHierarchyWithAGeneSet
html
sc_ComparissonOfGraphs html
sc_DimensionalityReductionObj html
sc_GraphBuilderObj html
sc_InSilicoCellsReplicatesObj html
sc_InitializingSincellObject html
sc_StatisticalSupportByGeneSubsampling
html
sc_StatisticalSupportByReplacementWithInSilicoCellsReplicates
html
sc_clusterObj html
sc_distanceObj html
sc_marker2color html
sstalgorithm html
** building package indices
** installing vignettes
** testing if installed package can be loaded from temporary location
** testing if installed package can be loaded from final location
** testing if installed package keeps a record of temporary installation path
* MD5 sums
packaged installation of 'sincell' as sincell_1.27.0.zip
* DONE (sincell)