| Back to Multiple platform build/check report for BioC 3.15 |
|
This page was generated on 2022-03-18 11:08:41 -0400 (Fri, 18 Mar 2022).
| Hostname | OS | Arch (*) | R version | Installed pkgs |
|---|---|---|---|---|
| nebbiolo1 | Linux (Ubuntu 20.04.4 LTS) | x86_64 | R Under development (unstable) (2022-02-17 r81757) -- "Unsuffered Consequences" | 4334 |
| riesling1 | Windows Server 2019 Standard | x64 | R Under development (unstable) (2021-11-21 r81221) -- "Unsuffered Consequences" | 4097 |
| palomino3 | Windows Server 2022 Datacenter | x64 | R Under development (unstable) (2022-02-17 r81757 ucrt) -- "Unsuffered Consequences" | 4083 |
| merida1 | macOS 10.14.6 Mojave | x86_64 | R Under development (unstable) (2022-03-02 r81842) -- "Unsuffered Consequences" | 4134 |
| Click on any hostname to see more info about the system (e.g. compilers) (*) as reported by 'uname -p', except on Windows and Mac OS X | ||||
|
To the developers/maintainers of the sevenC package: - Please allow up to 24 hours (and sometimes 48 hours) for your latest push to git@git.bioconductor.org:packages/sevenC.git to reflect on this report. See How and When does the builder pull? When will my changes propagate? here for more information. - Make sure to use the following settings in order to reproduce any error or warning you see on this page. |
| Package 1786/2090 | Hostname | OS / Arch | INSTALL | BUILD | CHECK | BUILD BIN | ||||||||
| sevenC 1.15.1 (landing page) Jonas Ibn-Salem
| nebbiolo1 | Linux (Ubuntu 20.04.4 LTS) / x86_64 | OK | OK | OK | |||||||||
| riesling1 | Windows Server 2019 Standard / x64 | OK | OK | OK | OK | |||||||||
| palomino3 | Windows Server 2022 Datacenter / x64 | OK | OK | OK | OK | |||||||||
| merida1 | macOS 10.14.6 Mojave / x86_64 | OK | OK | OK | OK | |||||||||
| Package: sevenC |
| Version: 1.15.1 |
| Command: rm -rf sevenC.buildbin-libdir && mkdir sevenC.buildbin-libdir && D:\biocbuild\bbs-3.15-bioc\R\bin\R.exe CMD INSTALL --build --library=sevenC.buildbin-libdir sevenC_1.15.1.tar.gz |
| StartedAt: 2022-03-17 21:39:44 -0400 (Thu, 17 Mar 2022) |
| EndedAt: 2022-03-17 21:41:26 -0400 (Thu, 17 Mar 2022) |
| EllapsedTime: 101.9 seconds |
| RetCode: 0 |
| Status: OK |
| PackageFile: sevenC_1.15.1.zip |
| PackageFileSize: 2.05 MiB |
##############################################################################
##############################################################################
###
### Running command:
###
### rm -rf sevenC.buildbin-libdir && mkdir sevenC.buildbin-libdir && D:\biocbuild\bbs-3.15-bioc\R\bin\R.exe CMD INSTALL --build --library=sevenC.buildbin-libdir sevenC_1.15.1.tar.gz
###
##############################################################################
##############################################################################
* installing *source* package 'sevenC' ...
** using staged installation
** R
** data
*** moving datasets to lazyload DB
** inst
** byte-compile and prepare package for lazy loading
** help
*** installing help indices
converting help for package 'sevenC'
finding HTML links ... done
TFspecificModels html
addCor html
addCovCor html
addCovToGR html
addInteractionSupport html
finding level-2 HTML links ... done
addMotifScore html
addStrandCombination html
cutoffBest10 html
cutoffByTF html
getCisPairs html
getOutOfBound html
modelBest10Avg html
motif.hg19.CTCF html
motif.hg19.CTCF.chr22 html
motif.hg19.CTCF.chr22.cov html
noZeroVar html
parseLoopsRao html
parseLoopsTang html
predLogit html
predLoops html
prepareCisPairs html
sevenC html
slideMean html
** building package indices
** installing vignettes
** testing if installed package can be loaded from temporary location
** testing if installed package can be loaded from final location
** testing if installed package keeps a record of temporary installation path
* MD5 sums
packaged installation of 'sevenC' as sevenC_1.15.1.zip
* DONE (sevenC)