| Back to Multiple platform build/check report for BioC 3.15 |
|
This page was generated on 2022-03-18 11:08:41 -0400 (Fri, 18 Mar 2022).
| Hostname | OS | Arch (*) | R version | Installed pkgs |
|---|---|---|---|---|
| nebbiolo1 | Linux (Ubuntu 20.04.4 LTS) | x86_64 | R Under development (unstable) (2022-02-17 r81757) -- "Unsuffered Consequences" | 4334 |
| riesling1 | Windows Server 2019 Standard | x64 | R Under development (unstable) (2021-11-21 r81221) -- "Unsuffered Consequences" | 4097 |
| palomino3 | Windows Server 2022 Datacenter | x64 | R Under development (unstable) (2022-02-17 r81757 ucrt) -- "Unsuffered Consequences" | 4083 |
| merida1 | macOS 10.14.6 Mojave | x86_64 | R Under development (unstable) (2022-03-02 r81842) -- "Unsuffered Consequences" | 4134 |
| Click on any hostname to see more info about the system (e.g. compilers) (*) as reported by 'uname -p', except on Windows and Mac OS X | ||||
|
To the developers/maintainers of the sesame package: - Please allow up to 24 hours (and sometimes 48 hours) for your latest push to git@git.bioconductor.org:packages/sesame.git to reflect on this report. See How and When does the builder pull? When will my changes propagate? here for more information. - Make sure to use the following settings in order to reproduce any error or warning you see on this page. |
| Package 1783/2090 | Hostname | OS / Arch | INSTALL | BUILD | CHECK | BUILD BIN | ||||||||
| sesame 1.13.36 (landing page) Wanding Zhou
| nebbiolo1 | Linux (Ubuntu 20.04.4 LTS) / x86_64 | OK | OK | OK | |||||||||
| riesling1 | Windows Server 2019 Standard / x64 | OK | OK | OK | OK | |||||||||
| palomino3 | Windows Server 2022 Datacenter / x64 | OK | OK | OK | OK | |||||||||
| merida1 | macOS 10.14.6 Mojave / x86_64 | OK | OK | OK | OK | |||||||||
| Package: sesame |
| Version: 1.13.36 |
| Command: rm -rf sesame.buildbin-libdir && mkdir sesame.buildbin-libdir && D:\biocbuild\bbs-3.15-bioc\R\bin\R.exe CMD INSTALL --build --library=sesame.buildbin-libdir sesame_1.13.36.tar.gz |
| StartedAt: 2022-03-17 21:39:23 -0400 (Thu, 17 Mar 2022) |
| EndedAt: 2022-03-17 21:41:23 -0400 (Thu, 17 Mar 2022) |
| EllapsedTime: 119.8 seconds |
| RetCode: 0 |
| Status: OK |
| PackageFile: sesame_1.13.36.zip |
| PackageFileSize: 16.06 MiB |
##############################################################################
##############################################################################
###
### Running command:
###
### rm -rf sesame.buildbin-libdir && mkdir sesame.buildbin-libdir && D:\biocbuild\bbs-3.15-bioc\R\bin\R.exe CMD INSTALL --build --library=sesame.buildbin-libdir sesame_1.13.36.tar.gz
###
##############################################################################
##############################################################################
* installing *source* package 'sesame' ...
** using staged installation
** R
** inst
** byte-compile and prepare package for lazy loading
** help
*** installing help indices
converting help for package 'sesame'
finding HTML links ... done
BetaValueToMValue html
DML html
DMR html
KYCG_annoProbes html
KYCG_buildGeneDBs html
KYCG_getDBs html
KYCG_listDBGroups html
KYCG_plotBar html
KYCG_plotDot html
KYCG_plotEnrichAll html
KYCG_plotLollipop html
KYCG_plotMeta html
KYCG_plotMetaEnrichment html
KYCG_plotPointRange html
KYCG_plotVolcano html
KYCG_plotWaterfall html
MValueToBetaValue html
SDFcollapseToPfx html
SigDF html
addMask html
aggregateTestEnrichments html
assemble_plots html
binSignals html
bisConversionControl html
checkLevels html
chipAddressToSignal html
cnSegmentation html
compareDatbaseSetOverlap html
compareMouseStrainReference html
compareMouseTissueReference html
controls html
createDBNetwork html
createUCSCtrack html
dataFrame2sesameQC html
dbStats html
deidentify html
detectionIB html
detectionPnegEcdf html
detectionPoobEcdf html
detectionPoobEcdf2 html
diffRefSet html
dmContrasts html
dyeBiasCorr html
dyeBiasCorrMostBalanced html
dyeBiasCorrTypeINorm html
dyeBiasL html
estimateCellComposition html
estimateLeukocyte html
formatVCF html
getAFTypeIbySumAlleles html
getAFs html
getBetas html
getBinCoordinates html
getRefSet html
getSexInfo html
inferEthnicity html
inferInfiniumIChannel html
inferSex html
inferSexKaryotypes html
inferSpecies html
inferStrain html
inferTissue html
initFileSet html
listAvailableMasks html
mapFileSet html
mapToMammal40 html
matchDesign html
meanIntensity html
medianTotalIntensity html
negControls html
neob html
noMasked html
noob html
normControls html
openSesame html
openSesameToFile html
parseGEOsignalMU html
predictAgeHorvath353 html
predictAgeSkinBlood html
predictMouseAgeInMonth html
prefixMask html
prefixMaskButC html
prefixMaskButCG html
prepSesame html
prepSesameList html
print.DMLSummary html
print.fileSet html
probeID_designType html
probeSuccessRate html
qualityMask html
reIdentify html
readFileSet html
readIDATpair html
resetMask html
scrub html
scrubSoft html
sdfPlatform html
sdf_read_table html
sdf_write_table html
searchIDATprefixes html
segmentBins html
sesame-package html
sesameAnno_download html
sesameAnno_get html
sesameAnno_getManifestDF html
sesameData_getAnno html
sesameQC-class html
sesameQC_calcStats html
sesameQC_getStats html
sesameQC_plotBar html
sesameQC_plotBetaByDesign html
sesameQC_plotHeatSNPs html
sesameQC_plotIntensVsBetas html
sesameQC_plotRedGrnQQ html
sesameQC_rankStats html
setMask html
signalMU html
sliceFileSet html
summaryExtractTest html
testEnrichment html
testEnrichmentFisher html
testEnrichmentGSEA html
testEnrichmentSpearman html
totalIntensities html
twoCompsEst2 html
updateSigDF html
visualizeGene html
visualizeProbes html
visualizeRegion html
visualizeSegments html
** building package indices
** installing vignettes
** testing if installed package can be loaded from temporary location
** testing if installed package can be loaded from final location
** testing if installed package keeps a record of temporary installation path
* MD5 sums
packaged installation of 'sesame' as sesame_1.13.36.zip
* DONE (sesame)