| Back to Multiple platform build/check report for BioC 3.15 |
|
This page was generated on 2022-03-18 11:08:37 -0400 (Fri, 18 Mar 2022).
| Hostname | OS | Arch (*) | R version | Installed pkgs |
|---|---|---|---|---|
| nebbiolo1 | Linux (Ubuntu 20.04.4 LTS) | x86_64 | R Under development (unstable) (2022-02-17 r81757) -- "Unsuffered Consequences" | 4334 |
| riesling1 | Windows Server 2019 Standard | x64 | R Under development (unstable) (2021-11-21 r81221) -- "Unsuffered Consequences" | 4097 |
| palomino3 | Windows Server 2022 Datacenter | x64 | R Under development (unstable) (2022-02-17 r81757 ucrt) -- "Unsuffered Consequences" | 4083 |
| merida1 | macOS 10.14.6 Mojave | x86_64 | R Under development (unstable) (2022-03-02 r81842) -- "Unsuffered Consequences" | 4134 |
| Click on any hostname to see more info about the system (e.g. compilers) (*) as reported by 'uname -p', except on Windows and Mac OS X | ||||
|
To the developers/maintainers of the scde package: - Please allow up to 24 hours (and sometimes 48 hours) for your latest push to git@git.bioconductor.org:packages/scde.git to reflect on this report. See How and When does the builder pull? When will my changes propagate? here for more information. - Make sure to use the following settings in order to reproduce any error or warning you see on this page. |
| Package 1728/2090 | Hostname | OS / Arch | INSTALL | BUILD | CHECK | BUILD BIN | ||||||||
| scde 2.23.0 (landing page) Jean Fan
| nebbiolo1 | Linux (Ubuntu 20.04.4 LTS) / x86_64 | OK | OK | WARNINGS | |||||||||
| riesling1 | Windows Server 2019 Standard / x64 | OK | OK | WARNINGS | OK | |||||||||
| palomino3 | Windows Server 2022 Datacenter / x64 | OK | OK | WARNINGS | OK | |||||||||
| merida1 | macOS 10.14.6 Mojave / x86_64 | OK | OK | WARNINGS | OK | |||||||||
| Package: scde |
| Version: 2.23.0 |
| Command: rm -rf scde.buildbin-libdir && mkdir scde.buildbin-libdir && D:\biocbuild\bbs-3.15-bioc\R\bin\R.exe CMD INSTALL --build --library=scde.buildbin-libdir scde_2.23.0.tar.gz |
| StartedAt: 2022-03-17 21:37:49 -0400 (Thu, 17 Mar 2022) |
| EndedAt: 2022-03-17 21:39:09 -0400 (Thu, 17 Mar 2022) |
| EllapsedTime: 79.4 seconds |
| RetCode: 0 |
| Status: OK |
| PackageFile: scde_2.23.0.zip |
| PackageFileSize: 2.512 MiB |
##############################################################################
##############################################################################
###
### Running command:
###
### rm -rf scde.buildbin-libdir && mkdir scde.buildbin-libdir && D:\biocbuild\bbs-3.15-bioc\R\bin\R.exe CMD INSTALL --build --library=scde.buildbin-libdir scde_2.23.0.tar.gz
###
##############################################################################
##############################################################################
* installing *source* package 'scde' ...
** using staged installation
** libs
"C:/rtools40/mingw64/bin/"g++ -std=gnu++11 -I"D:/biocbuild/bbs-3.15-bioc/R/include" -DNDEBUG -I'D:/biocbuild/bbs-3.15-bioc/R/library/Rcpp/include' -I'D:/biocbuild/bbs-3.15-bioc/R/library/RcppArmadillo/include' -I"C:/extsoft/include" -O2 -Wall -mfpmath=sse -msse2 -mstackrealign -fno-reorder-blocks-and-partition -c bwpca.cpp -o bwpca.o
bwpca.cpp: In function 'void set_random_matrix(arma::mat&, arma::mat&)':
bwpca.cpp:23:18: warning: comparison of integer expressions of different signedness: 'int' and 'const uword' {aka 'const unsigned int'} [-Wsign-compare]
for(int j=0;j<target.n_rows;j++) {
~^~~~~~~~~~~~~~
bwpca.cpp:27:18: warning: comparison of integer expressions of different signedness: 'int' and 'const uword' {aka 'const unsigned int'} [-Wsign-compare]
for(int i=0;i<target.n_cols;i++) {
~^~~~~~~~~~~~~~
bwpca.cpp:30:22: warning: comparison of integer expressions of different signedness: 'int' and 'const uword' {aka 'const unsigned int'} [-Wsign-compare]
for(int j=0;j<target.n_rows;j++) {
~^~~~~~~~~~~~~~
bwpca.cpp: In function 'void set_random_matrices(arma::mat&, arma::mat&, arma::mat&, arma::mat&)':
bwpca.cpp:40:18: warning: comparison of integer expressions of different signedness: 'int' and 'const uword' {aka 'const unsigned int'} [-Wsign-compare]
for(int j=0;j<target1.n_rows;j++) {
~^~~~~~~~~~~~~~~
bwpca.cpp:44:18: warning: comparison of integer expressions of different signedness: 'int' and 'const uword' {aka 'const unsigned int'} [-Wsign-compare]
for(int i=0;i<target1.n_cols;i++) {
~^~~~~~~~~~~~~~~
bwpca.cpp:47:22: warning: comparison of integer expressions of different signedness: 'int' and 'const uword' {aka 'const unsigned int'} [-Wsign-compare]
for(int j=0;j<target1.n_rows;j++) {
~^~~~~~~~~~~~~~~
"C:/rtools40/mingw64/bin/"g++ -std=gnu++11 -I"D:/biocbuild/bbs-3.15-bioc/R/include" -DNDEBUG -I'D:/biocbuild/bbs-3.15-bioc/R/library/Rcpp/include' -I'D:/biocbuild/bbs-3.15-bioc/R/library/RcppArmadillo/include' -I"C:/extsoft/include" -O2 -Wall -mfpmath=sse -msse2 -mstackrealign -fno-reorder-blocks-and-partition -c jpmatLogBoot.cpp -o jpmatLogBoot.o
jpmatLogBoot.cpp: In function 'SEXPREC* logBootPosterior(SEXP, SEXP, SEXP, SEXP, SEXP, SEXP, SEXP, SEXP, SEXP, SEXP)':
jpmatLogBoot.cpp:200:24: warning: unused variable 'maxv' [-Wunused-variable]
double maxv=nbp.max(maxij);
^~~~
jpmatLogBoot.cpp: In function 'SEXPREC* logBootBatchPosterior(SEXP, SEXP, SEXP, SEXP, SEXP, SEXP, SEXP, SEXP, SEXP, SEXP, SEXP)':
jpmatLogBoot.cpp:443:10: warning: unused variable 'maxv' [-Wunused-variable]
double maxv=nbp.max(maxij);
^~~~
"C:/rtools40/mingw64/bin/"g++ -std=gnu++11 -I"D:/biocbuild/bbs-3.15-bioc/R/include" -DNDEBUG -I'D:/biocbuild/bbs-3.15-bioc/R/library/Rcpp/include' -I'D:/biocbuild/bbs-3.15-bioc/R/library/RcppArmadillo/include' -I"C:/extsoft/include" -O2 -Wall -mfpmath=sse -msse2 -mstackrealign -fno-reorder-blocks-and-partition -c matSlideMult.cpp -o matSlideMult.o
"C:/rtools40/mingw64/bin/"g++ -std=gnu++11 -I"D:/biocbuild/bbs-3.15-bioc/R/include" -DNDEBUG -I'D:/biocbuild/bbs-3.15-bioc/R/library/Rcpp/include' -I'D:/biocbuild/bbs-3.15-bioc/R/library/RcppArmadillo/include' -I"C:/extsoft/include" -O2 -Wall -mfpmath=sse -msse2 -mstackrealign -fno-reorder-blocks-and-partition -c pagoda.cpp -o pagoda.o
C:/rtools40/mingw64/bin/g++ -std=gnu++11 -shared -s -static-libgcc -o scde.dll tmp.def bwpca.o jpmatLogBoot.o matSlideMult.o pagoda.o -LD:/biocbuild/bbs-3.15-bioc/R/bin/x64 -lRlapack -LD:/biocbuild/bbs-3.15-bioc/R/bin/x64 -lRblas -lgfortran -lm -lquadmath -LC:/extsoft/lib/x64 -LC:/extsoft/lib -LD:/biocbuild/bbs-3.15-bioc/R/bin/x64 -lR
installing to D:/biocbuild/bbs-3.15-bioc/meat/scde.buildbin-libdir/00LOCK-scde/00new/scde/libs/x64
** R
** data
*** moving datasets to lazyload DB
** byte-compile and prepare package for lazy loading
** help
*** installing help indices
converting help for package 'scde'
finding HTML links ... done
ViewPagodaApp-class html
bwpca html
clean.counts html
clean.gos html
es.mef.small html
knn html
knn.error.models html
make.pagoda.app html
o.ifm html
pagoda.cluster.cells html
pagoda.effective.cells html
pagoda.gene.clusters html
pagoda.pathway.wPCA html
pagoda.reduce.loading.redundancy html
pagoda.reduce.redundancy html
pagoda.show.pathways html
pagoda.subtract.aspect html
pagoda.top.aspects html
pagoda.varnorm html
pagoda.view.aspects html
papply html
pollen html
scde html
scde.browse.diffexp html
scde.edff html
scde.error.models html
scde.expression.difference html
scde.expression.magnitude html
scde.expression.prior html
scde.failure.probability html
scde.fit.models.to.reference html
scde.posteriors html
scde.test.gene.expression.difference html
show.app html
view.aspects html
winsorize.matrix html
** building package indices
** installing vignettes
** testing if installed package can be loaded from temporary location
** testing if installed package can be loaded from final location
** testing if installed package keeps a record of temporary installation path
* MD5 sums
packaged installation of 'scde' as scde_2.23.0.zip
* DONE (scde)