| Back to Multiple platform build/check report for BioC 3.15 |
|
This page was generated on 2022-03-18 11:08:38 -0400 (Fri, 18 Mar 2022).
| Hostname | OS | Arch (*) | R version | Installed pkgs |
|---|---|---|---|---|
| nebbiolo1 | Linux (Ubuntu 20.04.4 LTS) | x86_64 | R Under development (unstable) (2022-02-17 r81757) -- "Unsuffered Consequences" | 4334 |
| riesling1 | Windows Server 2019 Standard | x64 | R Under development (unstable) (2021-11-21 r81221) -- "Unsuffered Consequences" | 4097 |
| palomino3 | Windows Server 2022 Datacenter | x64 | R Under development (unstable) (2022-02-17 r81757 ucrt) -- "Unsuffered Consequences" | 4083 |
| merida1 | macOS 10.14.6 Mojave | x86_64 | R Under development (unstable) (2022-03-02 r81842) -- "Unsuffered Consequences" | 4134 |
| Click on any hostname to see more info about the system (e.g. compilers) (*) as reported by 'uname -p', except on Windows and Mac OS X | ||||
|
To the developers/maintainers of the scHOT package: - Please allow up to 24 hours (and sometimes 48 hours) for your latest push to git@git.bioconductor.org:packages/scHOT.git to reflect on this report. See How and When does the builder pull? When will my changes propagate? here for more information. - Make sure to use the following settings in order to reproduce any error or warning you see on this page. |
| Package 1734/2090 | Hostname | OS / Arch | INSTALL | BUILD | CHECK | BUILD BIN | ||||||||
| scHOT 1.7.1 (landing page) Shila Ghazanfar
| nebbiolo1 | Linux (Ubuntu 20.04.4 LTS) / x86_64 | OK | OK | OK | |||||||||
| riesling1 | Windows Server 2019 Standard / x64 | OK | OK | OK | OK | |||||||||
| palomino3 | Windows Server 2022 Datacenter / x64 | OK | OK | OK | OK | |||||||||
| merida1 | macOS 10.14.6 Mojave / x86_64 | OK | OK | OK | OK | |||||||||
| Package: scHOT |
| Version: 1.7.1 |
| Command: D:\biocbuild\bbs-3.15-bioc\R\bin\R.exe CMD check --no-multiarch --install=check:scHOT.install-out.txt --library=D:\biocbuild\bbs-3.15-bioc\R\library --no-vignettes --timings scHOT_1.7.1.tar.gz |
| StartedAt: 2022-03-17 20:12:23 -0400 (Thu, 17 Mar 2022) |
| EndedAt: 2022-03-17 20:19:01 -0400 (Thu, 17 Mar 2022) |
| EllapsedTime: 397.8 seconds |
| RetCode: 0 |
| Status: OK |
| CheckDir: scHOT.Rcheck |
| Warnings: 0 |
##############################################################################
##############################################################################
###
### Running command:
###
### D:\biocbuild\bbs-3.15-bioc\R\bin\R.exe CMD check --no-multiarch --install=check:scHOT.install-out.txt --library=D:\biocbuild\bbs-3.15-bioc\R\library --no-vignettes --timings scHOT_1.7.1.tar.gz
###
##############################################################################
##############################################################################
* using log directory 'D:/biocbuild/bbs-3.15-bioc/meat/scHOT.Rcheck'
* using R Under development (unstable) (2021-11-21 r81221)
* using platform: x86_64-w64-mingw32 (64-bit)
* using session charset: ISO8859-1
* using option '--no-vignettes'
* checking for file 'scHOT/DESCRIPTION' ... OK
* checking extension type ... Package
* this is package 'scHOT' version '1.7.1'
* package encoding: UTF-8
* checking package namespace information ... OK
* checking package dependencies ... OK
* checking if this is a source package ... OK
* checking if there is a namespace ... OK
* checking for hidden files and directories ... OK
* checking for portable file names ... OK
* checking whether package 'scHOT' can be installed ... OK
* checking installed package size ... OK
* checking package directory ... OK
* checking 'build' directory ... OK
* checking DESCRIPTION meta-information ... OK
* checking top-level files ... OK
* checking for left-over files ... OK
* checking index information ... OK
* checking package subdirectories ... OK
* checking R files for non-ASCII characters ... OK
* checking R files for syntax errors ... OK
* checking whether the package can be loaded ... OK
* checking whether the package can be loaded with stated dependencies ... OK
* checking whether the package can be unloaded cleanly ... OK
* checking whether the namespace can be loaded with stated dependencies ... OK
* checking whether the namespace can be unloaded cleanly ... OK
* checking dependencies in R code ... OK
* checking S3 generic/method consistency ... OK
* checking replacement functions ... OK
* checking foreign function calls ... OK
* checking R code for possible problems ... OK
* checking Rd files ... OK
* checking Rd metadata ... OK
* checking Rd cross-references ... OK
* checking for missing documentation entries ... OK
* checking for code/documentation mismatches ... OK
* checking Rd \usage sections ... OK
* checking Rd contents ... OK
* checking for unstated dependencies in examples ... OK
* checking contents of 'data' directory ... OK
* checking data for non-ASCII characters ... OK
* checking LazyData ... OK
* checking data for ASCII and uncompressed saves ... OK
* checking files in 'vignettes' ... OK
* checking examples ... OK
Examples with CPU (user + system) or elapsed time > 5s
user system elapsed
scHOT_estimatePvalues 80.20 0.00 80.41
scHOT 76.00 0.04 76.14
scHOT_performPermutationTest 68.75 0.00 72.12
* checking for unstated dependencies in vignettes ... OK
* checking package vignettes in 'inst/doc' ... OK
* checking running R code from vignettes ... SKIPPED
* checking re-building of vignette outputs ... SKIPPED
* checking PDF version of manual ... OK
* DONE
Status: OK
scHOT.Rcheck/00install.out
##############################################################################
##############################################################################
###
### Running command:
###
### D:\biocbuild\bbs-3.15-bioc\R\bin\R.exe CMD INSTALL scHOT
###
##############################################################################
##############################################################################
* installing to library 'D:/biocbuild/bbs-3.15-bioc/R/library'
* installing *source* package 'scHOT' ...
** using staged installation
** R
** data
*** moving datasets to lazyload DB
** byte-compile and prepare package for lazy loading
** help
*** installing help indices
converting help for package 'scHOT'
finding HTML links ... done
MOB_subset html
liver html
params-set html
plotColouredExpression html
plotEgoNetwork html
plotHigherOrderSequence html
plotOrderedExpression html
positionColData-set html
positionType-set html
scHOT-class html
scHOT html
scHOT_addTestingScaffold html
scHOT_buildFromMatrix html
scHOT_buildFromSCE html
scHOT_calculateGlobalHigherOrderFunction
html
scHOT_calculateHigherOrderTestStatistics
html
scHOT_estimatePvalues html
scHOT_output-set html
scHOT_performPermutationTest html
scHOT_plotPermutationDistributions html
scHOT_setPermutationScaffold html
scHOT_setWeightMatrix html
scHOT_stripOutput html
spatialWeightMatrix html
testingScaffold-set html
thin html
trajectoryWeightMatrix html
weightMatrix-set html
weightedPearson html
weightedSpearman html
weightedVariance html
weightedZIKendall html
weightedZISpearman html
** building package indices
** installing vignettes
** testing if installed package can be loaded from temporary location
** testing if installed package can be loaded from final location
** testing if installed package keeps a record of temporary installation path
* DONE (scHOT)
Making 'packages.html' ... done
scHOT.Rcheck/scHOT-Ex.timings
| name | user | system | elapsed | |
| params-set | 0.21 | 0.01 | 0.23 | |
| plotColouredExpression | 1.07 | 0.07 | 1.13 | |
| plotHigherOrderSequence | 1.36 | 0.11 | 1.47 | |
| positionColData-set | 0.11 | 0.00 | 0.11 | |
| positionType-set | 0.11 | 0.00 | 0.11 | |
| scHOT | 76.00 | 0.04 | 76.14 | |
| scHOT_addTestingScaffold | 0.19 | 0.00 | 0.19 | |
| scHOT_buildFromMatrix | 0.15 | 0.00 | 0.16 | |
| scHOT_buildFromSCE | 0.41 | 0.05 | 0.45 | |
| scHOT_calculateGlobalHigherOrderFunction | 0.27 | 0.00 | 0.27 | |
| scHOT_calculateHigherOrderTestStatistics | 1.00 | 0.01 | 1.01 | |
| scHOT_estimatePvalues | 80.20 | 0.00 | 80.41 | |
| scHOT_output-set | 0.12 | 0.00 | 0.13 | |
| scHOT_performPermutationTest | 68.75 | 0.00 | 72.12 | |
| scHOT_setPermutationScaffold | 0.24 | 0.00 | 0.24 | |
| scHOT_setWeightMatrix | 0.20 | 0.02 | 0.21 | |
| scHOT_stripOutput | 0.15 | 0.00 | 0.16 | |
| spatialWeightMatrix | 0 | 0 | 0 | |
| testingScaffold-set | 0.13 | 0.00 | 0.82 | |
| thin | 0.01 | 0.00 | 0.01 | |
| trajectoryWeightMatrix | 0.02 | 0.00 | 0.02 | |
| weightMatrix-set | 0.31 | 0.01 | 0.45 | |
| weightedPearson | 0 | 0 | 0 | |
| weightedSpearman | 0 | 0 | 0 | |
| weightedVariance | 0 | 0 | 0 | |
| weightedZIKendall | 0 | 0 | 0 | |
| weightedZISpearman | 0 | 0 | 0 | |