| Back to Multiple platform build/check report for BioC 3.15 |
|
This page was generated on 2022-10-19 13:23:41 -0400 (Wed, 19 Oct 2022).
| Hostname | OS | Arch (*) | R version | Installed pkgs |
|---|---|---|---|---|
| nebbiolo1 | Linux (Ubuntu 20.04.5 LTS) | x86_64 | 4.2.1 (2022-06-23) -- "Funny-Looking Kid" | 4386 |
| palomino3 | Windows Server 2022 Datacenter | x64 | 4.2.1 (2022-06-23 ucrt) -- "Funny-Looking Kid" | 4138 |
| merida1 | macOS 10.14.6 Mojave | x86_64 | 4.2.1 (2022-06-23) -- "Funny-Looking Kid" | 4205 |
| Click on any hostname to see more info about the system (e.g. compilers) (*) as reported by 'uname -p', except on Windows and Mac OS X | ||||
|
To the developers/maintainers of the scDblFinder package: - Please allow up to 24 hours (and sometimes 48 hours) for your latest push to git@git.bioconductor.org:packages/scDblFinder.git to reflect on this report. See How and When does the builder pull? When will my changes propagate? for more information. - Make sure to use the following settings in order to reproduce any error or warning you see on this page. |
| Package 1765/2140 | Hostname | OS / Arch | INSTALL | BUILD | CHECK | BUILD BIN | ||||||||
| scDblFinder 1.10.0 (landing page) Pierre-Luc Germain
| nebbiolo1 | Linux (Ubuntu 20.04.5 LTS) / x86_64 | OK | OK | OK | |||||||||
| palomino3 | Windows Server 2022 Datacenter / x64 | OK | OK | OK | OK | |||||||||
| merida1 | macOS 10.14.6 Mojave / x86_64 | OK | OK | OK | OK | |||||||||
| Package: scDblFinder |
| Version: 1.10.0 |
| Command: /Library/Frameworks/R.framework/Resources/bin/R CMD check --install=check:scDblFinder.install-out.txt --library=/Library/Frameworks/R.framework/Resources/library --no-vignettes --timings scDblFinder_1.10.0.tar.gz |
| StartedAt: 2022-10-19 07:37:29 -0400 (Wed, 19 Oct 2022) |
| EndedAt: 2022-10-19 07:47:49 -0400 (Wed, 19 Oct 2022) |
| EllapsedTime: 619.9 seconds |
| RetCode: 0 |
| Status: OK |
| CheckDir: scDblFinder.Rcheck |
| Warnings: 0 |
##############################################################################
##############################################################################
###
### Running command:
###
### /Library/Frameworks/R.framework/Resources/bin/R CMD check --install=check:scDblFinder.install-out.txt --library=/Library/Frameworks/R.framework/Resources/library --no-vignettes --timings scDblFinder_1.10.0.tar.gz
###
##############################################################################
##############################################################################
* using log directory ‘/Users/biocbuild/bbs-3.15-bioc/meat/scDblFinder.Rcheck’
* using R version 4.2.1 (2022-06-23)
* using platform: x86_64-apple-darwin17.0 (64-bit)
* using session charset: UTF-8
* using option ‘--no-vignettes’
* checking for file ‘scDblFinder/DESCRIPTION’ ... OK
* checking extension type ... Package
* this is package ‘scDblFinder’ version ‘1.10.0’
* package encoding: UTF-8
* checking package namespace information ... OK
* checking package dependencies ... OK
* checking if this is a source package ... OK
* checking if there is a namespace ... OK
* checking for hidden files and directories ... OK
* checking for portable file names ... OK
* checking for sufficient/correct file permissions ... OK
* checking whether package ‘scDblFinder’ can be installed ... OK
* checking installed package size ... OK
* checking package directory ... OK
* checking ‘build’ directory ... OK
* checking DESCRIPTION meta-information ... OK
* checking top-level files ... OK
* checking for left-over files ... OK
* checking index information ... OK
* checking package subdirectories ... OK
* checking R files for non-ASCII characters ... OK
* checking R files for syntax errors ... OK
* checking whether the package can be loaded ... OK
* checking whether the package can be loaded with stated dependencies ... OK
* checking whether the package can be unloaded cleanly ... OK
* checking whether the namespace can be loaded with stated dependencies ... OK
* checking whether the namespace can be unloaded cleanly ... OK
* checking dependencies in R code ... OK
* checking S3 generic/method consistency ... OK
* checking replacement functions ... OK
* checking foreign function calls ... OK
* checking R code for possible problems ... NOTE
plotThresholds: no visible binding for global variable ‘threshold’
plotThresholds: no visible binding for global variable ‘value’
plotThresholds: no visible binding for global variable ‘variable’
Undefined global functions or variables:
threshold value variable
* checking Rd files ... OK
* checking Rd metadata ... OK
* checking Rd cross-references ... OK
* checking for missing documentation entries ... OK
* checking for code/documentation mismatches ... OK
* checking Rd \usage sections ... OK
* checking Rd contents ... OK
* checking for unstated dependencies in examples ... OK
* checking files in ‘vignettes’ ... OK
* checking examples ... OK
Examples with CPU (user + system) or elapsed time > 5s
user system elapsed
doubletThresholding 18.025 0.338 19.556
scDblFinder 17.295 0.345 19.355
clusterStickiness 8.734 0.095 9.646
doubletPairwiseEnrichment 7.459 0.045 8.152
computeDoubletDensity 5.174 0.250 5.789
* checking for unstated dependencies in ‘tests’ ... OK
* checking tests ...
Running ‘testthat.R’
OK
* checking for unstated dependencies in vignettes ... OK
* checking package vignettes in ‘inst/doc’ ... OK
* checking running R code from vignettes ... SKIPPED
* checking re-building of vignette outputs ... SKIPPED
* checking PDF version of manual ... OK
* DONE
Status: 1 NOTE
See
‘/Users/biocbuild/bbs-3.15-bioc/meat/scDblFinder.Rcheck/00check.log’
for details.
scDblFinder.Rcheck/00install.out
############################################################################## ############################################################################## ### ### Running command: ### ### /Library/Frameworks/R.framework/Resources/bin/R CMD INSTALL scDblFinder ### ############################################################################## ############################################################################## * installing to library ‘/Library/Frameworks/R.framework/Versions/4.2/Resources/library’ * installing *source* package ‘scDblFinder’ ... ** using staged installation ** R ** inst ** byte-compile and prepare package for lazy loading ** help *** installing help indices ** building package indices ** installing vignettes ** testing if installed package can be loaded from temporary location ** testing if installed package can be loaded from final location ** testing if installed package keeps a record of temporary installation path * DONE (scDblFinder)
scDblFinder.Rcheck/tests/testthat.Rout
R version 4.2.1 (2022-06-23) -- "Funny-Looking Kid"
Copyright (C) 2022 The R Foundation for Statistical Computing
Platform: x86_64-apple-darwin17.0 (64-bit)
R is free software and comes with ABSOLUTELY NO WARRANTY.
You are welcome to redistribute it under certain conditions.
Type 'license()' or 'licence()' for distribution details.
R is a collaborative project with many contributors.
Type 'contributors()' for more information and
'citation()' on how to cite R or R packages in publications.
Type 'demo()' for some demos, 'help()' for on-line help, or
'help.start()' for an HTML browser interface to help.
Type 'q()' to quit R.
> library(testthat)
> library(scDblFinder)
> test_check("scDblFinder")
[ FAIL 0 | WARN 8 | SKIP 0 | PASS 104 ]
[ FAIL 0 | WARN 8 | SKIP 0 | PASS 104 ]
>
> proc.time()
user system elapsed
95.623 2.196 101.211
scDblFinder.Rcheck/scDblFinder-Ex.timings
| name | user | system | elapsed | |
| TFIDF | 0.098 | 0.001 | 0.099 | |
| addDoublets | 1.219 | 0.027 | 1.329 | |
| amulet | 2.367 | 0.082 | 2.576 | |
| amuletFromCounts | 1.112 | 0.005 | 1.226 | |
| clusterStickiness | 8.734 | 0.095 | 9.646 | |
| computeDoubletDensity | 5.174 | 0.250 | 5.789 | |
| createDoublets | 0.995 | 0.005 | 1.036 | |
| cxds2 | 1.163 | 0.025 | 1.250 | |
| directDblClassification | 4.324 | 0.059 | 4.686 | |
| doubletPairwiseEnrichment | 7.459 | 0.045 | 8.152 | |
| doubletThresholding | 18.025 | 0.338 | 19.556 | |
| fastcluster | 1.829 | 0.046 | 1.888 | |
| findDoubletClusters | 2.776 | 0.023 | 2.808 | |
| getArtificialDoublets | 0.007 | 0.000 | 0.006 | |
| getCellPairs | 0.020 | 0.000 | 0.021 | |
| getExpectedDoublets | 0.004 | 0.000 | 0.004 | |
| mockDoubletSCE | 0.979 | 0.003 | 0.987 | |
| propHomotypic | 0.001 | 0.000 | 0.001 | |
| recoverDoublets | 0.225 | 0.003 | 0.230 | |
| scDblFinder | 17.295 | 0.345 | 19.355 | |
| selFeatures | 1.068 | 0.005 | 1.239 | |