| Back to Multiple platform build/check report for BioC 3.15 |
|
This page was generated on 2022-10-19 13:22:14 -0400 (Wed, 19 Oct 2022).
| Hostname | OS | Arch (*) | R version | Installed pkgs |
|---|---|---|---|---|
| nebbiolo1 | Linux (Ubuntu 20.04.5 LTS) | x86_64 | 4.2.1 (2022-06-23) -- "Funny-Looking Kid" | 4386 |
| palomino3 | Windows Server 2022 Datacenter | x64 | 4.2.1 (2022-06-23 ucrt) -- "Funny-Looking Kid" | 4138 |
| merida1 | macOS 10.14.6 Mojave | x86_64 | 4.2.1 (2022-06-23) -- "Funny-Looking Kid" | 4205 |
| Click on any hostname to see more info about the system (e.g. compilers) (*) as reported by 'uname -p', except on Windows and Mac OS X | ||||
|
To the developers/maintainers of the scClassify package: - Please allow up to 24 hours (and sometimes 48 hours) for your latest push to git@git.bioconductor.org:packages/scClassify.git to reflect on this report. See How and When does the builder pull? When will my changes propagate? for more information. - Make sure to use the following settings in order to reproduce any error or warning you see on this page. |
| Package 1762/2140 | Hostname | OS / Arch | INSTALL | BUILD | CHECK | BUILD BIN | ||||||||
| scClassify 1.8.0 (landing page) Yingxin Lin
| nebbiolo1 | Linux (Ubuntu 20.04.5 LTS) / x86_64 | OK | OK | OK | |||||||||
| palomino3 | Windows Server 2022 Datacenter / x64 | OK | OK | OK | OK | |||||||||
| merida1 | macOS 10.14.6 Mojave / x86_64 | OK | OK | OK | OK | |||||||||
| Package: scClassify |
| Version: 1.8.0 |
| Command: F:\biocbuild\bbs-3.15-bioc\R\bin\R.exe CMD check --no-multiarch --install=check:scClassify.install-out.txt --library=F:\biocbuild\bbs-3.15-bioc\R\library --no-vignettes --timings scClassify_1.8.0.tar.gz |
| StartedAt: 2022-10-19 03:53:18 -0400 (Wed, 19 Oct 2022) |
| EndedAt: 2022-10-19 03:59:55 -0400 (Wed, 19 Oct 2022) |
| EllapsedTime: 397.2 seconds |
| RetCode: 0 |
| Status: OK |
| CheckDir: scClassify.Rcheck |
| Warnings: 0 |
##############################################################################
##############################################################################
###
### Running command:
###
### F:\biocbuild\bbs-3.15-bioc\R\bin\R.exe CMD check --no-multiarch --install=check:scClassify.install-out.txt --library=F:\biocbuild\bbs-3.15-bioc\R\library --no-vignettes --timings scClassify_1.8.0.tar.gz
###
##############################################################################
##############################################################################
* using log directory 'F:/biocbuild/bbs-3.15-bioc/meat/scClassify.Rcheck'
* using R version 4.2.1 (2022-06-23 ucrt)
* using platform: x86_64-w64-mingw32 (64-bit)
* using session charset: UTF-8
* using option '--no-vignettes'
* checking for file 'scClassify/DESCRIPTION' ... OK
* checking extension type ... Package
* this is package 'scClassify' version '1.8.0'
* package encoding: UTF-8
* checking package namespace information ... OK
* checking package dependencies ... OK
* checking if this is a source package ... OK
* checking if there is a namespace ... OK
* checking for hidden files and directories ... OK
* checking for portable file names ... OK
* checking whether package 'scClassify' can be installed ... OK
* checking installed package size ... OK
* checking package directory ... OK
* checking 'build' directory ... OK
* checking DESCRIPTION meta-information ... OK
* checking top-level files ... OK
* checking for left-over files ... OK
* checking index information ... OK
* checking package subdirectories ... OK
* checking R files for non-ASCII characters ... OK
* checking R files for syntax errors ... OK
* checking whether the package can be loaded ... OK
* checking whether the package can be loaded with stated dependencies ... OK
* checking whether the package can be unloaded cleanly ... OK
* checking whether the namespace can be loaded with stated dependencies ... OK
* checking whether the namespace can be unloaded cleanly ... OK
* checking dependencies in R code ... OK
* checking S3 generic/method consistency ... OK
* checking replacement functions ... OK
* checking foreign function calls ... OK
* checking R code for possible problems ... OK
* checking Rd files ... OK
* checking Rd metadata ... OK
* checking Rd cross-references ... OK
* checking for missing documentation entries ... OK
* checking for code/documentation mismatches ... OK
* checking Rd \usage sections ... OK
* checking Rd contents ... OK
* checking for unstated dependencies in examples ... OK
* checking contents of 'data' directory ... OK
* checking data for non-ASCII characters ... OK
* checking data for ASCII and uncompressed saves ... OK
* checking files in 'vignettes' ... OK
* checking examples ... OK
Examples with CPU (user + system) or elapsed time > 5s
user system elapsed
runSampleCal 102.02 1.79 102.95
predict_scClassifyJoint 24.35 1.03 24.86
predict_scClassify 14.46 2.08 16.45
scClassify 13.31 0.32 13.44
* checking for unstated dependencies in vignettes ... OK
* checking package vignettes in 'inst/doc' ... OK
* checking running R code from vignettes ... SKIPPED
* checking re-building of vignette outputs ... SKIPPED
* checking PDF version of manual ... OK
* DONE
Status: OK
scClassify.Rcheck/00install.out
############################################################################## ############################################################################## ### ### Running command: ### ### F:\biocbuild\bbs-3.15-bioc\R\bin\R.exe CMD INSTALL scClassify ### ############################################################################## ############################################################################## * installing to library 'F:/biocbuild/bbs-3.15-bioc/R/library' * installing *source* package 'scClassify' ... ** using staged installation ** R ** data ** inst ** byte-compile and prepare package for lazy loading ** help *** installing help indices *** copying figures ** building package indices ** installing vignettes ** testing if installed package can be loaded from temporary location ** testing if installed package can be loaded from final location ** testing if installed package keeps a record of temporary installation path * DONE (scClassify)
scClassify.Rcheck/scClassify-Ex.timings
| name | user | system | elapsed | |
| cellTypeTrain | 0.08 | 0.04 | 0.12 | |
| cellTypeTree | 0.09 | 0.00 | 0.10 | |
| features | 0.09 | 0.00 | 0.10 | |
| getN | 0.18 | 0.00 | 0.17 | |
| learningCurve | 0.09 | 0.00 | 0.09 | |
| model | 0.95 | 0.32 | 1.27 | |
| modelweights | 0.06 | 0.04 | 0.11 | |
| name | 0.13 | 0.02 | 0.14 | |
| plotCellTypeTree | 1.16 | 0.03 | 1.19 | |
| predict_scClassify | 14.46 | 2.08 | 16.45 | |
| predict_scClassifyJoint | 24.35 | 1.03 | 24.86 | |
| runHOPACH | 0.73 | 0.02 | 0.75 | |
| runSampleCal | 102.02 | 1.79 | 102.95 | |
| scClassify | 13.31 | 0.32 | 13.44 | |
| scClassifyTrainModelList | 0.09 | 0.03 | 0.12 | |
| train_scClassify | 2.16 | 0.04 | 2.21 | |