| Back to Multiple platform build/check report for BioC 3.15 |
|
This page was generated on 2022-10-19 13:22:13 -0400 (Wed, 19 Oct 2022).
| Hostname | OS | Arch (*) | R version | Installed pkgs |
|---|---|---|---|---|
| nebbiolo1 | Linux (Ubuntu 20.04.5 LTS) | x86_64 | 4.2.1 (2022-06-23) -- "Funny-Looking Kid" | 4386 |
| palomino3 | Windows Server 2022 Datacenter | x64 | 4.2.1 (2022-06-23 ucrt) -- "Funny-Looking Kid" | 4138 |
| merida1 | macOS 10.14.6 Mojave | x86_64 | 4.2.1 (2022-06-23) -- "Funny-Looking Kid" | 4205 |
| Click on any hostname to see more info about the system (e.g. compilers) (*) as reported by 'uname -p', except on Windows and Mac OS X | ||||
|
To the developers/maintainers of the scAlign package: - Please allow up to 24 hours (and sometimes 48 hours) for your latest push to git@git.bioconductor.org:packages/scAlign.git to reflect on this report. See How and When does the builder pull? When will my changes propagate? for more information. - Make sure to use the following settings in order to reproduce any error or warning you see on this page. |
| Package 1749/2140 | Hostname | OS / Arch | INSTALL | BUILD | CHECK | BUILD BIN | ||||||||
| scAlign 1.10.0 (landing page) Nelson Johansen
| nebbiolo1 | Linux (Ubuntu 20.04.5 LTS) / x86_64 | OK | OK | ERROR | |||||||||
| palomino3 | Windows Server 2022 Datacenter / x64 | OK | OK | ERROR | OK | |||||||||
| merida1 | macOS 10.14.6 Mojave / x86_64 | OK | OK | ERROR | OK | |||||||||
| Package: scAlign |
| Version: 1.10.0 |
| Command: rm -rf scAlign.buildbin-libdir && mkdir scAlign.buildbin-libdir && F:\biocbuild\bbs-3.15-bioc\R\bin\R.exe CMD INSTALL --build --library=scAlign.buildbin-libdir scAlign_1.10.0.tar.gz |
| StartedAt: 2022-10-19 06:31:59 -0400 (Wed, 19 Oct 2022) |
| EndedAt: 2022-10-19 06:32:44 -0400 (Wed, 19 Oct 2022) |
| EllapsedTime: 45.3 seconds |
| RetCode: 0 |
| Status: OK |
| PackageFile: scAlign_1.10.0.zip |
| PackageFileSize: 1023 KiB |
############################################################################## ############################################################################## ### ### Running command: ### ### rm -rf scAlign.buildbin-libdir && mkdir scAlign.buildbin-libdir && F:\biocbuild\bbs-3.15-bioc\R\bin\R.exe CMD INSTALL --build --library=scAlign.buildbin-libdir scAlign_1.10.0.tar.gz ### ############################################################################## ############################################################################## * installing *source* package 'scAlign' ... ** using staged installation ** R ** data ** inst ** byte-compile and prepare package for lazy loading ** help *** installing help indices ** building package indices ** installing vignettes ** testing if installed package can be loaded from temporary location ** testing if installed package can be loaded from final location ** testing if installed package keeps a record of temporary installation path * MD5 sums packaged installation of 'scAlign' as scAlign_1.10.0.zip * DONE (scAlign)