| Back to Multiple platform build/check report for BioC 3.15 |
|
This page was generated on 2022-03-18 11:08:31 -0400 (Fri, 18 Mar 2022).
| Hostname | OS | Arch (*) | R version | Installed pkgs |
|---|---|---|---|---|
| nebbiolo1 | Linux (Ubuntu 20.04.4 LTS) | x86_64 | R Under development (unstable) (2022-02-17 r81757) -- "Unsuffered Consequences" | 4334 |
| riesling1 | Windows Server 2019 Standard | x64 | R Under development (unstable) (2021-11-21 r81221) -- "Unsuffered Consequences" | 4097 |
| palomino3 | Windows Server 2022 Datacenter | x64 | R Under development (unstable) (2022-02-17 r81757 ucrt) -- "Unsuffered Consequences" | 4083 |
| merida1 | macOS 10.14.6 Mojave | x86_64 | R Under development (unstable) (2022-03-02 r81842) -- "Unsuffered Consequences" | 4134 |
| Click on any hostname to see more info about the system (e.g. compilers) (*) as reported by 'uname -p', except on Windows and Mac OS X | ||||
|
To the developers/maintainers of the rnaseqcomp package: - Please allow up to 24 hours (and sometimes 48 hours) for your latest push to git@git.bioconductor.org:packages/rnaseqcomp.git to reflect on this report. See How and When does the builder pull? When will my changes propagate? here for more information. - Make sure to use the following settings in order to reproduce any error or warning you see on this page. |
| Package 1642/2090 | Hostname | OS / Arch | INSTALL | BUILD | CHECK | BUILD BIN | ||||||||
| rnaseqcomp 1.25.0 (landing page) Mingxiang Teng
| nebbiolo1 | Linux (Ubuntu 20.04.4 LTS) / x86_64 | OK | OK | OK | |||||||||
| riesling1 | Windows Server 2019 Standard / x64 | OK | OK | OK | OK | |||||||||
| palomino3 | Windows Server 2022 Datacenter / x64 | OK | OK | OK | OK | |||||||||
| merida1 | macOS 10.14.6 Mojave / x86_64 | OK | OK | OK | OK | |||||||||
| Package: rnaseqcomp |
| Version: 1.25.0 |
| Command: D:\biocbuild\bbs-3.15-bioc\R\bin\R.exe CMD check --no-multiarch --install=check:rnaseqcomp.install-out.txt --library=D:\biocbuild\bbs-3.15-bioc\R\library --no-vignettes --timings rnaseqcomp_1.25.0.tar.gz |
| StartedAt: 2022-03-17 20:06:14 -0400 (Thu, 17 Mar 2022) |
| EndedAt: 2022-03-17 20:06:57 -0400 (Thu, 17 Mar 2022) |
| EllapsedTime: 42.7 seconds |
| RetCode: 0 |
| Status: OK |
| CheckDir: rnaseqcomp.Rcheck |
| Warnings: 0 |
##############################################################################
##############################################################################
###
### Running command:
###
### D:\biocbuild\bbs-3.15-bioc\R\bin\R.exe CMD check --no-multiarch --install=check:rnaseqcomp.install-out.txt --library=D:\biocbuild\bbs-3.15-bioc\R\library --no-vignettes --timings rnaseqcomp_1.25.0.tar.gz
###
##############################################################################
##############################################################################
* using log directory 'D:/biocbuild/bbs-3.15-bioc/meat/rnaseqcomp.Rcheck'
* using R Under development (unstable) (2021-11-21 r81221)
* using platform: x86_64-w64-mingw32 (64-bit)
* using session charset: ISO8859-1
* using option '--no-vignettes'
* checking for file 'rnaseqcomp/DESCRIPTION' ... OK
* this is package 'rnaseqcomp' version '1.25.0'
* checking package namespace information ... OK
* checking package dependencies ... OK
* checking if this is a source package ... OK
* checking if there is a namespace ... OK
* checking for hidden files and directories ... OK
* checking for portable file names ... OK
* checking whether package 'rnaseqcomp' can be installed ... OK
* checking installed package size ... OK
* checking package directory ... OK
* checking 'build' directory ... OK
* checking DESCRIPTION meta-information ... OK
* checking top-level files ... OK
* checking for left-over files ... OK
* checking index information ... OK
* checking package subdirectories ... OK
* checking R files for non-ASCII characters ... OK
* checking R files for syntax errors ... OK
* checking whether the package can be loaded ... OK
* checking whether the package can be loaded with stated dependencies ... OK
* checking whether the package can be unloaded cleanly ... OK
* checking whether the namespace can be loaded with stated dependencies ... OK
* checking whether the namespace can be unloaded cleanly ... OK
* checking dependencies in R code ... OK
* checking S3 generic/method consistency ... OK
* checking replacement functions ... OK
* checking foreign function calls ... OK
* checking R code for possible problems ... NOTE
plot2TX: no visible global function definition for 'lines'
plot2TX: no visible global function definition for 'box'
plot2TX: no visible global function definition for 'legend'
plot2TX : <anonymous>: no visible binding for global variable 'sd'
plot2TX : <anonymous>: no visible global function definition for 'sd'
plotFC: no visible global function definition for 'loess.smooth'
plotFC: no visible global function definition for 'lines'
plotFC: no visible global function definition for 'legend'
plotFC : <anonymous>: no visible global function definition for
'median'
plotFC : <anonymous>: no visible global function definition for 'sd'
plotNE: no visible global function definition for 'lines'
plotNE: no visible global function definition for 'points'
plotNE: no visible global function definition for 'box'
plotNE: no visible global function definition for 'legend'
plotROC: no visible global function definition for 'median'
plotROC: no visible global function definition for 'sd'
plotROC: no visible global function definition for 'lines'
plotROC: no visible global function definition for 'arrows'
plotROC: no visible global function definition for 'abline'
plotROC: no visible global function definition for 'legend'
plotSD : <anonymous>: no visible binding for global variable 'sd'
plotSD: no visible global function definition for 'loess.smooth'
plotSD: no visible global function definition for 'lines'
plotSD: no visible global function definition for 'box'
plotSD: no visible global function definition for 'legend'
plotSD : <anonymous> : <anonymous>: no visible global function
definition for 'median'
plotSD : <anonymous> : <anonymous>: no visible global function
definition for 'mad'
signalCalibrate : <anonymous>: no visible binding for global variable
'median'
signalCalibrate: no visible global function definition for 'median'
Undefined global functions or variables:
abline arrows box legend lines loess.smooth mad median points sd
Consider adding
importFrom("graphics", "abline", "arrows", "box", "legend", "lines",
"points")
importFrom("stats", "loess.smooth", "mad", "median", "sd")
to your NAMESPACE file.
* checking Rd files ... OK
* checking Rd metadata ... OK
* checking Rd cross-references ... OK
* checking for missing documentation entries ... OK
* checking for code/documentation mismatches ... OK
* checking Rd \usage sections ... OK
* checking Rd contents ... OK
* checking for unstated dependencies in examples ... OK
* checking contents of 'data' directory ... OK
* checking data for non-ASCII characters ... OK
* checking data for ASCII and uncompressed saves ... OK
* checking files in 'vignettes' ... OK
* checking examples ... OK
Examples with CPU (user + system) or elapsed time > 5s
user system elapsed
plotROC 5.64 3.53 9.17
* checking for unstated dependencies in vignettes ... OK
* checking package vignettes in 'inst/doc' ... OK
* checking running R code from vignettes ... SKIPPED
* checking re-building of vignette outputs ... SKIPPED
* checking PDF version of manual ... OK
* DONE
Status: 1 NOTE
See
'D:/biocbuild/bbs-3.15-bioc/meat/rnaseqcomp.Rcheck/00check.log'
for details.
rnaseqcomp.Rcheck/00install.out
##############################################################################
##############################################################################
###
### Running command:
###
### D:\biocbuild\bbs-3.15-bioc\R\bin\R.exe CMD INSTALL rnaseqcomp
###
##############################################################################
##############################################################################
* installing to library 'D:/biocbuild/bbs-3.15-bioc/R/library'
* installing *source* package 'rnaseqcomp' ...
** using staged installation
** R
** data
** inst
** byte-compile and prepare package for lazy loading
** help
*** installing help indices
converting help for package 'rnaseqcomp'
finding HTML links ... done
check_rnaseqcomp html
plot2TX html
plotFC html
plotNE html
plotROC html
plotSD html
rnaseqcomp-class html
signalCalibrate html
simdata html
** building package indices
** installing vignettes
** testing if installed package can be loaded from temporary location
** testing if installed package can be loaded from final location
** testing if installed package keeps a record of temporary installation path
* DONE (rnaseqcomp)
Making 'packages.html' ...Warning in packageDescription(i, lib.loc = lib, fields = "Title", encoding = "UTF-8") :
DESCRIPTION file of package 'MassArray' is missing or broken
done
rnaseqcomp.Rcheck/rnaseqcomp-Ex.timings
| name | user | system | elapsed | |
| plot2TX | 0.52 | 0.05 | 0.56 | |
| plotFC | 0.20 | 0.03 | 0.24 | |
| plotNE | 2.92 | 1.00 | 3.93 | |
| plotROC | 5.64 | 3.53 | 9.17 | |
| plotSD | 0.80 | 0.08 | 0.90 | |
| signalCalibrate | 0.11 | 0.02 | 0.13 | |