| Back to Multiple platform build/check report for BioC 3.15 |
|
This page was generated on 2022-03-18 11:08:27 -0400 (Fri, 18 Mar 2022).
| Hostname | OS | Arch (*) | R version | Installed pkgs |
|---|---|---|---|---|
| nebbiolo1 | Linux (Ubuntu 20.04.4 LTS) | x86_64 | R Under development (unstable) (2022-02-17 r81757) -- "Unsuffered Consequences" | 4334 |
| riesling1 | Windows Server 2019 Standard | x64 | R Under development (unstable) (2021-11-21 r81221) -- "Unsuffered Consequences" | 4097 |
| palomino3 | Windows Server 2022 Datacenter | x64 | R Under development (unstable) (2022-02-17 r81757 ucrt) -- "Unsuffered Consequences" | 4083 |
| merida1 | macOS 10.14.6 Mojave | x86_64 | R Under development (unstable) (2022-03-02 r81842) -- "Unsuffered Consequences" | 4134 |
| Click on any hostname to see more info about the system (e.g. compilers) (*) as reported by 'uname -p', except on Windows and Mac OS X | ||||
|
To the developers/maintainers of the recountmethylation package: - Please allow up to 24 hours (and sometimes 48 hours) for your latest push to git@git.bioconductor.org:packages/recountmethylation.git to reflect on this report. See How and When does the builder pull? When will my changes propagate? here for more information. - Make sure to use the following settings in order to reproduce any error or warning you see on this page. |
| Package 1575/2090 | Hostname | OS / Arch | INSTALL | BUILD | CHECK | BUILD BIN | ||||||||
| recountmethylation 1.5.5 (landing page) Sean K Maden
| nebbiolo1 | Linux (Ubuntu 20.04.4 LTS) / x86_64 | OK | OK | WARNINGS | |||||||||
| riesling1 | Windows Server 2019 Standard / x64 | OK | OK | WARNINGS | OK | |||||||||
| palomino3 | Windows Server 2022 Datacenter / x64 | OK | OK | WARNINGS | OK | |||||||||
| merida1 | macOS 10.14.6 Mojave / x86_64 | OK | OK | WARNINGS | OK | |||||||||
| Package: recountmethylation |
| Version: 1.5.5 |
| Command: rm -rf recountmethylation.buildbin-libdir && mkdir recountmethylation.buildbin-libdir && D:\biocbuild\bbs-3.15-bioc\R\bin\R.exe CMD INSTALL --build --library=recountmethylation.buildbin-libdir recountmethylation_1.5.5.tar.gz |
| StartedAt: 2022-03-17 21:32:51 -0400 (Thu, 17 Mar 2022) |
| EndedAt: 2022-03-17 21:34:13 -0400 (Thu, 17 Mar 2022) |
| EllapsedTime: 82.7 seconds |
| RetCode: 0 |
| Status: OK |
| PackageFile: recountmethylation_1.5.5.zip |
| PackageFileSize: 5.453 MiB |
##############################################################################
##############################################################################
###
### Running command:
###
### rm -rf recountmethylation.buildbin-libdir && mkdir recountmethylation.buildbin-libdir && D:\biocbuild\bbs-3.15-bioc\R\bin\R.exe CMD INSTALL --build --library=recountmethylation.buildbin-libdir recountmethylation_1.5.5.tar.gz
###
##############################################################################
##############################################################################
* installing *source* package 'recountmethylation' ...
** using staged installation
** R
** inst
** byte-compile and prepare package for lazy loading
** help
*** installing help indices
converting help for package 'recountmethylation'
finding HTML links ... done
ba html
bactrl html
bathresh html
data_mdpost html
gds_idat2rg html
gds_idatquery html
get_crossreactive_cpgs html
get_fh html
get_qcsignal html
get_rmdl html
get_servermatrix html
getdb html
getrg html
hread html
make_si html
matchds_1to2 html
query_si html
rgse html
servermatrix html
setup_sienv html
smfilt html
** building package indices
** installing vignettes
** testing if installed package can be loaded from temporary location
** testing if installed package can be loaded from final location
** testing if installed package keeps a record of temporary installation path
* MD5 sums
packaged installation of 'recountmethylation' as recountmethylation_1.5.5.zip
* DONE (recountmethylation)