| Back to Multiple platform build/check report for BioC 3.15 |
|
This page was generated on 2022-03-18 11:08:23 -0400 (Fri, 18 Mar 2022).
| Hostname | OS | Arch (*) | R version | Installed pkgs |
|---|---|---|---|---|
| nebbiolo1 | Linux (Ubuntu 20.04.4 LTS) | x86_64 | R Under development (unstable) (2022-02-17 r81757) -- "Unsuffered Consequences" | 4334 |
| riesling1 | Windows Server 2019 Standard | x64 | R Under development (unstable) (2021-11-21 r81221) -- "Unsuffered Consequences" | 4097 |
| palomino3 | Windows Server 2022 Datacenter | x64 | R Under development (unstable) (2022-02-17 r81757 ucrt) -- "Unsuffered Consequences" | 4083 |
| merida1 | macOS 10.14.6 Mojave | x86_64 | R Under development (unstable) (2022-03-02 r81842) -- "Unsuffered Consequences" | 4134 |
| Click on any hostname to see more info about the system (e.g. compilers) (*) as reported by 'uname -p', except on Windows and Mac OS X | ||||
|
To the developers/maintainers of the qcmetrics package: - Please allow up to 24 hours (and sometimes 48 hours) for your latest push to git@git.bioconductor.org:packages/qcmetrics.git to reflect on this report. See How and When does the builder pull? When will my changes propagate? here for more information. - Make sure to use the following settings in order to reproduce any error or warning you see on this page. |
| Package 1502/2090 | Hostname | OS / Arch | INSTALL | BUILD | CHECK | BUILD BIN | ||||||||
| qcmetrics 1.33.0 (landing page) Laurent Gatto
| nebbiolo1 | Linux (Ubuntu 20.04.4 LTS) / x86_64 | OK | OK | OK | |||||||||
| riesling1 | Windows Server 2019 Standard / x64 | OK | OK | OK | OK | |||||||||
| palomino3 | Windows Server 2022 Datacenter / x64 | OK | OK | OK | OK | |||||||||
| merida1 | macOS 10.14.6 Mojave / x86_64 | OK | OK | OK | OK | |||||||||
| Package: qcmetrics |
| Version: 1.33.0 |
| Command: rm -rf qcmetrics.buildbin-libdir && mkdir qcmetrics.buildbin-libdir && D:\biocbuild\bbs-3.15-bioc\R\bin\R.exe CMD INSTALL --build --library=qcmetrics.buildbin-libdir qcmetrics_1.33.0.tar.gz |
| StartedAt: 2022-03-17 21:30:28 -0400 (Thu, 17 Mar 2022) |
| EndedAt: 2022-03-17 21:31:51 -0400 (Thu, 17 Mar 2022) |
| EllapsedTime: 82.2 seconds |
| RetCode: 0 |
| Status: OK |
| PackageFile: qcmetrics_1.33.0.zip |
| PackageFileSize: 4.083 MiB |
##############################################################################
##############################################################################
###
### Running command:
###
### rm -rf qcmetrics.buildbin-libdir && mkdir qcmetrics.buildbin-libdir && D:\biocbuild\bbs-3.15-bioc\R\bin\R.exe CMD INSTALL --build --library=qcmetrics.buildbin-libdir qcmetrics_1.33.0.tar.gz
###
##############################################################################
##############################################################################
* installing *source* package 'qcmetrics' ...
** using staged installation
** R
** data
** inst
** byte-compile and prepare package for lazy loading
** help
*** installing help indices
converting help for package 'qcmetrics'
finding HTML links ... done
Qc2Tex html
QcMetadata-class html
QcMetric-class html
QcMetrics-class html
finding level-2 HTML links ... done
n15qc html
psm html
qcReport-methods html
** building package indices
** installing vignettes
** testing if installed package can be loaded from temporary location
** testing if installed package can be loaded from final location
** testing if installed package keeps a record of temporary installation path
* MD5 sums
packaged installation of 'qcmetrics' as qcmetrics_1.33.0.zip
* DONE (qcmetrics)