| Back to Multiple platform build/check report for BioC 3.15 |
|
This page was generated on 2022-03-18 11:08:22 -0400 (Fri, 18 Mar 2022).
| Hostname | OS | Arch (*) | R version | Installed pkgs |
|---|---|---|---|---|
| nebbiolo1 | Linux (Ubuntu 20.04.4 LTS) | x86_64 | R Under development (unstable) (2022-02-17 r81757) -- "Unsuffered Consequences" | 4334 |
| riesling1 | Windows Server 2019 Standard | x64 | R Under development (unstable) (2021-11-21 r81221) -- "Unsuffered Consequences" | 4097 |
| palomino3 | Windows Server 2022 Datacenter | x64 | R Under development (unstable) (2022-02-17 r81757 ucrt) -- "Unsuffered Consequences" | 4083 |
| merida1 | macOS 10.14.6 Mojave | x86_64 | R Under development (unstable) (2022-03-02 r81842) -- "Unsuffered Consequences" | 4134 |
| Click on any hostname to see more info about the system (e.g. compilers) (*) as reported by 'uname -p', except on Windows and Mac OS X | ||||
|
To the developers/maintainers of the pwOmics package: - Please allow up to 24 hours (and sometimes 48 hours) for your latest push to git@git.bioconductor.org:packages/pwOmics.git to reflect on this report. See How and When does the builder pull? When will my changes propagate? here for more information. - Make sure to use the following settings in order to reproduce any error or warning you see on this page. |
| Package 1499/2090 | Hostname | OS / Arch | INSTALL | BUILD | CHECK | BUILD BIN | ||||||||
| pwOmics 1.27.0 (landing page) Maren Sitte
| nebbiolo1 | Linux (Ubuntu 20.04.4 LTS) / x86_64 | OK | OK | WARNINGS | |||||||||
| riesling1 | Windows Server 2019 Standard / x64 | OK | OK | WARNINGS | OK | |||||||||
| palomino3 | Windows Server 2022 Datacenter / x64 | OK | OK | WARNINGS | OK | |||||||||
| merida1 | macOS 10.14.6 Mojave / x86_64 | OK | OK | WARNINGS | OK | |||||||||
| Package: pwOmics |
| Version: 1.27.0 |
| Command: rm -rf pwOmics.buildbin-libdir && mkdir pwOmics.buildbin-libdir && D:\biocbuild\bbs-3.15-bioc\R\bin\R.exe CMD INSTALL --build --library=pwOmics.buildbin-libdir pwOmics_1.27.0.tar.gz |
| StartedAt: 2022-03-17 21:30:20 -0400 (Thu, 17 Mar 2022) |
| EndedAt: 2022-03-17 21:31:44 -0400 (Thu, 17 Mar 2022) |
| EllapsedTime: 84.7 seconds |
| RetCode: 0 |
| Status: OK |
| PackageFile: pwOmics_1.27.0.zip |
| PackageFileSize: 1.218 MiB |
##############################################################################
##############################################################################
###
### Running command:
###
### rm -rf pwOmics.buildbin-libdir && mkdir pwOmics.buildbin-libdir && D:\biocbuild\bbs-3.15-bioc\R\bin\R.exe CMD INSTALL --build --library=pwOmics.buildbin-libdir pwOmics_1.27.0.tar.gz
###
##############################################################################
##############################################################################
* installing *source* package 'pwOmics' ...
** using staged installation
** R
** data
** inst
** byte-compile and prepare package for lazy loading
** help
*** installing help indices
converting help for package 'pwOmics'
finding HTML links ... done
OmicsExampleData html
PWidentallprots html
PWidentallprotssub html
PWidenttps html
SteinerTree_cons html
TFidentallgenes html
TFidenttps html
addFeedbackLoops html
clusterTimeProfiles html
consDynamicNet html
createBiopaxnew html
createIntIDs html
findSignalingAxes html
findxneighborsoverlap html
findxnextneighbors html
genGenelists html
genGenelistssub html
genIntIDs html
generate_DSSignalingBase html
genfullConsensusGraph html
getAlias_Ensemble html
getAliasfromSTRINGIDs html
getBiopaxModel html
getConsensusSTRINGIDs html
getDS_PWs html
getDS_TFs html
getDS_TGs html
getFCsplines html
getGenesIntersection html
getOmicsDataset html
getOmicsTimepoints html
getOmicsallGeneIDs html
getOmicsallProteinIDs html
getProteinIntersection html
getSTRING_graph html
getTFIntersection html
getUS_PWs html
getUS_TFs html
getUS_regulators html
get_matching_transcripts html
getbipartitegraphInfo html
gettpIntersection html
identPWsofTFs html
identRegulators html
identTFTGsinPWs html
identTFs html
identifyPR html
identifyPWTFTGs html
identifyPWs html
identifyRsofTFs html
identifyTFs html
infoConsensusGraph html
loadGenelists html
loadPWs html
plotConsDynNet html
plotConsensusGraph html
plotConsensusProfiles html
plotTimeProfileClusters html
predictFCvals html
preparePWinfo html
print.OmicsData html
pwIntOmics-package html
readOmics html
readPWdata html
readPhosphodata html
readTFdata html
readTFtargets html
selectPWsofTFs html
staticConsensusNet html
temp_correlations html
** building package indices
** testing if installed package can be loaded from temporary location
** testing if installed package can be loaded from final location
** testing if installed package keeps a record of temporary installation path
* MD5 sums
packaged installation of 'pwOmics' as pwOmics_1.27.0.zip
* DONE (pwOmics)