| Back to Multiple platform build/check report for BioC 3.15 |
|
This page was generated on 2022-04-12 11:08:35 -0400 (Tue, 12 Apr 2022).
| Hostname | OS | Arch (*) | R version | Installed pkgs |
|---|---|---|---|---|
| nebbiolo1 | Linux (Ubuntu 20.04.4 LTS) | x86_64 | R Under development (unstable) (2022-03-17 r81925) -- "Unsuffered Consequences" | 4379 |
| palomino3 | Windows Server 2022 Datacenter | x64 | R Under development (unstable) (2022-03-17 r81925 ucrt) -- "Unsuffered Consequences" | 4127 |
| merida1 | macOS 10.14.6 Mojave | x86_64 | R Under development (unstable) (2022-03-17 r81925) -- "Unsuffered Consequences" | 4190 |
| Click on any hostname to see more info about the system (e.g. compilers) (*) as reported by 'uname -p', except on Windows and Mac OS X | ||||
|
To the developers/maintainers of the pulsedSilac package: - Please allow up to 24 hours (and sometimes 48 hours) for your latest push to git@git.bioconductor.org:packages/pulsedSilac.git to reflect on this report. See How and When does the builder pull? When will my changes propagate? for more information. - Make sure to use the following settings in order to reproduce any error or warning you see on this page. |
| Package 1507/2113 | Hostname | OS / Arch | INSTALL | BUILD | CHECK | BUILD BIN | ||||||||
| pulsedSilac 1.9.1 (landing page) Marc Pagès-Gallego
| nebbiolo1 | Linux (Ubuntu 20.04.4 LTS) / x86_64 | OK | OK | OK | |||||||||
| palomino3 | Windows Server 2022 Datacenter / x64 | OK | OK | OK | OK | |||||||||
| merida1 | macOS 10.14.6 Mojave / x86_64 | OK | OK | OK | OK | |||||||||
| Package: pulsedSilac |
| Version: 1.9.1 |
| Command: rm -rf pulsedSilac.buildbin-libdir && mkdir pulsedSilac.buildbin-libdir && /Users/biocbuild/BBS/utils/build-universal.sh pulsedSilac_1.9.1.tar.gz /Library/Frameworks/R.framework/Resources/bin/R pulsedSilac.buildbin-libdir |
| StartedAt: 2022-04-12 10:35:58 -0400 (Tue, 12 Apr 2022) |
| EndedAt: 2022-04-12 10:36:56 -0400 (Tue, 12 Apr 2022) |
| EllapsedTime: 57.8 seconds |
| RetCode: 0 |
| Status: OK |
| PackageFile: pulsedSilac_1.9.1.tgz |
| PackageFileSize: 3.381 MiB |
############################################################################## ############################################################################## ### ### Running command: ### ### rm -rf pulsedSilac.buildbin-libdir && mkdir pulsedSilac.buildbin-libdir && /Users/biocbuild/BBS/utils/build-universal.sh pulsedSilac_1.9.1.tar.gz /Library/Frameworks/R.framework/Resources/bin/R pulsedSilac.buildbin-libdir ### ############################################################################## ############################################################################## >>>>>>> >>>>>>> INSTALLATION WITH 'R CMD INSTALL --preclean --no-multiarch --library=pulsedSilac.buildbin-libdir pulsedSilac_1.9.1.tar.gz' >>>>>>> * installing *source* package ‘pulsedSilac’ ... ** using staged installation ** R ** data ** inst ** byte-compile and prepare package for lazy loading in method for ‘addMisscleavedPeptides’ with signature ‘"SilacProteinExperiment"’: no definition for class “SilacProteinExperiment” in method for ‘addMisscleavedPeptides’ with signature ‘"SilacPeptideExperiment"’: no definition for class “SilacPeptideExperiment” in method for ‘addMisscleavedPeptides’ with signature ‘"SilacProteomicsExperiment"’: no definition for class “SilacProteomicsExperiment” ** help *** installing help indices ** building package indices ** installing vignettes ** testing if installed package can be loaded from temporary location ** testing if installed package can be loaded from final location ** testing if installed package keeps a record of temporary installation path * DONE (pulsedSilac)