| Back to Multiple platform build/check report for BioC 3.15 |
|
This page was generated on 2022-10-19 13:22:02 -0400 (Wed, 19 Oct 2022).
| Hostname | OS | Arch (*) | R version | Installed pkgs |
|---|---|---|---|---|
| nebbiolo1 | Linux (Ubuntu 20.04.5 LTS) | x86_64 | 4.2.1 (2022-06-23) -- "Funny-Looking Kid" | 4386 |
| palomino3 | Windows Server 2022 Datacenter | x64 | 4.2.1 (2022-06-23 ucrt) -- "Funny-Looking Kid" | 4138 |
| merida1 | macOS 10.14.6 Mojave | x86_64 | 4.2.1 (2022-06-23) -- "Funny-Looking Kid" | 4205 |
| Click on any hostname to see more info about the system (e.g. compilers) (*) as reported by 'uname -p', except on Windows and Mac OS X | ||||
|
To the developers/maintainers of the preprocessCore package: - Please allow up to 24 hours (and sometimes 48 hours) for your latest push to git@git.bioconductor.org:packages/preprocessCore.git to reflect on this report. See How and When does the builder pull? When will my changes propagate? for more information. - Make sure to use the following settings in order to reproduce any error or warning you see on this page. |
| Package 1491/2140 | Hostname | OS / Arch | INSTALL | BUILD | CHECK | BUILD BIN | ||||||||
| preprocessCore 1.58.0 (landing page) Ben Bolstad
| nebbiolo1 | Linux (Ubuntu 20.04.5 LTS) / x86_64 | OK | OK | OK | |||||||||
| palomino3 | Windows Server 2022 Datacenter / x64 | OK | OK | OK | OK | |||||||||
| merida1 | macOS 10.14.6 Mojave / x86_64 | OK | OK | OK | OK | |||||||||
| Package: preprocessCore |
| Version: 1.58.0 |
| Command: F:\biocbuild\bbs-3.15-bioc\R\bin\R.exe CMD check --no-multiarch --install=check:preprocessCore.install-out.txt --library=F:\biocbuild\bbs-3.15-bioc\R\library --no-vignettes --timings preprocessCore_1.58.0.tar.gz |
| StartedAt: 2022-10-19 02:59:37 -0400 (Wed, 19 Oct 2022) |
| EndedAt: 2022-10-19 03:00:11 -0400 (Wed, 19 Oct 2022) |
| EllapsedTime: 33.9 seconds |
| RetCode: 0 |
| Status: OK |
| CheckDir: preprocessCore.Rcheck |
| Warnings: 0 |
############################################################################## ############################################################################## ### ### Running command: ### ### F:\biocbuild\bbs-3.15-bioc\R\bin\R.exe CMD check --no-multiarch --install=check:preprocessCore.install-out.txt --library=F:\biocbuild\bbs-3.15-bioc\R\library --no-vignettes --timings preprocessCore_1.58.0.tar.gz ### ############################################################################## ############################################################################## * using log directory 'F:/biocbuild/bbs-3.15-bioc/meat/preprocessCore.Rcheck' * using R version 4.2.1 (2022-06-23 ucrt) * using platform: x86_64-w64-mingw32 (64-bit) * using session charset: UTF-8 * using option '--no-vignettes' * checking for file 'preprocessCore/DESCRIPTION' ... OK * this is package 'preprocessCore' version '1.58.0' * checking package namespace information ... OK * checking package dependencies ... OK * checking if this is a source package ... OK * checking if there is a namespace ... OK * checking for hidden files and directories ... OK * checking for portable file names ... OK * checking whether package 'preprocessCore' can be installed ... OK * checking installed package size ... OK * checking package directory ... OK * checking DESCRIPTION meta-information ... OK * checking top-level files ... NOTE Found a 'configure.in' file: 'configure.ac' has long been preferred. * checking for left-over files ... OK * checking index information ... OK * checking package subdirectories ... OK * checking R files for non-ASCII characters ... OK * checking R files for syntax errors ... OK * checking whether the package can be loaded ... OK * checking whether the package can be loaded with stated dependencies ... OK * checking whether the package can be unloaded cleanly ... OK * checking whether the namespace can be loaded with stated dependencies ... OK * checking whether the namespace can be unloaded cleanly ... OK * checking dependencies in R code ... OK * checking S3 generic/method consistency ... OK * checking replacement functions ... OK * checking foreign function calls ... OK * checking R code for possible problems ... OK * checking Rd files ... OK * checking Rd metadata ... OK * checking Rd cross-references ... OK * checking for missing documentation entries ... OK * checking for code/documentation mismatches ... OK * checking Rd \usage sections ... OK * checking Rd contents ... OK * checking for unstated dependencies in examples ... OK * checking line endings in shell scripts ... OK * checking line endings in C/C++/Fortran sources/headers ... OK * checking line endings in Makefiles ... OK * checking compilation flags in Makevars ... OK * checking for GNU extensions in Makefiles ... OK * checking for portable use of $(BLAS_LIBS) and $(LAPACK_LIBS) ... OK * checking use of PKG_*FLAGS in Makefiles ... OK * checking compiled code ... NOTE Note: information on .o files for x64 is not available File 'F:/biocbuild/bbs-3.15-bioc/R/library/preprocessCore/libs/x64/preprocessCore.dll': Found 'abort', possibly from 'abort' (C), 'runtime' (Fortran) Compiled code should not call entry points which might terminate R nor write to stdout/stderr instead of to the console, nor use Fortran I/O nor system RNGs. The detected symbols are linked into the code but might come from libraries and not actually be called. See 'Writing portable packages' in the 'Writing R Extensions' manual. * checking examples ... OK * checking for unstated dependencies in 'tests' ... OK * checking tests ... Running 'PLMdtest.R' Running 'qnormtest.R' OK * checking PDF version of manual ... OK * DONE Status: 2 NOTEs See 'F:/biocbuild/bbs-3.15-bioc/meat/preprocessCore.Rcheck/00check.log' for details.
preprocessCore.Rcheck/00install.out
##############################################################################
##############################################################################
###
### Running command:
###
### F:\biocbuild\bbs-3.15-bioc\R\bin\R.exe CMD INSTALL preprocessCore
###
##############################################################################
##############################################################################
* installing to library 'F:/biocbuild/bbs-3.15-bioc/R/library'
* installing *source* package 'preprocessCore' ...
** using staged installation
**********************************************
WARNING: this package has a configure script
It probably needs manual configuration
**********************************************
** libs
gcc -I"F:/biocbuild/bbs-3.15-bioc/R/include" -DNDEBUG -I"C:/rtools42/x86_64-w64-mingw32.static.posix/include" -O2 -Wall -std=gnu99 -mfpmath=sse -msse2 -mstackrealign -c R_colSummarize.c -o R_colSummarize.o
gcc -I"F:/biocbuild/bbs-3.15-bioc/R/include" -DNDEBUG -I"C:/rtools42/x86_64-w64-mingw32.static.posix/include" -O2 -Wall -std=gnu99 -mfpmath=sse -msse2 -mstackrealign -c R_plmd_interfaces.c -o R_plmd_interfaces.o
gcc -I"F:/biocbuild/bbs-3.15-bioc/R/include" -DNDEBUG -I"C:/rtools42/x86_64-w64-mingw32.static.posix/include" -O2 -Wall -std=gnu99 -mfpmath=sse -msse2 -mstackrealign -c R_plmr_interfaces.c -o R_plmr_interfaces.o
gcc -I"F:/biocbuild/bbs-3.15-bioc/R/include" -DNDEBUG -I"C:/rtools42/x86_64-w64-mingw32.static.posix/include" -O2 -Wall -std=gnu99 -mfpmath=sse -msse2 -mstackrealign -c R_rlm_interfaces.c -o R_rlm_interfaces.o
gcc -I"F:/biocbuild/bbs-3.15-bioc/R/include" -DNDEBUG -I"C:/rtools42/x86_64-w64-mingw32.static.posix/include" -O2 -Wall -std=gnu99 -mfpmath=sse -msse2 -mstackrealign -c R_subColSummarize.c -o R_subColSummarize.o
gcc -I"F:/biocbuild/bbs-3.15-bioc/R/include" -DNDEBUG -I"C:/rtools42/x86_64-w64-mingw32.static.posix/include" -O2 -Wall -std=gnu99 -mfpmath=sse -msse2 -mstackrealign -c R_subrcModel_interfaces.c -o R_subrcModel_interfaces.o
R_subrcModel_interfaces.c: In function 'R_sub_rcModelSummarize_medianpolish':
R_subrcModel_interfaces.c:207:11: warning: unused variable 'se' [-Wunused-variable]
207 | double *se;
| ^~
R_subrcModel_interfaces.c:206:11: warning: unused variable 'weights' [-Wunused-variable]
206 | double *weights;
| ^~~~~~~
R_subrcModel_interfaces.c:165:30: warning: unused variable 'buffer2' [-Wunused-variable]
165 | double *results, *buffer, *buffer2;
| ^~~~~~~
R_subrcModel_interfaces.c:165:21: warning: unused variable 'buffer' [-Wunused-variable]
165 | double *results, *buffer, *buffer2;
| ^~~~~~
R_subrcModel_interfaces.c:165:11: warning: unused variable 'results' [-Wunused-variable]
165 | double *results, *buffer, *buffer2;
| ^~~~~~~
R_subrcModel_interfaces.c: In function 'R_sub_rcModelSummarize_plm':
R_subrcModel_interfaces.c:532:10: warning: unused variable 'scale' [-Wunused-variable]
532 | double scale=-1.0;
| ^~~~~
R_subrcModel_interfaces.c:485:30: warning: unused variable 'buffer2' [-Wunused-variable]
485 | double *results, *buffer, *buffer2;
| ^~~~~~~
R_subrcModel_interfaces.c:485:21: warning: unused variable 'buffer' [-Wunused-variable]
485 | double *results, *buffer, *buffer2;
| ^~~~~~
R_subrcModel_interfaces.c:485:11: warning: unused variable 'results' [-Wunused-variable]
485 | double *results, *buffer, *buffer2;
| ^~~~~~~
gcc -I"F:/biocbuild/bbs-3.15-bioc/R/include" -DNDEBUG -I"C:/rtools42/x86_64-w64-mingw32.static.posix/include" -O2 -Wall -std=gnu99 -mfpmath=sse -msse2 -mstackrealign -c avg.c -o avg.o
gcc -I"F:/biocbuild/bbs-3.15-bioc/R/include" -DNDEBUG -I"C:/rtools42/x86_64-w64-mingw32.static.posix/include" -O2 -Wall -std=gnu99 -mfpmath=sse -msse2 -mstackrealign -c avg_log.c -o avg_log.o
gcc -I"F:/biocbuild/bbs-3.15-bioc/R/include" -DNDEBUG -I"C:/rtools42/x86_64-w64-mingw32.static.posix/include" -O2 -Wall -std=gnu99 -mfpmath=sse -msse2 -mstackrealign -c biweight.c -o biweight.o
gcc -I"F:/biocbuild/bbs-3.15-bioc/R/include" -DNDEBUG -I"C:/rtools42/x86_64-w64-mingw32.static.posix/include" -O2 -Wall -std=gnu99 -mfpmath=sse -msse2 -mstackrealign -c init_package.c -o init_package.o
gcc -I"F:/biocbuild/bbs-3.15-bioc/R/include" -DNDEBUG -I"C:/rtools42/x86_64-w64-mingw32.static.posix/include" -O2 -Wall -std=gnu99 -mfpmath=sse -msse2 -mstackrealign -c lm.c -o lm.o
gcc -I"F:/biocbuild/bbs-3.15-bioc/R/include" -DNDEBUG -I"C:/rtools42/x86_64-w64-mingw32.static.posix/include" -O2 -Wall -std=gnu99 -mfpmath=sse -msse2 -mstackrealign -c log_avg.c -o log_avg.o
gcc -I"F:/biocbuild/bbs-3.15-bioc/R/include" -DNDEBUG -I"C:/rtools42/x86_64-w64-mingw32.static.posix/include" -O2 -Wall -std=gnu99 -mfpmath=sse -msse2 -mstackrealign -c log_median.c -o log_median.o
gcc -I"F:/biocbuild/bbs-3.15-bioc/R/include" -DNDEBUG -I"C:/rtools42/x86_64-w64-mingw32.static.posix/include" -O2 -Wall -std=gnu99 -mfpmath=sse -msse2 -mstackrealign -c matrix_functions.c -o matrix_functions.o
gcc -I"F:/biocbuild/bbs-3.15-bioc/R/include" -DNDEBUG -I"C:/rtools42/x86_64-w64-mingw32.static.posix/include" -O2 -Wall -std=gnu99 -mfpmath=sse -msse2 -mstackrealign -c median.c -o median.o
gcc -I"F:/biocbuild/bbs-3.15-bioc/R/include" -DNDEBUG -I"C:/rtools42/x86_64-w64-mingw32.static.posix/include" -O2 -Wall -std=gnu99 -mfpmath=sse -msse2 -mstackrealign -c median_log.c -o median_log.o
gcc -I"F:/biocbuild/bbs-3.15-bioc/R/include" -DNDEBUG -I"C:/rtools42/x86_64-w64-mingw32.static.posix/include" -O2 -Wall -std=gnu99 -mfpmath=sse -msse2 -mstackrealign -c medianpolish.c -o medianpolish.o
gcc -I"F:/biocbuild/bbs-3.15-bioc/R/include" -DNDEBUG -I"C:/rtools42/x86_64-w64-mingw32.static.posix/include" -O2 -Wall -std=gnu99 -mfpmath=sse -msse2 -mstackrealign -c plmd.c -o plmd.o
gcc -I"F:/biocbuild/bbs-3.15-bioc/R/include" -DNDEBUG -I"C:/rtools42/x86_64-w64-mingw32.static.posix/include" -O2 -Wall -std=gnu99 -mfpmath=sse -msse2 -mstackrealign -c plmr.c -o plmr.o
plmr.c:279:13: warning: 'XTWX_R_inv' defined but not used [-Wunused-function]
279 | static void XTWX_R_inv(int *rows, int *cols, double *xtwx){
| ^~~~~~~~~~
plmr.c:152:13: warning: 'XTWX_R' defined but not used [-Wunused-function]
152 | static void XTWX_R(int *rows, int *cols, double *out_weights, double *xtwx){
| ^~~~~~
plmr.c:82:13: warning: 'XTWY_R' defined but not used [-Wunused-function]
82 | static void XTWY_R(int *rows, int *cols, double *out_weights, double *y,double *xtwy){
| ^~~~~~
gcc -I"F:/biocbuild/bbs-3.15-bioc/R/include" -DNDEBUG -I"C:/rtools42/x86_64-w64-mingw32.static.posix/include" -O2 -Wall -std=gnu99 -mfpmath=sse -msse2 -mstackrealign -c psi_fns.c -o psi_fns.o
gcc -I"F:/biocbuild/bbs-3.15-bioc/R/include" -DNDEBUG -I"C:/rtools42/x86_64-w64-mingw32.static.posix/include" -O2 -Wall -std=gnu99 -mfpmath=sse -msse2 -mstackrealign -c qnorm.c -o qnorm.o
qnorm.c: In function 'qnorm_c_determine_target_l':
qnorm.c:1910:7: warning: unused variable 'non_na' [-Wunused-variable]
1910 | int non_na;
| ^~~~~~
qnorm.c:1905:12: warning: unused variable 'j' [-Wunused-variable]
1905 | size_t i,j,row_mean_ind;
| ^
qnorm.c: In function 'qnorm_c_determine_target_via_subset_l':
qnorm.c:2509:7: warning: unused variable 'non_na' [-Wunused-variable]
2509 | int non_na;
| ^~~~~~
qnorm.c:2504:12: warning: unused variable 'j' [-Wunused-variable]
2504 | size_t i,j,row_mean_ind;
| ^
qnorm.c: In function 'using_target_via_subset_part1':
qnorm.c:2725:14: warning: variable 'ind' set but not used [-Wunused-but-set-variable]
2725 | size_t i,j,ind,target_ind;
| ^~~
qnorm.c: In function 'using_target_via_subset_part2':
qnorm.c:2824:11: warning: unused variable 'datvec' [-Wunused-variable]
2824 | double *datvec;
| ^~~~~~
qnorm.c:2823:11: warning: unused variable 'sample_percentiles' [-Wunused-variable]
2823 | double *sample_percentiles;
| ^~~~~~~~~~~~~~~~~~
qnorm.c: In function 'using_target_via_subset':
qnorm.c:2973:11: warning: unused variable 'datvec' [-Wunused-variable]
2973 | double *datvec;
| ^~~~~~
qnorm.c:2972:11: warning: unused variable 'sample_percentiles' [-Wunused-variable]
2972 | double *sample_percentiles;
| ^~~~~~~~~~~~~~~~~~
qnorm.c:2968:7: warning: unused variable 'non_na' [-Wunused-variable]
2968 | int non_na = 0;
| ^~~~~~
qnorm.c:2967:7: warning: unused variable 'targetnon_na' [-Wunused-variable]
2967 | int targetnon_na = targetrows;
| ^~~~~~~~~~~~
qnorm.c:2965:28: warning: unused variable 'target_ind_double_floor' [-Wunused-variable]
2965 | double target_ind_double,target_ind_double_floor;
| ^~~~~~~~~~~~~~~~~~~~~~~
qnorm.c:2965:10: warning: unused variable 'target_ind_double' [-Wunused-variable]
2965 | double target_ind_double,target_ind_double_floor;
| ^~~~~~~~~~~~~~~~~
qnorm.c:2964:10: warning: unused variable 'samplepercentile' [-Wunused-variable]
2964 | double samplepercentile;
| ^~~~~~~~~~~~~~~~
qnorm.c:2963:11: warning: unused variable 'ranks' [-Wunused-variable]
2963 | double *ranks = (double *)Calloc((rows),double);
| ^~~~~
qnorm.c:2961:11: warning: unused variable 'row_mean' [-Wunused-variable]
2961 | double *row_mean = target;
| ^~~~~~~~
qnorm.c:2959:14: warning: unused variable 'dimat' [-Wunused-variable]
2959 | dataitem **dimat;
| ^~~~~
qnorm.c:2957:18: warning: unused variable 'target_ind' [-Wunused-variable]
2957 | size_t i,j,ind,target_ind;
| ^~~~~~~~~~
qnorm.c:2957:14: warning: unused variable 'ind' [-Wunused-variable]
2957 | size_t i,j,ind,target_ind;
| ^~~
qnorm.c:2957:12: warning: unused variable 'j' [-Wunused-variable]
2957 | size_t i,j,ind,target_ind;
| ^
qnorm.c: In function 'R_qnorm_using_target':
qnorm.c:2115:3: warning: 'target_rows' may be used uninitialized in this function [-Wmaybe-uninitialized]
2115 | qnorm_c_using_target_l(Xptr, rows, cols ,targetptr, target_rows);
| ^~~~~~~~~~~~~~~~~~~~~~~~~~~~~~~~~~~~~~~~~~~~~~~~~~~~~~~~~~~~~~~~
qnorm.c: In function 'R_qnorm_using_target_via_subset':
qnorm.c:3242:3: warning: 'target_rows' may be used uninitialized in this function [-Wmaybe-uninitialized]
3242 | qnorm_c_using_target_via_subset_l(Xptr, rows, cols, subsetptr, targetptr, target_rows);
| ^~~~~~~~~~~~~~~~~~~~~~~~~~~~~~~~~~~~~~~~~~~~~~~~~~~~~~~~~~~~~~~~~~~~~~~~~~~~~~~~~~~~~~
gcc -I"F:/biocbuild/bbs-3.15-bioc/R/include" -DNDEBUG -I"C:/rtools42/x86_64-w64-mingw32.static.posix/include" -O2 -Wall -std=gnu99 -mfpmath=sse -msse2 -mstackrealign -c rlm.c -o rlm.o
gcc -I"F:/biocbuild/bbs-3.15-bioc/R/include" -DNDEBUG -I"C:/rtools42/x86_64-w64-mingw32.static.posix/include" -O2 -Wall -std=gnu99 -mfpmath=sse -msse2 -mstackrealign -c rlm_anova.c -o rlm_anova.o
rlm_anova.c: In function 'rlm_fit_anova_given_probe_effects_engine':
rlm_anova.c:1235:10: warning: unused variable 'endprobe' [-Wunused-variable]
1235 | double endprobe;
| ^~~~~~~~
rlm_anova.c: In function 'rlm_compute_se_anova_given_probe_effects':
rlm_anova.c:1426:19: warning: unused variable 'varderivpsi' [-Wunused-variable]
1426 | double vs=0.0,m,varderivpsi=0.0;
| ^~~~~~~~~~~
rlm_anova.c:1426:17: warning: unused variable 'm' [-Wunused-variable]
1426 | double vs=0.0,m,varderivpsi=0.0;
| ^
rlm_anova.c:1426:10: warning: unused variable 'vs' [-Wunused-variable]
1426 | double vs=0.0,m,varderivpsi=0.0;
| ^~
rlm_anova.c:1419:10: warning: unused variable 'scale' [-Wunused-variable]
1419 | double scale=0.0;
| ^~~~~
rlm_anova.c:1418:10: warning: unused variable 'Kappa' [-Wunused-variable]
1418 | double Kappa=0.0; /* A correction factor */
| ^~~~~
rlm_anova.c:1417:10: warning: unused variable 'sumderivpsi' [-Wunused-variable]
1417 | double sumderivpsi=0.0; /* sum of psi'(r_i) */
| ^~~~~~~~~~~
rlm_anova.c:1415:10: warning: unused variable 'sumpsi2' [-Wunused-variable]
1415 | double sumpsi2=0.0; /* sum of psi(r_i)^2 */
| ^~~~~~~
rlm_anova.c:1414:10: warning: unused variable 'k1' [-Wunused-variable]
1414 | double k1 = psi_k; /* was 1.345; */
| ^~
rlm_anova.c: In function 'rlm_wfit_anova_given_probe_effects_engine':
rlm_anova.c:1505:10: warning: unused variable 'endprobe' [-Wunused-variable]
1505 | double endprobe;
| ^~~~~~~~
gcc -I"F:/biocbuild/bbs-3.15-bioc/R/include" -DNDEBUG -I"C:/rtools42/x86_64-w64-mingw32.static.posix/include" -O2 -Wall -std=gnu99 -mfpmath=sse -msse2 -mstackrealign -c rlm_se.c -o rlm_se.o
gcc -I"F:/biocbuild/bbs-3.15-bioc/R/include" -DNDEBUG -I"C:/rtools42/x86_64-w64-mingw32.static.posix/include" -O2 -Wall -std=gnu99 -mfpmath=sse -msse2 -mstackrealign -c rma_background4.c -o rma_background4.o
rma_background4.c: In function 'R_rma_bg_correct':
rma_background4.c:509:12: warning: 'PMcopy' may be used uninitialized in this function [-Wmaybe-uninitialized]
509 | return PMcopy;
| ^~~~~~
gcc -I"F:/biocbuild/bbs-3.15-bioc/R/include" -DNDEBUG -I"C:/rtools42/x86_64-w64-mingw32.static.posix/include" -O2 -Wall -std=gnu99 -mfpmath=sse -msse2 -mstackrealign -c rma_common.c -o rma_common.o
gcc -I"F:/biocbuild/bbs-3.15-bioc/R/include" -DNDEBUG -I"C:/rtools42/x86_64-w64-mingw32.static.posix/include" -O2 -Wall -std=gnu99 -mfpmath=sse -msse2 -mstackrealign -c weightedkerneldensity.c -o weightedkerneldensity.o
gcc -shared -s -static-libgcc -o preprocessCore.dll tmp.def R_colSummarize.o R_plmd_interfaces.o R_plmr_interfaces.o R_rlm_interfaces.o R_subColSummarize.o R_subrcModel_interfaces.o avg.o avg_log.o biweight.o init_package.o lm.o log_avg.o log_median.o matrix_functions.o median.o median_log.o medianpolish.o plmd.o plmr.o psi_fns.o qnorm.o rlm.o rlm_anova.o rlm_se.o rma_background4.o rma_common.o weightedkerneldensity.o -LF:/biocbuild/bbs-3.15-bioc/R/bin/x64 -lRlapack -LF:/biocbuild/bbs-3.15-bioc/R/bin/x64 -lRblas -lgfortran -lm -lquadmath -LC:/rtools42/x86_64-w64-mingw32.static.posix/lib/x64 -LC:/rtools42/x86_64-w64-mingw32.static.posix/lib -LF:/biocbuild/bbs-3.15-bioc/R/bin/x64 -lR
installing to F:/biocbuild/bbs-3.15-bioc/R/library/00LOCK-preprocessCore/00new/preprocessCore/libs/x64
** R
** inst
** byte-compile and prepare package for lazy loading
** help
*** installing help indices
** building package indices
** testing if installed package can be loaded from temporary location
** testing if installed package can be loaded from final location
** testing if installed package keeps a record of temporary installation path
* DONE (preprocessCore)
preprocessCore.Rcheck/tests/PLMdtest.Rout
R version 4.2.1 (2022-06-23 ucrt) -- "Funny-Looking Kid"
Copyright (C) 2022 The R Foundation for Statistical Computing
Platform: x86_64-w64-mingw32/x64 (64-bit)
R is free software and comes with ABSOLUTELY NO WARRANTY.
You are welcome to redistribute it under certain conditions.
Type 'license()' or 'licence()' for distribution details.
R is a collaborative project with many contributors.
Type 'contributors()' for more information and
'citation()' on how to cite R or R packages in publications.
Type 'demo()' for some demos, 'help()' for on-line help, or
'help.start()' for an HTML browser interface to help.
Type 'q()' to quit R.
>
>
> library(preprocessCore)
>
>
> values <- rnorm(100)
> group.labels <- sample(0:4,replace=TRUE, 100)
>
> results <- double(10000)
> ngroups <- 2
>
>
> for (i in 1:10000){
+ values <- rnorm(100,sd=1)
+ values <- values/sd(values)
+ group.labels <- sample(0:(ngroups-1),replace=TRUE, 100)
+ blah <- .C("R_split_test",as.double(values), as.integer(100), as.integer(ngroups), as.integer(group.labels),double(1))
+ results[i] <- blah[[5]]
+ }
>
> plot(sort(results),qchisq(0:9999/10000,ngroups-1))
> lm(qchisq(0:9999/10000,ngroups-1) ~ sort(results))
Call:
lm(formula = qchisq(0:9999/10000, ngroups - 1) ~ sort(results))
Coefficients:
(Intercept) sort(results)
-0.002149 0.989409
>
>
>
> boxplot(values ~ group.labels,ylim=c(-2,2))
>
>
>
> sc <- median(abs(resid(lm(values ~ 1))))/0.6745
> sum((resid(lm(values ~ 1))/sc)^2)/2
[1] 39.53875
> sum((resid(lm(values ~ as.factor(group.labels)))/sc)^2)/2
[1] 38.39565
>
>
> values <- rnorm(100)
> group.labels <- sample(0:4,replace=TRUE, 100)
> values[group.labels == 1] <- values[group.labels == 1] + 0.4
>
>
> blah <- .C("R_split_test",as.double(values), as.integer(100), as.integer(5), as.integer(group.labels),double(1))
>
> boxplot(values ~ group.labels,ylim=c(-2,2))
>
>
>
> library(preprocessCore)
>
> .C("R_test_get_design_matrix",as.integer(4),as.integer(5))
1.00 0.00 0.00 0.00 0.00 1.00 0.00 0.00
1.00 0.00 0.00 0.00 0.00 0.00 1.00 0.00
1.00 0.00 0.00 0.00 0.00 0.00 0.00 1.00
1.00 0.00 0.00 0.00 0.00 -1.00 -1.00 -1.00
0.00 1.00 0.00 0.00 0.00 1.00 0.00 0.00
0.00 1.00 0.00 0.00 0.00 0.00 1.00 0.00
0.00 1.00 0.00 0.00 0.00 0.00 0.00 1.00
0.00 1.00 0.00 0.00 0.00 -1.00 -1.00 -1.00
0.00 0.00 1.00 0.00 0.00 1.00 0.00 0.00
0.00 0.00 1.00 0.00 0.00 0.00 1.00 0.00
0.00 0.00 1.00 0.00 0.00 0.00 0.00 1.00
0.00 0.00 1.00 0.00 0.00 -1.00 -1.00 -1.00
0.00 0.00 0.00 1.00 0.00 1.00 0.00 0.00
0.00 0.00 0.00 1.00 0.00 0.00 1.00 0.00
0.00 0.00 0.00 1.00 0.00 0.00 0.00 1.00
0.00 0.00 0.00 1.00 0.00 -1.00 -1.00 -1.00
0.00 0.00 0.00 0.00 1.00 1.00 0.00 0.00
0.00 0.00 0.00 0.00 1.00 0.00 1.00 0.00
0.00 0.00 0.00 0.00 1.00 0.00 0.00 1.00
0.00 0.00 0.00 0.00 1.00 -1.00 -1.00 -1.00
1.00 0.00 0.00 0.00 0.00 0.00 1.00 0.00 0.00
1.00 0.00 0.00 0.00 0.00 0.00 0.00 1.00 0.00
1.00 0.00 0.00 0.00 0.00 0.00 0.00 0.00 1.00
1.00 0.00 0.00 0.00 0.00 -1.00 -1.00 -1.00 -1.00
0.00 1.00 0.00 0.00 0.00 0.00 1.00 0.00 0.00
0.00 1.00 0.00 0.00 0.00 0.00 0.00 1.00 0.00
0.00 1.00 0.00 0.00 0.00 0.00 0.00 0.00 1.00
0.00 1.00 0.00 0.00 0.00 -1.00 -1.00 -1.00 -1.00
0.00 0.00 1.00 0.00 0.00 1.00 0.00 0.00 0.00
0.00 0.00 1.00 0.00 0.00 0.00 0.00 1.00 0.00
0.00 0.00 1.00 0.00 0.00 0.00 0.00 0.00 1.00
0.00 0.00 1.00 0.00 0.00 -1.00 -1.00 -1.00 -1.00
0.00 0.00 0.00 1.00 0.00 1.00 0.00 0.00 0.00
0.00 0.00 0.00 1.00 0.00 0.00 0.00 1.00 0.00
0.00 0.00 0.00 1.00 0.00 0.00 0.00 0.00 1.00
0.00 0.00 0.00 1.00 0.00 -1.00 -1.00 -1.00 -1.00
0.00 0.00 0.00 0.00 1.00 1.00 0.00 0.00 0.00
0.00 0.00 0.00 0.00 1.00 0.00 0.00 1.00 0.00
0.00 0.00 0.00 0.00 1.00 0.00 0.00 0.00 1.00
0.00 0.00 0.00 0.00 1.00 -1.00 -1.00 -1.00 -1.00
1.00 0.00 0.00 0.00 0.00 0.00 1.00 0.00 0.00 0.00
1.00 0.00 0.00 0.00 0.00 0.00 0.00 1.00 0.00 0.00
1.00 0.00 0.00 0.00 0.00 0.00 0.00 0.00 1.00 0.00
1.00 0.00 0.00 0.00 0.00 -1.00 -1.00 -1.00 -1.00 -1.00
0.00 1.00 0.00 0.00 0.00 0.00 1.00 0.00 0.00 0.00
0.00 1.00 0.00 0.00 0.00 0.00 0.00 1.00 0.00 0.00
0.00 1.00 0.00 0.00 0.00 0.00 0.00 0.00 1.00 0.00
0.00 1.00 0.00 0.00 0.00 -1.00 -1.00 -1.00 -1.00 -1.00
0.00 0.00 1.00 0.00 0.00 1.00 0.00 0.00 0.00 0.00
0.00 0.00 1.00 0.00 0.00 0.00 0.00 1.00 0.00 0.00
0.00 0.00 1.00 0.00 0.00 0.00 0.00 0.00 1.00 0.00
0.00 0.00 1.00 0.00 0.00 0.00 0.00 0.00 0.00 1.00
0.00 0.00 0.00 1.00 0.00 1.00 0.00 0.00 0.00 0.00
0.00 0.00 0.00 1.00 0.00 0.00 0.00 1.00 0.00 0.00
0.00 0.00 0.00 1.00 0.00 0.00 0.00 0.00 1.00 0.00
0.00 0.00 0.00 1.00 0.00 0.00 0.00 0.00 0.00 1.00
0.00 0.00 0.00 0.00 1.00 1.00 0.00 0.00 0.00 0.00
0.00 0.00 0.00 0.00 1.00 0.00 0.00 1.00 0.00 0.00
0.00 0.00 0.00 0.00 1.00 0.00 0.00 0.00 1.00 0.00
0.00 0.00 0.00 0.00 1.00 0.00 0.00 0.00 0.00 1.00
[[1]]
[1] 4
[[2]]
[1] 5
>
>
>
> chips <- as.factor(rep(c(1,2,3,4,5,6),c(5,5,5,5,5,5)))
> probes <- rep(c(1,3,4,5,6),6)
>
> probes[c(1,6,11)] <- 2
> ##probes[24 + c(8,16,24)] <- 10
> probes <- as.factor(probes)
>
>
> model.matrix(~ -1 + probes)%*%contr.sum(6)
[,1] [,2] [,3] [,4] [,5]
1 0 1 0 0 0
2 0 0 1 0 0
3 0 0 0 1 0
4 0 0 0 0 1
5 -1 -1 -1 -1 -1
6 0 1 0 0 0
7 0 0 1 0 0
8 0 0 0 1 0
9 0 0 0 0 1
10 -1 -1 -1 -1 -1
11 0 1 0 0 0
12 0 0 1 0 0
13 0 0 0 1 0
14 0 0 0 0 1
15 -1 -1 -1 -1 -1
16 1 0 0 0 0
17 0 0 1 0 0
18 0 0 0 1 0
19 0 0 0 0 1
20 -1 -1 -1 -1 -1
21 1 0 0 0 0
22 0 0 1 0 0
23 0 0 0 1 0
24 0 0 0 0 1
25 -1 -1 -1 -1 -1
26 1 0 0 0 0
27 0 0 1 0 0
28 0 0 0 1 0
29 0 0 0 0 1
30 -1 -1 -1 -1 -1
>
>
> probes <- rep(c(1,3,4,5,6),6)
>
> probes[c(1,6,11)] <- 2
> probes[c(20,25,30)] <- 7
> probes <- as.factor(probes)
> model.matrix(~ -1 + probes)%*%contr.sum(7)
[,1] [,2] [,3] [,4] [,5] [,6]
1 0 1 0 0 0 0
2 0 0 1 0 0 0
3 0 0 0 1 0 0
4 0 0 0 0 1 0
5 0 0 0 0 0 1
6 0 1 0 0 0 0
7 0 0 1 0 0 0
8 0 0 0 1 0 0
9 0 0 0 0 1 0
10 0 0 0 0 0 1
11 0 1 0 0 0 0
12 0 0 1 0 0 0
13 0 0 0 1 0 0
14 0 0 0 0 1 0
15 0 0 0 0 0 1
16 1 0 0 0 0 0
17 0 0 1 0 0 0
18 0 0 0 1 0 0
19 0 0 0 0 1 0
20 -1 -1 -1 -1 -1 -1
21 1 0 0 0 0 0
22 0 0 1 0 0 0
23 0 0 0 1 0 0
24 0 0 0 0 1 0
25 -1 -1 -1 -1 -1 -1
26 1 0 0 0 0 0
27 0 0 1 0 0 0
28 0 0 0 1 0 0
29 0 0 0 0 1 0
30 -1 -1 -1 -1 -1 -1
>
>
>
>
> probes <- rep(c(1,3,4,5,6),6)
>
> probes[c(1,6,11)] <- 2
> probes[c(5,10,15)] <- 7
> probes <- as.factor(probes)
> model.matrix(~ -1 + probes)%*%contr.sum(7)
[,1] [,2] [,3] [,4] [,5] [,6]
1 0 1 0 0 0 0
2 0 0 1 0 0 0
3 0 0 0 1 0 0
4 0 0 0 0 1 0
5 -1 -1 -1 -1 -1 -1
6 0 1 0 0 0 0
7 0 0 1 0 0 0
8 0 0 0 1 0 0
9 0 0 0 0 1 0
10 -1 -1 -1 -1 -1 -1
11 0 1 0 0 0 0
12 0 0 1 0 0 0
13 0 0 0 1 0 0
14 0 0 0 0 1 0
15 -1 -1 -1 -1 -1 -1
16 1 0 0 0 0 0
17 0 0 1 0 0 0
18 0 0 0 1 0 0
19 0 0 0 0 1 0
20 0 0 0 0 0 1
21 1 0 0 0 0 0
22 0 0 1 0 0 0
23 0 0 0 1 0 0
24 0 0 0 0 1 0
25 0 0 0 0 0 1
26 1 0 0 0 0 0
27 0 0 1 0 0 0
28 0 0 0 1 0 0
29 0 0 0 0 1 0
30 0 0 0 0 0 1
>
>
>
> probes <- rep(c(1,3,4,5,6),6)
>
> probes[c(1,6,11)] <- 2
> probes[1+c(1,6,11)] <- 8
> probes[2+c(1,6,11)] <- 9
> probes[3+c(1,6,11)] <- 10
> probes[c(5,10,15)] <- 7
> probes <- as.factor(probes)
> model.matrix(~ -1 + probes)%*%contr.sum(10)
[,1] [,2] [,3] [,4] [,5] [,6] [,7] [,8] [,9]
1 0 1 0 0 0 0 0 0 0
2 0 0 0 0 0 0 0 1 0
3 0 0 0 0 0 0 0 0 1
4 -1 -1 -1 -1 -1 -1 -1 -1 -1
5 0 0 0 0 0 0 1 0 0
6 0 1 0 0 0 0 0 0 0
7 0 0 0 0 0 0 0 1 0
8 0 0 0 0 0 0 0 0 1
9 -1 -1 -1 -1 -1 -1 -1 -1 -1
10 0 0 0 0 0 0 1 0 0
11 0 1 0 0 0 0 0 0 0
12 0 0 0 0 0 0 0 1 0
13 0 0 0 0 0 0 0 0 1
14 -1 -1 -1 -1 -1 -1 -1 -1 -1
15 0 0 0 0 0 0 1 0 0
16 1 0 0 0 0 0 0 0 0
17 0 0 1 0 0 0 0 0 0
18 0 0 0 1 0 0 0 0 0
19 0 0 0 0 1 0 0 0 0
20 0 0 0 0 0 1 0 0 0
21 1 0 0 0 0 0 0 0 0
22 0 0 1 0 0 0 0 0 0
23 0 0 0 1 0 0 0 0 0
24 0 0 0 0 1 0 0 0 0
25 0 0 0 0 0 1 0 0 0
26 1 0 0 0 0 0 0 0 0
27 0 0 1 0 0 0 0 0 0
28 0 0 0 1 0 0 0 0 0
29 0 0 0 0 1 0 0 0 0
30 0 0 0 0 0 1 0 0 0
>
>
>
>
>
>
>
>
>
> true.probes <- c(4,3,2,1,-1,-2,-3,-4)
>
> true.chips <- c(8,9,10,11,12,13)
>
>
> y <- outer(true.probes,true.chips,"+")
>
>
>
> estimate.coefficients <- function(y){
+
+
+ colmean <- apply(y,2,mean)
+
+ y <- sweep(y,2,FUN="-",colmean)
+
+ rowmean <- apply(y,1,mean)
+ y <- sweep(y,1,FUN="-",rowmean)
+
+
+ list(y,colmean,rowmean)
+ }
> estimate.coefficients(y)
[[1]]
[,1] [,2] [,3] [,4] [,5] [,6]
[1,] 0 0 0 0 0 0
[2,] 0 0 0 0 0 0
[3,] 0 0 0 0 0 0
[4,] 0 0 0 0 0 0
[5,] 0 0 0 0 0 0
[6,] 0 0 0 0 0 0
[7,] 0 0 0 0 0 0
[8,] 0 0 0 0 0 0
[[2]]
[1] 8 9 10 11 12 13
[[3]]
[1] 4 3 2 1 -1 -2 -3 -4
>
>
>
> y <- outer(true.probes,true.chips,"+")
>
>
> estimate.coefficients(y)
[[1]]
[,1] [,2] [,3] [,4] [,5] [,6]
[1,] 0 0 0 0 0 0
[2,] 0 0 0 0 0 0
[3,] 0 0 0 0 0 0
[4,] 0 0 0 0 0 0
[5,] 0 0 0 0 0 0
[6,] 0 0 0 0 0 0
[7,] 0 0 0 0 0 0
[8,] 0 0 0 0 0 0
[[2]]
[1] 8 9 10 11 12 13
[[3]]
[1] 4 3 2 1 -1 -2 -3 -4
>
>
>
>
> y2 <- sweep(y,2,FUN="-",apply(y,2,mean))
>
>
>
> c(3.875, 2.875, 1.875, 0.875,
+ -1.125, -2.125, -3.125, -4, -2.25)
[1] 3.875 2.875 1.875 0.875 -1.125 -2.125 -3.125 -4.000 -2.250
>
>
>
>
> cp <- rep(c(1,2,3,4,5,6),rep(8,6))
> pr <- rep(c(1,2,3,4,5,6,7,8),6)
>
>
> pr[c(32,40,48)] <- 9
>
>
>
>
> true.probes <- c(4,3,2,1,-1,-2,-3,-4)
>
> true.chips <- c(8,9,10,11,12,10)
>
>
> y <- outer(true.probes,true.chips,"+") + rnorm(48,0,0.1)
>
> y[8,4:6] <- c(11,12,10)+2 + rnorm(3,0,0.1)
>
>
> lm(as.vector(y) ~ -1 + as.factor(cp) + C(as.factor(pr),"contr.sum"))
Call:
lm(formula = as.vector(y) ~ -1 + as.factor(cp) + C(as.factor(pr),
"contr.sum"))
Coefficients:
as.factor(cp)1 as.factor(cp)2
8.2948 9.2764
as.factor(cp)3 as.factor(cp)4
10.2251 11.1836
as.factor(cp)5 as.factor(cp)6
12.2058 10.2248
C(as.factor(pr), "contr.sum")1 C(as.factor(pr), "contr.sum")2
3.7654 2.7930
C(as.factor(pr), "contr.sum")3 C(as.factor(pr), "contr.sum")4
1.7842 0.7713
C(as.factor(pr), "contr.sum")5 C(as.factor(pr), "contr.sum")6
-1.2337 -2.2154
C(as.factor(pr), "contr.sum")7 C(as.factor(pr), "contr.sum")8
-3.2351 -4.2718
>
>
> matplot(y,type="l")
> matplot(matrix(fitted( lm(as.vector(y) ~ -1 + as.factor(cp) +
+ C(as.factor(pr),"contr.sum"))),ncol=6),type="l")
>
>
> library(preprocessCore)
> true.probes <- c(4,3,2,1,-1,-2,-3,-4)
>
> true.chips <- c(8,9,10,11,12,10)
>
> y <- outer(true.probes,true.chips,"+") + rnorm(48,0,0.25)
>
> y[8,4:6] <- c(11,12,10)+ 2.5 + rnorm(3,0,0.25)
> y[5,4:6] <- c(11,12,10)+-2.5 + rnorm(3,0,0.25)
>
>
>
> ###.C("plmd_fit_R", as.double(y), as.integer(8), as.integer(6),
> ### as.integer(2), as.integer(c(1,1,1,2,2,2) - 1),
> ### double(6 +2*8),
> ### double(48),
> ### double(48))
>
> ###matplot(matrix(.C("plmd_fit_R", as.double(y), as.integer(8), as.integer(6),
> ### as.integer(2), as.integer(c(1,1,1,2,2,2) - 1),
> ### double(6 +2*8),
> ### double(48),
> ### double(48))[[7]],ncol=6))
> ###
>
>
> ##.Call("R_plmd_model",y,0,1.3345,as.integer(c(1,1,1,2,2,2) - 1),as.integer(2))
> rcModelPLM(y)
$Estimates
[1] 8.0481468 9.2395285 10.3874581 11.3520239 12.2977264 10.5766673
[7] 3.7144113 2.6979214 1.7660810 0.6610567 -1.9919561 -2.4043473
[13] -3.3098495 -1.1333175
$Weights
[,1] [,2] [,3] [,4] [,5] [,6]
[1,] 1.0000000 1.0000000 1.0000000 1.0000000 1.0000000 0.6839382
[2,] 1.0000000 1.0000000 1.0000000 1.0000000 1.0000000 1.0000000
[3,] 1.0000000 1.0000000 1.0000000 1.0000000 1.0000000 1.0000000
[4,] 1.0000000 1.0000000 1.0000000 1.0000000 1.0000000 1.0000000
[5,] 0.4415318 0.3965603 0.5589785 0.4069260 1.0000000 0.2208152
[6,] 1.0000000 1.0000000 1.0000000 1.0000000 1.0000000 1.0000000
[7,] 1.0000000 1.0000000 0.7356421 1.0000000 1.0000000 1.0000000
[8,] 0.1286136 0.1075657 0.1092734 0.1103998 0.1085215 0.1254306
$Residuals
[,1] [,2] [,3] [,4] [,5] [,6]
[1,] -0.12464174 0.19005163 0.001748574 0.12143561 0.17946323 -0.53814407
[2,] -0.03879841 0.22511615 0.229063854 -0.15288884 -0.21966788 -0.04282487
[3,] 0.13595152 -0.35000729 0.013863575 -0.14775871 0.21212458 0.13582633
[4,] 0.11190035 -0.20130204 0.055856183 0.28668321 -0.18968500 -0.06345271
[5,] 0.83329001 0.92782278 0.658140778 -0.90476802 -0.36745636 -1.66708762
[6,] -0.06881697 -0.01868273 0.067703203 -0.02666340 -0.02313758 0.06959747
[7,] -0.01546367 0.15494147 -0.500333468 -0.08068749 0.04030036 0.26897568
[8,] -2.86171239 -3.42167476 -3.368208913 3.33382302 3.39157450 2.93432109
$StdErrors
[1] 0.2234000 0.2252492 0.2261196 0.2249119 0.2155720 0.2333106 0.2271333
[8] 0.2224966 0.2224966 0.2224966 0.2946483 0.2224966 0.2264230 0.5759870
$Scale
[1] 0.2736458
> rcModelPLMd(y,c(1,1,1,2,2,2))
$Estimates
[1] 7.7577285 8.9277218 10.0425220 11.0296232 12.0336846 10.1603639
[7] 4.0475735 3.0308054 2.1165342 0.9776831 -0.8698179 -2.5743688
[13] -2.0793628 -2.9879140 -4.0819702 2.4208374
$Weights
[,1] [,2] [,3] [,4] [,5] [,6]
[1,] 1.0000000 1.0000000 1.0000000 1.0000000 1.0000000 0.5183474
[2,] 1.0000000 1.0000000 0.9781305 1.0000000 0.8174406 1.0000000
[3,] 1.0000000 0.6068162 1.0000000 1.0000000 1.0000000 1.0000000
[4,] 1.0000000 1.0000000 1.0000000 0.8064925 0.9734011 1.0000000
[5,] 1.0000000 1.0000000 1.0000000 1.0000000 0.4923229 0.3528980
[6,] 1.0000000 1.0000000 1.0000000 1.0000000 1.0000000 1.0000000
[7,] 1.0000000 1.0000000 0.4941012 1.0000000 1.0000000 0.6490683
[8,] 0.6249641 1.0000000 1.0000000 1.0000000 1.0000000 1.0000000
$Residuals
[,1] [,2] [,3] [,4] [,5] [,6]
[1,] -0.16738578 0.1686961 0.013522395 1.106740e-01 0.11034277 -0.45500285
[2,] -0.08126422 0.2040389 0.241115908 -1.633722e-01 -0.28851011 0.04059458
[3,] 0.07591651 -0.3886538 0.008346423 -1.758113e-01 0.12571314 0.20167658
[4,] 0.08569217 -0.2061217 0.084165867 2.924575e-01 -0.24226960 0.03622438
[5,] 0.00157003 0.1174913 -0.119061344 4.527887e-05 0.47899805 -0.66837153
[6,] -0.10338324 -0.0318605 0.087654783 -2.924720e-02 -0.08408029 0.16091645
[7,] -0.04698099 0.1448127 -0.477332925 -8.022234e-02 -0.01759338 0.36334362
[8,] 0.37735850 -0.1612154 -0.074620159 1.020689e-01 0.10146144 -0.20353029
$StdErrors
[1] 0.08972439 0.08988222 0.09839441 0.08900772 0.10766958 0.10768754
[7] 0.09844593 0.10953912 0.09953885 0.11139438 0.12767277 0.21591096
[13] 0.09074273 0.10969042 0.15578484 0.00000000
$WasSplit
[1] 0 0 0 0 1 0 0 1
>
> ###R_plmd_model(SEXP Y, SEXP PsiCode, SEXP PsiK, SEXP Groups, SEXP Ngroups)
>
>
>
>
>
> pr[seq(3,48,8)][1:3] <- 10
>
> y[seq(3,48,8)][1:3] <- c(8,9,10) -3 + rnorm(3,0,0.1)
> lm(as.vector(y) ~ -1 + as.factor(cp) + C(as.factor(pr),"contr.sum"))
Call:
lm(formula = as.vector(y) ~ -1 + as.factor(cp) + C(as.factor(pr),
"contr.sum"))
Coefficients:
as.factor(cp)1 as.factor(cp)2
7.819 8.968
as.factor(cp)3 as.factor(cp)4
10.019 10.771
as.factor(cp)5 as.factor(cp)6
11.791 9.829
C(as.factor(pr), "contr.sum")1 C(as.factor(pr), "contr.sum")2
4.137 3.149
C(as.factor(pr), "contr.sum")3 C(as.factor(pr), "contr.sum")4
2.445 1.112
C(as.factor(pr), "contr.sum")5 C(as.factor(pr), "contr.sum")6
-1.628 -1.954
C(as.factor(pr), "contr.sum")7 C(as.factor(pr), "contr.sum")8
-2.881 -4.061
C(as.factor(pr), "contr.sum")9
2.698
>
>
> proc.time()
user system elapsed
1.75 0.17 1.89
preprocessCore.Rcheck/tests/qnormtest.Rout
R version 4.2.1 (2022-06-23 ucrt) -- "Funny-Looking Kid"
Copyright (C) 2022 The R Foundation for Statistical Computing
Platform: x86_64-w64-mingw32/x64 (64-bit)
R is free software and comes with ABSOLUTELY NO WARRANTY.
You are welcome to redistribute it under certain conditions.
Type 'license()' or 'licence()' for distribution details.
R is a collaborative project with many contributors.
Type 'contributors()' for more information and
'citation()' on how to cite R or R packages in publications.
Type 'demo()' for some demos, 'help()' for on-line help, or
'help.start()' for an HTML browser interface to help.
Type 'q()' to quit R.
> library(preprocessCore)
>
> err.tol <- 10^-8
>
> x <- matrix(c(100,15,200,250,110,16.5,220,275,120,18,240,300),ncol=3)
> x
[,1] [,2] [,3]
[1,] 100 110.0 120
[2,] 15 16.5 18
[3,] 200 220.0 240
[4,] 250 275.0 300
> normalize.quantiles(x)
[,1] [,2] [,3]
[1,] 110.0 110.0 110.0
[2,] 16.5 16.5 16.5
[3,] 220.0 220.0 220.0
[4,] 275.0 275.0 275.0
>
> x.norm.truth <- matrix(rep(c(110.0,16.5,220,275.0),3),ncol=3)
>
> if (all(abs(x.norm.truth - normalize.quantiles(x)) < err.tol) != TRUE){
+ stop("Disagreement in normalize.quantiles(x)")
+ }
>
> normalize.quantiles.determine.target(x)
[1] 16.5 110.0 220.0 275.0
>
> x.norm.target.truth <- c(16.5,110.0,220.0,275.0)
>
> if (all(abs(x.norm.target.truth - normalize.quantiles.determine.target(x)) < err.tol) != TRUE){
+ stop("Disagreement in normalize.quantiles.determine.target(x)")
+ }
>
>
> y <- x
> y[2,2] <- NA
> y
[,1] [,2] [,3]
[1,] 100 110 120
[2,] 15 NA 18
[3,] 200 220 240
[4,] 250 275 300
> normalize.quantiles(y)
[,1] [,2] [,3]
[1,] 134.44444 47.66667 134.44444
[2,] 47.66667 NA 47.66667
[3,] 226.11111 180.27778 226.11111
[4,] 275.00000 275.00000 275.00000
>
> y.norm.target.truth <- c(47.6666666666667,134.4444444444444,226.1111111111111,275.0000000000000)
>
> y.norm.truth <- matrix(c(134.4444444444444, 47.6666666666667, 134.4444444444444,
+ 47.6666666666667, NA, 47.6666666666667,
+ 226.1111111111111, 180.2777777777778, 226.1111111111111,
+ 275.0000000000000, 275.0000000000000, 275.0000000000000),byrow=TRUE,ncol=3)
>
>
> if (all(abs(y.norm.truth - normalize.quantiles(y)) < err.tol,na.rm=TRUE) != TRUE){
+ stop("Disagreement in normalize.quantiles(y)")
+ }
>
>
>
> if (all(abs(y.norm.target.truth - normalize.quantiles.determine.target(y)) < err.tol) != TRUE){
+ stop("Disagreement in normalize.quantiles.determine.target(y)")
+ }
>
>
>
> if (all(abs(normalize.quantiles.use.target(y,y.norm.target.truth) - y.norm.truth) < err.tol,na.rm=TRUE) != TRUE){
+ stop("Disagreement in normalize.quantiles.use.target(y)")
+ }
>
>
> x <- matrix(c(100,15,200,250,110,16.5,220,275,120,18,240,300),ncol=3)
> rownames(x) <- letters[1:4]
> colnames(x) <- LETTERS[1:3]
> y <- normalize.quantiles(x, keep.names = TRUE)
> if(!all(colnames(x)==colnames(y))){
+ stop("Disagreement between initial and final column names despite keep.names=TRUE")
+ }
> if(!all(rownames(x)==rownames(y))){
+ stop("Disagreement between initial and final row names despite keep.names=TRUE")
+ }
>
> proc.time()
user system elapsed
0.21 0.10 0.29
preprocessCore.Rcheck/preprocessCore-Ex.timings
| name | user | system | elapsed | |
| colSummarize | 0 | 0 | 0 | |
| normalize.quantiles.in.blocks | 0.03 | 0.00 | 0.03 | |
| rcModelPLMd | 0.02 | 0.00 | 0.02 | |
| rcModelPLMr | 0.01 | 0.01 | 0.03 | |
| rcModels | 0.00 | 0.02 | 0.01 | |
| subColSummarize | 0 | 0 | 0 | |
| subrcModels | 0.02 | 0.00 | 0.02 | |