Back to Multiple platform build/check report for BioC 3.15 |
|
This page was generated on 2022-03-18 11:08:20 -0400 (Fri, 18 Mar 2022).
Hostname | OS | Arch (*) | R version | Installed pkgs |
---|---|---|---|---|
nebbiolo1 | Linux (Ubuntu 20.04.4 LTS) | x86_64 | R Under development (unstable) (2022-02-17 r81757) -- "Unsuffered Consequences" | 4334 |
riesling1 | Windows Server 2019 Standard | x64 | R Under development (unstable) (2021-11-21 r81221) -- "Unsuffered Consequences" | 4097 |
palomino3 | Windows Server 2022 Datacenter | x64 | R Under development (unstable) (2022-02-17 r81757 ucrt) -- "Unsuffered Consequences" | 4083 |
merida1 | macOS 10.14.6 Mojave | x86_64 | R Under development (unstable) (2022-03-02 r81842) -- "Unsuffered Consequences" | 4134 |
Click on any hostname to see more info about the system (e.g. compilers) (*) as reported by 'uname -p', except on Windows and Mac OS X |
To the developers/maintainers of the ppiStats package: - Please allow up to 24 hours (and sometimes 48 hours) for your latest push to git@git.bioconductor.org:packages/ppiStats.git to reflect on this report. See How and When does the builder pull? When will my changes propagate? here for more information. - Make sure to use the following settings in order to reproduce any error or warning you see on this page. |
Package 1454/2090 | Hostname | OS / Arch | INSTALL | BUILD | CHECK | BUILD BIN | ||||||||
Bioconductor Package Maintainer
| nebbiolo1 | Linux (Ubuntu 20.04.4 LTS) / x86_64 | OK | OK | WARNINGS | |||||||||
riesling1 | Windows Server 2019 Standard / x64 | OK | ERROR | skipped | skipped | |||||||||
palomino3 | Windows Server 2022 Datacenter / x64 | OK | ERROR | skipped | skipped | |||||||||
merida1 | macOS 10.14.6 Mojave / x86_64 | OK | OK | WARNINGS | OK | |||||||||
Package: ppiStats |
Version: 1.61.1 |
Command: D:\biocbuild\bbs-3.15-bioc\R\bin\R.exe CMD INSTALL ppiStats |
StartedAt: 2022-03-17 16:00:27 -0400 (Thu, 17 Mar 2022) |
EndedAt: 2022-03-17 16:01:27 -0400 (Thu, 17 Mar 2022) |
EllapsedTime: 60.8 seconds |
RetCode: 0 |
Status: OK |
############################################################################## ############################################################################## ### ### Running command: ### ### D:\biocbuild\bbs-3.15-bioc\R\bin\R.exe CMD INSTALL ppiStats ### ############################################################################## ############################################################################## * installing to library 'D:/biocbuild/bbs-3.15-bioc/R/library' * installing *source* package 'ppiStats' ... ** using staged installation ** R ** inst ** byte-compile and prepare package for lazy loading ** help *** installing help indices converting help for package 'ppiStats' finding HTML links ... done assessSymmetry html bpMatrix html calcInOutDegStats html createSummaryTables html degreeEstimates html estErrProbMethodOfMoments html estimateCCMErrorRates html estimatePPIErrorRates html findAdjacent html genBPGraph html hgParams html hgTests html idProteinErrorType html idProteinType html inOutScatterCharts html nullDistDoublyTestedEdges html separateExptBySize html twPERM html viabilityCharts html ** building package indices ** installing vignettes ** testing if installed package can be loaded from temporary location Warning: Package 'ppiStats' is deprecated and will be removed from Bioconductor version 3.16 ** testing if installed package can be loaded from final location Warning: Package 'ppiStats' is deprecated and will be removed from Bioconductor version 3.16 ** testing if installed package keeps a record of temporary installation path * DONE (ppiStats) Making 'packages.html' ...Warning in packageDescription(i, lib.loc = lib, fields = "Title", encoding = "UTF-8") : DESCRIPTION file of package 'SEtools' is missing or broken done