| Back to Multiple platform build/check report for BioC 3.15 |
|
This page was generated on 2022-03-18 11:08:19 -0400 (Fri, 18 Mar 2022).
| Hostname | OS | Arch (*) | R version | Installed pkgs |
|---|---|---|---|---|
| nebbiolo1 | Linux (Ubuntu 20.04.4 LTS) | x86_64 | R Under development (unstable) (2022-02-17 r81757) -- "Unsuffered Consequences" | 4334 |
| riesling1 | Windows Server 2019 Standard | x64 | R Under development (unstable) (2021-11-21 r81221) -- "Unsuffered Consequences" | 4097 |
| palomino3 | Windows Server 2022 Datacenter | x64 | R Under development (unstable) (2022-02-17 r81757 ucrt) -- "Unsuffered Consequences" | 4083 |
| merida1 | macOS 10.14.6 Mojave | x86_64 | R Under development (unstable) (2022-03-02 r81842) -- "Unsuffered Consequences" | 4134 |
| Click on any hostname to see more info about the system (e.g. compilers) (*) as reported by 'uname -p', except on Windows and Mac OS X | ||||
|
To the developers/maintainers of the plyranges package: - Please allow up to 24 hours (and sometimes 48 hours) for your latest push to git@git.bioconductor.org:packages/plyranges.git to reflect on this report. See How and When does the builder pull? When will my changes propagate? here for more information. - Make sure to use the following settings in order to reproduce any error or warning you see on this page. |
| Package 1441/2090 | Hostname | OS / Arch | INSTALL | BUILD | CHECK | BUILD BIN | ||||||||
| plyranges 1.15.0 (landing page) Stuart Lee
| nebbiolo1 | Linux (Ubuntu 20.04.4 LTS) / x86_64 | OK | OK | WARNINGS | |||||||||
| riesling1 | Windows Server 2019 Standard / x64 | OK | OK | WARNINGS | OK | |||||||||
| palomino3 | Windows Server 2022 Datacenter / x64 | OK | OK | WARNINGS | OK | |||||||||
| merida1 | macOS 10.14.6 Mojave / x86_64 | OK | OK | WARNINGS | OK | |||||||||
| Package: plyranges |
| Version: 1.15.0 |
| Command: rm -rf plyranges.buildbin-libdir && mkdir plyranges.buildbin-libdir && D:\biocbuild\bbs-3.15-bioc\R\bin\R.exe CMD INSTALL --build --library=plyranges.buildbin-libdir plyranges_1.15.0.tar.gz |
| StartedAt: 2022-03-17 21:29:00 -0400 (Thu, 17 Mar 2022) |
| EndedAt: 2022-03-17 21:30:03 -0400 (Thu, 17 Mar 2022) |
| EllapsedTime: 63.9 seconds |
| RetCode: 0 |
| Status: OK |
| PackageFile: plyranges_1.15.0.zip |
| PackageFileSize: 1.597 MiB |
##############################################################################
##############################################################################
###
### Running command:
###
### rm -rf plyranges.buildbin-libdir && mkdir plyranges.buildbin-libdir && D:\biocbuild\bbs-3.15-bioc\R\bin\R.exe CMD INSTALL --build --library=plyranges.buildbin-libdir plyranges_1.15.0.tar.gz
###
##############################################################################
##############################################################################
* installing *source* package 'plyranges' ...
** using staged installation
** R
** inst
** byte-compile and prepare package for lazy loading
** help
*** installing help indices
converting help for package 'plyranges'
finding HTML links ... done
add-nearest-distance html
as_ranges html
finding level-2 HTML links ... done
compute_coverage html
element-setops html
filter-ranges html
group_by-ranges html
io-bam-read html
io-bed-read html
io-bed-write html
io-bigwig-read html
io-bigwig-write html
io-gff-read html
io-gff-write html
io-wig-read html
io-wig-write html
mutate-ranges html
n html
n_distinct html
overlap-joins html
overscope_ranges html
plyranges-package html
ranges-anchor html
ranges-arrange html
ranges-bind html
ranges-chop html
ranges-class html
ranges-construct html
ranges-count-overlaps html
ranges-deferred html
ranges-disjoin html
ranges-expand html
ranges-filter-overlaps html
ranges-flank html
ranges-follow html
ranges-info html
ranges-interweave html
ranges-names html
ranges-nearest html
ranges-overlaps-self html
ranges-overlaps html
ranges-pairs html
ranges-precede html
ranges-reduce html
ranges-select html
ranges-setops html
ranges-setters html
ranges-shift html
ranges-summarise html
ranges-tile html
slice-ranges html
stretch html
tidyverse-reexports html
*** copying figures
** building package indices
** installing vignettes
** testing if installed package can be loaded from temporary location
** testing if installed package can be loaded from final location
** testing if installed package keeps a record of temporary installation path
* MD5 sums
packaged installation of 'plyranges' as plyranges_1.15.0.zip
* DONE (plyranges)