| Back to Multiple platform build/check report for BioC 3.15 | 
  | 
This page was generated on 2022-03-18 11:08:18 -0400 (Fri, 18 Mar 2022).
| Hostname | OS | Arch (*) | R version | Installed pkgs | 
|---|---|---|---|---|
| nebbiolo1 | Linux (Ubuntu 20.04.4 LTS) | x86_64 | R Under development (unstable) (2022-02-17 r81757) -- "Unsuffered Consequences" | 4334 | 
| riesling1 | Windows Server 2019 Standard | x64 | R Under development (unstable) (2021-11-21 r81221) -- "Unsuffered Consequences" | 4097 | 
| palomino3 | Windows Server 2022 Datacenter | x64 | R Under development (unstable) (2022-02-17 r81757 ucrt) -- "Unsuffered Consequences" | 4083 | 
| merida1 | macOS 10.14.6 Mojave | x86_64 | R Under development (unstable) (2022-03-02 r81842) -- "Unsuffered Consequences" | 4134 | 
| Click on any hostname to see more info about the system (e.g. compilers) (*) as reported by 'uname -p', except on Windows and Mac OS X | ||||
| 
To the developers/maintainers of the plotgardener package: - Please allow up to 24 hours (and sometimes 48 hours) for your latest push to git@git.bioconductor.org:packages/plotgardener.git to reflect on this report. See How and When does the builder pull? When will my changes propagate? here for more information. - Make sure to use the following settings in order to reproduce any error or warning you see on this page.  | 
| Package 1438/2090 | Hostname | OS / Arch | INSTALL | BUILD | CHECK | BUILD BIN | ||||||||
| plotgardener 1.1.16  (landing page) Nicole Kramer 
  | nebbiolo1 | Linux (Ubuntu 20.04.4 LTS) / x86_64 | OK | OK | OK | |||||||||
| riesling1 | Windows Server 2019 Standard / x64 | OK | OK | OK | OK | |||||||||
| palomino3 | Windows Server 2022 Datacenter / x64 | OK | OK | OK | OK | |||||||||
| merida1 | macOS 10.14.6 Mojave / x86_64 | OK | OK | OK | OK | |||||||||
| Package: plotgardener | 
| Version: 1.1.16 | 
| Command: D:\biocbuild\bbs-3.15-bioc\R\bin\R.exe CMD check --no-multiarch --install=check:plotgardener.install-out.txt --library=D:\biocbuild\bbs-3.15-bioc\R\library --no-vignettes --timings plotgardener_1.1.16.tar.gz | 
| StartedAt: 2022-03-17 19:53:22 -0400 (Thu, 17 Mar 2022) | 
| EndedAt: 2022-03-17 19:58:07 -0400 (Thu, 17 Mar 2022) | 
| EllapsedTime: 285.2 seconds | 
| RetCode: 0 | 
| Status: OK | 
| CheckDir: plotgardener.Rcheck | 
| Warnings: 0 | 
##############################################################################
##############################################################################
###
### Running command:
###
###   D:\biocbuild\bbs-3.15-bioc\R\bin\R.exe CMD check --no-multiarch --install=check:plotgardener.install-out.txt --library=D:\biocbuild\bbs-3.15-bioc\R\library --no-vignettes --timings plotgardener_1.1.16.tar.gz
###
##############################################################################
##############################################################################
* using log directory 'D:/biocbuild/bbs-3.15-bioc/meat/plotgardener.Rcheck'
* using R Under development (unstable) (2021-11-21 r81221)
* using platform: x86_64-w64-mingw32 (64-bit)
* using session charset: ISO8859-1
* using option '--no-vignettes'
* checking for file 'plotgardener/DESCRIPTION' ... OK
* this is package 'plotgardener' version '1.1.16'
* package encoding: UTF-8
* checking package namespace information ... OK
* checking package dependencies ... OK
* checking if this is a source package ... OK
* checking if there is a namespace ... OK
* checking for hidden files and directories ... OK
* checking for portable file names ... OK
* checking whether package 'plotgardener' can be installed ... OK
* checking installed package size ... OK
* checking package directory ... OK
* checking 'build' directory ... OK
* checking DESCRIPTION meta-information ... OK
* checking top-level files ... OK
* checking for left-over files ... OK
* checking index information ... OK
* checking package subdirectories ... OK
* checking R files for non-ASCII characters ... OK
* checking R files for syntax errors ... OK
* checking whether the package can be loaded ... OK
* checking whether the package can be loaded with stated dependencies ... OK
* checking whether the package can be unloaded cleanly ... OK
* checking whether the namespace can be loaded with stated dependencies ... OK
* checking whether the namespace can be unloaded cleanly ... OK
* checking dependencies in R code ... OK
* checking S3 generic/method consistency ... OK
* checking replacement functions ... OK
* checking foreign function calls ... OK
* checking R code for possible problems ... OK
* checking Rd files ... OK
* checking Rd metadata ... OK
* checking Rd cross-references ... OK
* checking for missing documentation entries ... OK
* checking for code/documentation mismatches ... OK
* checking Rd \usage sections ... OK
* checking Rd contents ... OK
* checking for unstated dependencies in examples ... OK
* checking R/sysdata.rda ... OK
* checking line endings in C/C++/Fortran sources/headers ... OK
* checking compiled code ... NOTE
Note: information on .o files for x64 is not available
File 'D:/biocbuild/bbs-3.15-bioc/R/library/plotgardener/libs/x64/plotgardener.dll':
  Found 'abort', possibly from 'abort' (C), 'runtime' (Fortran)
  Found 'exit', possibly from 'exit' (C), 'stop' (Fortran)
  Found 'printf', possibly from 'printf' (C)
Compiled code should not call entry points which might terminate R nor
write to stdout/stderr instead of to the console, nor use Fortran I/O
nor system RNGs. The detected symbols are linked into the code but
might come from libraries and not actually be called.
See 'Writing portable packages' in the 'Writing R Extensions' manual.
* checking files in 'vignettes' ... OK
* checking examples ... OK
Examples with CPU (user + system) or elapsed time > 5s
              user system elapsed
plotRaster   10.29   1.21   11.50
plotIdeogram  4.66   0.52    6.18
* checking for unstated dependencies in 'tests' ... OK
* checking tests ...
  Running 'testthat.R'
 OK
* checking for unstated dependencies in vignettes ... OK
* checking package vignettes in 'inst/doc' ... OK
* checking running R code from vignettes ... SKIPPED
* checking re-building of vignette outputs ... SKIPPED
* checking PDF version of manual ... OK
* DONE
Status: 1 NOTE
See
  'D:/biocbuild/bbs-3.15-bioc/meat/plotgardener.Rcheck/00check.log'
for details.
plotgardener.Rcheck/00install.out
##############################################################################
##############################################################################
###
### Running command:
###
###   D:\biocbuild\bbs-3.15-bioc\R\bin\R.exe CMD INSTALL plotgardener
###
##############################################################################
##############################################################################
* installing to library 'D:/biocbuild/bbs-3.15-bioc/R/library'
* installing *source* package 'plotgardener' ...
** using staged installation
** libs
"C:/rtools40/mingw64/bin/"g++ -std=gnu++11  -I"D:/biocbuild/bbs-3.15-bioc/R/include" -DNDEBUG  -I'D:/biocbuild/bbs-3.15-bioc/R/library/Rcpp/include'   -I"C:/extsoft/include"     -O2 -Wall  -mfpmath=sse -msse2 -mstackrealign -fno-reorder-blocks-and-partition  -c RcppExports.cpp -o RcppExports.o
"C:/rtools40/mingw64/bin/"g++ -std=gnu++11  -I"D:/biocbuild/bbs-3.15-bioc/R/include" -DNDEBUG  -I'D:/biocbuild/bbs-3.15-bioc/R/library/Rcpp/include'   -I"C:/extsoft/include"     -O2 -Wall  -mfpmath=sse -msse2 -mstackrealign -fno-reorder-blocks-and-partition  -c checkRow.cpp -o checkRow.o
"C:/rtools40/mingw64/bin/"g++ -std=gnu++11  -I"D:/biocbuild/bbs-3.15-bioc/R/include" -DNDEBUG  -I'D:/biocbuild/bbs-3.15-bioc/R/library/Rcpp/include'   -I"C:/extsoft/include"     -O2 -Wall  -mfpmath=sse -msse2 -mstackrealign -fno-reorder-blocks-and-partition  -c rebinBigwig.cpp -o rebinBigwig.o
C:/rtools40/mingw64/bin/g++ -std=gnu++11 -shared -s -static-libgcc -o plotgardener.dll tmp.def RcppExports.o checkRow.o rebinBigwig.o -LC:/extsoft/lib/x64 -LC:/extsoft/lib -LD:/biocbuild/bbs-3.15-bioc/R/bin/x64 -lR
installing to D:/biocbuild/bbs-3.15-bioc/R/library/00LOCK-plotgardener/00new/plotgardener/libs/x64
** R
** inst
** byte-compile and prepare package for lazy loading
** help
*** installing help indices
  converting help for package 'plotgardener'
    finding HTML links ... done
    annoDomains                             html  
    annoGenomeLabel                         html  
    annoHeatmapLegend                       html  
    annoHighlight                           html  
    annoPixels                              html  
    annoSegments                            html  
    annoText                                html  
    annoXaxis                               html  
    annoYaxis                               html  
    annoZoomLines                           html  
    assembly                                html  
    c                                       html  
    colorby                                 html  
    defaultPackages                         html  
    genomes                                 html  
    mapColors                               html  
    pageCreate                              html  
    pageGuideHide                           html  
    pageGuideHorizontal                     html  
    pageGuideShow                           html  
    pageGuideVertical                       html  
    pagePlotPlace                           html  
    pagePlotRemove                          html  
    pgParams                                html  
    plotCircle                              html  
    plotGG                                  html  
    plotGenes                               html  
    plotGenomeLabel                         html  
    plotHicRectangle                        html  
    plotHicSquare                           html  
    plotHicTriangle                         html  
    plotIdeogram                            html  
    plotLegend                              html  
    plotManhattan                           html  
    plotPairs                               html  
    plotPairsArches                         html  
    plotPolygon                             html  
    plotRanges                              html  
    plotRaster                              html  
    plotRect                                html  
    plotSegments                            html  
    plotSignal                              html  
    plotText                                html  
    plotTranscripts                         html  
    plotgardener                            html  
    readBigwig                              html  
    readHic                                 html  
*** copying figures
** building package indices
** installing vignettes
** testing if installed package can be loaded from temporary location
** testing if installed package can be loaded from final location
** testing if installed package keeps a record of temporary installation path
* DONE (plotgardener)
Making 'packages.html' ...Warning in packageDescription(i, lib.loc = lib, fields = "Title", encoding = "UTF-8") :
  DESCRIPTION file of package 'RUVSeq' is missing or broken
 done
plotgardener.Rcheck/tests/testthat.Rout
R Under development (unstable) (2021-11-21 r81221) -- "Unsuffered Consequences"
Copyright (C) 2021 The R Foundation for Statistical Computing
Platform: x86_64-w64-mingw32/x64 (64-bit)
R is free software and comes with ABSOLUTELY NO WARRANTY.
You are welcome to redistribute it under certain conditions.
Type 'license()' or 'licence()' for distribution details.
R is a collaborative project with many contributors.
Type 'contributors()' for more information and
'citation()' on how to cite R or R packages in publications.
Type 'demo()' for some demos, 'help()' for on-line help, or
'help.start()' for an HTML browser interface to help.
Type 'q()' to quit R.
> library(testthat)
> library(plotgardener)
Attaching package: 'plotgardener'
The following object is masked from 'package:base':
    c
> 
> test_check("plotgardener")
Loading required package: GenomicFeatures
Loading required package: BiocGenerics
Attaching package: 'BiocGenerics'
The following objects are masked from 'package:stats':
    IQR, mad, sd, var, xtabs
The following objects are masked from 'package:base':
    Filter, Find, Map, Position, Reduce, anyDuplicated, append,
    as.data.frame, basename, cbind, colnames, dirname, do.call,
    duplicated, eval, evalq, get, grep, grepl, intersect, is.unsorted,
    lapply, mapply, match, mget, order, paste, pmax, pmax.int, pmin,
    pmin.int, rank, rbind, rownames, sapply, setdiff, sort, table,
    tapply, union, unique, unsplit, which.max, which.min
Loading required package: S4Vectors
Loading required package: stats4
Attaching package: 'S4Vectors'
The following objects are masked from 'package:base':
    I, expand.grid, unname
Loading required package: IRanges
Attaching package: 'IRanges'
The following object is masked from 'package:grDevices':
    windows
Loading required package: GenomeInfoDb
Loading required package: GenomicRanges
Loading required package: AnnotationDbi
Loading required package: Biobase
Welcome to Bioconductor
    Vignettes contain introductory material; view with
    'browseVignettes()'. To cite Bioconductor, see
    'citation("Biobase")', and for packages 'citation("pkgname")'.
start, endLoading required package: SummarizedExperiment
Loading required package: MatrixGenerics
Loading required package: matrixStats
Attaching package: 'matrixStats'
The following objects are masked from 'package:Biobase':
    anyMissing, rowMedians
Attaching package: 'MatrixGenerics'
The following objects are masked from 'package:matrixStats':
    colAlls, colAnyNAs, colAnys, colAvgsPerRowSet, colCollapse,
    colCounts, colCummaxs, colCummins, colCumprods, colCumsums,
    colDiffs, colIQRDiffs, colIQRs, colLogSumExps, colMadDiffs,
    colMads, colMaxs, colMeans2, colMedians, colMins, colOrderStats,
    colProds, colQuantiles, colRanges, colRanks, colSdDiffs, colSds,
    colSums2, colTabulates, colVarDiffs, colVars, colWeightedMads,
    colWeightedMeans, colWeightedMedians, colWeightedSds,
    colWeightedVars, rowAlls, rowAnyNAs, rowAnys, rowAvgsPerColSet,
    rowCollapse, rowCounts, rowCummaxs, rowCummins, rowCumprods,
    rowCumsums, rowDiffs, rowIQRDiffs, rowIQRs, rowLogSumExps,
    rowMadDiffs, rowMads, rowMaxs, rowMeans2, rowMedians, rowMins,
    rowOrderStats, rowProds, rowQuantiles, rowRanges, rowRanks,
    rowSdDiffs, rowSds, rowSums2, rowTabulates, rowVarDiffs, rowVars,
    rowWeightedMads, rowWeightedMeans, rowWeightedMedians,
    rowWeightedSds, rowWeightedVars
The following object is masked from 'package:Biobase':
    rowMedians
Read in hic file with KR normalization at 1e+05 BP resolution.
[ FAIL 0 | WARN 0 | SKIP 0 | PASS 98 ]
> 
> proc.time()
   user  system elapsed 
  24.64    1.76   26.40 
plotgardener.Rcheck/plotgardener-Ex.timings
| name | user | system | elapsed | |
| annoDomains | 0.89 | 0.11 | 1.00 | |
| annoGenomeLabel | 3.15 | 0.26 | 3.43 | |
| annoHeatmapLegend | 0.69 | 0.02 | 0.70 | |
| annoHighlight | 0.92 | 0.05 | 0.97 | |
| annoPixels | 1.89 | 0.14 | 2.03 | |
| annoSegments | 2.06 | 0.06 | 2.12 | |
| annoText | 0.73 | 0.00 | 0.73 | |
| annoXaxis | 0.95 | 0.11 | 1.06 | |
| annoYaxis | 0.83 | 0.05 | 0.88 | |
| annoZoomLines | 2.64 | 0.07 | 2.72 | |
| assembly | 0 | 0 | 0 | |
| c | 0 | 0 | 0 | |
| colorby | 0.47 | 0.04 | 0.50 | |
| defaultPackages | 0 | 0 | 0 | |
| genomes | 0 | 0 | 0 | |
| mapColors | 0.06 | 0.00 | 0.14 | |
| pageCreate | 0.03 | 0.01 | 0.05 | |
| pageGuideHide | 0.02 | 0.00 | 0.02 | |
| pageGuideHorizontal | 0.01 | 0.00 | 0.01 | |
| pageGuideShow | 0.89 | 0.03 | 0.92 | |
| pageGuideVertical | 0.06 | 0.00 | 0.07 | |
| pagePlotPlace | 0.54 | 0.02 | 0.54 | |
| pagePlotRemove | 0.45 | 0.09 | 0.55 | |
| pgParams | 0.81 | 0.08 | 0.89 | |
| plotCircle | 0.02 | 0.00 | 0.02 | |
| plotGG | 0.17 | 0.00 | 0.17 | |
| plotGenes | 3.69 | 0.05 | 3.73 | |
| plotGenomeLabel | 1.75 | 0.04 | 1.80 | |
| plotHicRectangle | 0.56 | 0.02 | 0.58 | |
| plotHicSquare | 0.82 | 0.05 | 0.86 | |
| plotHicTriangle | 1.43 | 0.07 | 1.52 | |
| plotIdeogram | 4.66 | 0.52 | 6.18 | |
| plotLegend | 0.36 | 0.14 | 0.52 | |
| plotManhattan | 2.13 | 0.14 | 2.27 | |
| plotPairs | 0.5 | 0.0 | 0.5 | |
| plotPairsArches | 0.1 | 0.0 | 0.1 | |
| plotPolygon | 0.01 | 0.00 | 0.01 | |
| plotRanges | 0.16 | 0.06 | 0.22 | |
| plotRaster | 10.29 | 1.21 | 11.50 | |
| plotRect | 0.57 | 0.04 | 0.61 | |
| plotSegments | 0.04 | 0.00 | 0.05 | |
| plotSignal | 0.86 | 0.08 | 0.95 | |
| plotText | 0.05 | 0.00 | 0.05 | |
| plotTranscripts | 0.89 | 0.08 | 0.97 | |
| readBigwig | 0 | 0 | 0 | |
| readHic | 0.00 | 0.01 | 0.02 | |