| Back to Multiple platform build/check report for BioC 3.15 | 
  | 
This page was generated on 2022-03-18 11:08:16 -0400 (Fri, 18 Mar 2022).
| Hostname | OS | Arch (*) | R version | Installed pkgs | 
|---|---|---|---|---|
| nebbiolo1 | Linux (Ubuntu 20.04.4 LTS) | x86_64 | R Under development (unstable) (2022-02-17 r81757) -- "Unsuffered Consequences" | 4334 | 
| riesling1 | Windows Server 2019 Standard | x64 | R Under development (unstable) (2021-11-21 r81221) -- "Unsuffered Consequences" | 4097 | 
| palomino3 | Windows Server 2022 Datacenter | x64 | R Under development (unstable) (2022-02-17 r81757 ucrt) -- "Unsuffered Consequences" | 4083 | 
| merida1 | macOS 10.14.6 Mojave | x86_64 | R Under development (unstable) (2022-03-02 r81842) -- "Unsuffered Consequences" | 4134 | 
| Click on any hostname to see more info about the system (e.g. compilers) (*) as reported by 'uname -p', except on Windows and Mac OS X | ||||
| 
To the developers/maintainers of the pepStat package: - Please allow up to 24 hours (and sometimes 48 hours) for your latest push to git@git.bioconductor.org:packages/pepStat.git to reflect on this report. See How and When does the builder pull? When will my changes propagate? here for more information. - Make sure to use the following settings in order to reproduce any error or warning you see on this page.  | 
| Package 1404/2090 | Hostname | OS / Arch | INSTALL | BUILD | CHECK | BUILD BIN | ||||||||
| pepStat 1.29.0  (landing page) Gregory C Imholte 
  | nebbiolo1 | Linux (Ubuntu 20.04.4 LTS) / x86_64 | OK | OK | OK | |||||||||
| riesling1 | Windows Server 2019 Standard / x64 | OK | OK | OK | OK | |||||||||
| palomino3 | Windows Server 2022 Datacenter / x64 | OK | OK | OK | OK | |||||||||
| merida1 | macOS 10.14.6 Mojave / x86_64 | OK | OK | OK | OK | |||||||||
| Package: pepStat | 
| Version: 1.29.0 | 
| Command: rm -rf pepStat.buildbin-libdir && mkdir pepStat.buildbin-libdir && D:\biocbuild\bbs-3.15-bioc\R\bin\R.exe CMD INSTALL --build --library=pepStat.buildbin-libdir pepStat_1.29.0.tar.gz | 
| StartedAt: 2022-03-17 21:27:53 -0400 (Thu, 17 Mar 2022) | 
| EndedAt: 2022-03-17 21:29:20 -0400 (Thu, 17 Mar 2022) | 
| EllapsedTime: 86.7 seconds | 
| RetCode: 0 | 
| Status: OK | 
| PackageFile: pepStat_1.29.0.zip | 
| PackageFileSize: 736.9 KiB | 
##############################################################################
##############################################################################
###
### Running command:
###
###   rm -rf pepStat.buildbin-libdir && mkdir pepStat.buildbin-libdir && D:\biocbuild\bbs-3.15-bioc\R\bin\R.exe CMD INSTALL --build --library=pepStat.buildbin-libdir pepStat_1.29.0.tar.gz
###
##############################################################################
##############################################################################
* installing *source* package 'pepStat' ...
** using staged installation
** R
** inst
** byte-compile and prepare package for lazy loading
No methods found in package 'GenomicRanges' for request: 'mcols<-' when loading 'pepStat'
No methods found in package 'GenomicRanges' for request: 'mcols' when loading 'pepStat'
No methods found in package 'IRanges' for request: 'values<-' when loading 'pepStat'
No methods found in package 'IRanges' for request: 'values' when loading 'pepStat'
** help
*** installing help indices
  converting help for package 'pepStat'
    finding HTML links ... done
    baselineCorrect.pSet                    html  
    baseline_correct                        html  
    create_db                               html  
    finding level-2 HTML links ... done
    makeCalls                               html  
    makePeptideSet                          html  
    normalizeArray                          html  
REDIRECT:topic	 Previous alias or file overwritten by alias: D:/biocbuild/bbs-3.15-bioc/meat/pepStat.buildbin-libdir/00LOCK-pepStat/00new/pepStat/help/normalizeArray.html
    peptideSet-methods                      html  
    peptideSet                              html  
    plotArray                               html  
    restab                                  html  
    shinyPepStat                            html  
    slidingMean                             html  
    summarizePeptides                       html  
** building package indices
** installing vignettes
** testing if installed package can be loaded from temporary location
No methods found in package 'GenomicRanges' for request: 'mcols<-' when loading 'pepStat'
No methods found in package 'GenomicRanges' for request: 'mcols' when loading 'pepStat'
No methods found in package 'IRanges' for request: 'values<-' when loading 'pepStat'
No methods found in package 'IRanges' for request: 'values' when loading 'pepStat'
** testing if installed package can be loaded from final location
No methods found in package 'GenomicRanges' for request: 'mcols<-' when loading 'pepStat'
No methods found in package 'GenomicRanges' for request: 'mcols' when loading 'pepStat'
No methods found in package 'IRanges' for request: 'values<-' when loading 'pepStat'
No methods found in package 'IRanges' for request: 'values' when loading 'pepStat'
** testing if installed package keeps a record of temporary installation path
* MD5 sums
packaged installation of 'pepStat' as pepStat_1.29.0.zip
* DONE (pepStat)