| Back to Multiple platform build/check report for BioC 3.15 |
|
This page was generated on 2022-03-18 11:08:16 -0400 (Fri, 18 Mar 2022).
| Hostname | OS | Arch (*) | R version | Installed pkgs |
|---|---|---|---|---|
| nebbiolo1 | Linux (Ubuntu 20.04.4 LTS) | x86_64 | R Under development (unstable) (2022-02-17 r81757) -- "Unsuffered Consequences" | 4334 |
| riesling1 | Windows Server 2019 Standard | x64 | R Under development (unstable) (2021-11-21 r81221) -- "Unsuffered Consequences" | 4097 |
| palomino3 | Windows Server 2022 Datacenter | x64 | R Under development (unstable) (2022-02-17 r81757 ucrt) -- "Unsuffered Consequences" | 4083 |
| merida1 | macOS 10.14.6 Mojave | x86_64 | R Under development (unstable) (2022-03-02 r81842) -- "Unsuffered Consequences" | 4134 |
| Click on any hostname to see more info about the system (e.g. compilers) (*) as reported by 'uname -p', except on Windows and Mac OS X | ||||
|
To the developers/maintainers of the paxtoolsr package: - Please allow up to 24 hours (and sometimes 48 hours) for your latest push to git@git.bioconductor.org:packages/paxtoolsr.git to reflect on this report. See How and When does the builder pull? When will my changes propagate? here for more information. - Make sure to use the following settings in order to reproduce any error or warning you see on this page. |
| Package 1390/2090 | Hostname | OS / Arch | INSTALL | BUILD | CHECK | BUILD BIN | ||||||||
| paxtoolsr 1.29.0 (landing page) Augustin Luna
| nebbiolo1 | Linux (Ubuntu 20.04.4 LTS) / x86_64 | OK | OK | OK | |||||||||
| riesling1 | Windows Server 2019 Standard / x64 | OK | OK | OK | OK | |||||||||
| palomino3 | Windows Server 2022 Datacenter / x64 | OK | OK | ERROR | OK | |||||||||
| merida1 | macOS 10.14.6 Mojave / x86_64 | OK | OK | ERROR | OK | |||||||||
| Package: paxtoolsr |
| Version: 1.29.0 |
| Command: D:\biocbuild\bbs-3.15-bioc\R\bin\R.exe CMD INSTALL paxtoolsr |
| StartedAt: 2022-03-17 15:58:25 -0400 (Thu, 17 Mar 2022) |
| EndedAt: 2022-03-17 15:59:53 -0400 (Thu, 17 Mar 2022) |
| EllapsedTime: 87.7 seconds |
| RetCode: 0 |
| Status: OK |
##############################################################################
##############################################################################
###
### Running command:
###
### D:\biocbuild\bbs-3.15-bioc\R\bin\R.exe CMD INSTALL paxtoolsr
###
##############################################################################
##############################################################################
* installing to library 'D:/biocbuild/bbs-3.15-bioc/R/library'
* installing *source* package 'paxtoolsr' ...
** using staged installation
** R
** inst
** byte-compile and prepare package for lazy loading
** help
*** installing help indices
converting help for package 'paxtoolsr'
finding HTML links ... done
addAttributeList html
convertDataFrameListsToVectors html
convertSifToGmt html
downloadFile html
downloadPc2 html
downloadSignedPC html
fetch html
filterSif html
getCacheFiles html
getErrorMessage html
getNeighbors html
getPc html
getPcDatabaseNames html
getPcUrl html
getShortestPathSif html
getSifInteractionCategories html
graphPc html
integrateBiopax html
loadSifInIgraph html
mapAttributes html
mapValues html
mergeBiopax html
pcDirections html
pcFormats html
pcGraphQueries html
processPcRequest html
readBiopax html
readGmt html
readPcPathwaysInfo html
readSbgn html
readSif html
readSifnx html
searchListOfVectors html
searchPc html
splitSifnxByPathway html
summarize html
summarizeSif html
toCytoscape html
toGSEA html
toLevel3 html
toSBGN html
toSif html
toSifnx html
topPathways html
traverse html
validate html
** building package indices
** installing vignettes
** testing if installed package can be loaded from temporary location
** testing if installed package can be loaded from final location
** testing if installed package keeps a record of temporary installation path
* DONE (paxtoolsr)
Making 'packages.html' ... done