| Back to Multiple platform build/check report for BioC 3.15 |
|
This page was generated on 2022-03-18 11:08:15 -0400 (Fri, 18 Mar 2022).
| Hostname | OS | Arch (*) | R version | Installed pkgs |
|---|---|---|---|---|
| nebbiolo1 | Linux (Ubuntu 20.04.4 LTS) | x86_64 | R Under development (unstable) (2022-02-17 r81757) -- "Unsuffered Consequences" | 4334 |
| riesling1 | Windows Server 2019 Standard | x64 | R Under development (unstable) (2021-11-21 r81221) -- "Unsuffered Consequences" | 4097 |
| palomino3 | Windows Server 2022 Datacenter | x64 | R Under development (unstable) (2022-02-17 r81757 ucrt) -- "Unsuffered Consequences" | 4083 |
| merida1 | macOS 10.14.6 Mojave | x86_64 | R Under development (unstable) (2022-03-02 r81842) -- "Unsuffered Consequences" | 4134 |
| Click on any hostname to see more info about the system (e.g. compilers) (*) as reported by 'uname -p', except on Windows and Mac OS X | ||||
|
To the developers/maintainers of the pandaR package: - Please allow up to 24 hours (and sometimes 48 hours) for your latest push to git@git.bioconductor.org:packages/pandaR.git to reflect on this report. See How and When does the builder pull? When will my changes propagate? here for more information. - Make sure to use the following settings in order to reproduce any error or warning you see on this page. |
| Package 1374/2090 | Hostname | OS / Arch | INSTALL | BUILD | CHECK | BUILD BIN | ||||||||
| pandaR 1.27.0 (landing page) Joseph N. Paulson
| nebbiolo1 | Linux (Ubuntu 20.04.4 LTS) / x86_64 | OK | OK | WARNINGS | |||||||||
| riesling1 | Windows Server 2019 Standard / x64 | OK | OK | WARNINGS | OK | |||||||||
| palomino3 | Windows Server 2022 Datacenter / x64 | OK | OK | WARNINGS | OK | |||||||||
| merida1 | macOS 10.14.6 Mojave / x86_64 | OK | OK | WARNINGS | OK | |||||||||
| Package: pandaR |
| Version: 1.27.0 |
| Command: rm -rf pandaR.buildbin-libdir && mkdir pandaR.buildbin-libdir && D:\biocbuild\bbs-3.15-bioc\R\bin\R.exe CMD INSTALL --build --library=pandaR.buildbin-libdir pandaR_1.27.0.tar.gz |
| StartedAt: 2022-03-17 21:27:04 -0400 (Thu, 17 Mar 2022) |
| EndedAt: 2022-03-17 21:28:16 -0400 (Thu, 17 Mar 2022) |
| EllapsedTime: 72.0 seconds |
| RetCode: 0 |
| Status: OK |
| PackageFile: pandaR_1.27.0.zip |
| PackageFileSize: 9.084 MiB |
##############################################################################
##############################################################################
###
### Running command:
###
### rm -rf pandaR.buildbin-libdir && mkdir pandaR.buildbin-libdir && D:\biocbuild\bbs-3.15-bioc\R\bin\R.exe CMD INSTALL --build --library=pandaR.buildbin-libdir pandaR_1.27.0.tar.gz
###
##############################################################################
##############################################################################
* installing *source* package 'pandaR' ...
** using staged installation
** R
** data
*** moving datasets to lazyload DB
** inst
** byte-compile and prepare package for lazy loading
** help
*** installing help indices
converting help for package 'pandaR'
finding HTML links ... done
calcDegree html
calcDegreeDifference html
importPandaMatlab html
multiplot html
panda html
pandaR html
pandaResult html
pandaResultPairs html
pandaToyData html
plotCommunityDetection html
plotGraph html
plotZ html
plotZbyTF html
print.panda html
subnetwork html
summary.panda html
targetedGenes html
testMotif html
topedges html
** building package indices
** installing vignettes
** testing if installed package can be loaded from temporary location
** testing if installed package can be loaded from final location
** testing if installed package keeps a record of temporary installation path
* MD5 sums
packaged installation of 'pandaR' as pandaR_1.27.0.zip
* DONE (pandaR)