| Back to Multiple platform build/check report for BioC 3.15 |
|
This page was generated on 2022-03-18 11:08:13 -0400 (Fri, 18 Mar 2022).
| Hostname | OS | Arch (*) | R version | Installed pkgs |
|---|---|---|---|---|
| nebbiolo1 | Linux (Ubuntu 20.04.4 LTS) | x86_64 | R Under development (unstable) (2022-02-17 r81757) -- "Unsuffered Consequences" | 4334 |
| riesling1 | Windows Server 2019 Standard | x64 | R Under development (unstable) (2021-11-21 r81221) -- "Unsuffered Consequences" | 4097 |
| palomino3 | Windows Server 2022 Datacenter | x64 | R Under development (unstable) (2022-02-17 r81757 ucrt) -- "Unsuffered Consequences" | 4083 |
| merida1 | macOS 10.14.6 Mojave | x86_64 | R Under development (unstable) (2022-03-02 r81842) -- "Unsuffered Consequences" | 4134 |
| Click on any hostname to see more info about the system (e.g. compilers) (*) as reported by 'uname -p', except on Windows and Mac OS X | ||||
|
To the developers/maintainers of the optimalFlow package: - Please allow up to 24 hours (and sometimes 48 hours) for your latest push to git@git.bioconductor.org:packages/optimalFlow.git to reflect on this report. See How and When does the builder pull? When will my changes propagate? here for more information. - Make sure to use the following settings in order to reproduce any error or warning you see on this page. |
| Package 1353/2090 | Hostname | OS / Arch | INSTALL | BUILD | CHECK | BUILD BIN | ||||||||
| optimalFlow 1.7.0 (landing page) Hristo Inouzhe
| nebbiolo1 | Linux (Ubuntu 20.04.4 LTS) / x86_64 | OK | OK | OK | |||||||||
| riesling1 | Windows Server 2019 Standard / x64 | OK | OK | OK | OK | |||||||||
| palomino3 | Windows Server 2022 Datacenter / x64 | OK | OK | OK | OK | |||||||||
| merida1 | macOS 10.14.6 Mojave / x86_64 | OK | OK | OK | OK | |||||||||
| Package: optimalFlow |
| Version: 1.7.0 |
| Command: rm -rf optimalFlow.buildbin-libdir && mkdir optimalFlow.buildbin-libdir && D:\biocbuild\bbs-3.15-bioc\R\bin\R.exe CMD INSTALL --build --library=optimalFlow.buildbin-libdir optimalFlow_1.7.0.tar.gz |
| StartedAt: 2022-03-17 21:26:35 -0400 (Thu, 17 Mar 2022) |
| EndedAt: 2022-03-17 21:27:39 -0400 (Thu, 17 Mar 2022) |
| EllapsedTime: 64.3 seconds |
| RetCode: 0 |
| Status: OK |
| PackageFile: optimalFlow_1.7.0.zip |
| PackageFileSize: 799.3 KiB |
##############################################################################
##############################################################################
###
### Running command:
###
### rm -rf optimalFlow.buildbin-libdir && mkdir optimalFlow.buildbin-libdir && D:\biocbuild\bbs-3.15-bioc\R\bin\R.exe CMD INSTALL --build --library=optimalFlow.buildbin-libdir optimalFlow_1.7.0.tar.gz
###
##############################################################################
##############################################################################
* installing *source* package 'optimalFlow' ...
** using staged installation
** R
** inst
** byte-compile and prepare package for lazy loading
** help
*** installing help indices
converting help for package 'optimalFlow'
finding HTML links ... done
costWasserMatchingEllipse html
cytoPlot html
cytoPlot3d html
cytoPlotDatabase html
cytoPlotDatabase3d html
estimCovCellGeneral html
estimationCellBarycenter html
f1Score html
f1ScoreVoting html
labelTransfer html
labelTransferEllipse html
optimalFlowClassification html
optimalFlowTemplates html
qdaClassification html
tclustWithInitialization html
tclust_H html
trimmedKBarycenter html
voteLabelTransfer html
w2dist html
wasserCostFunction html
** building package indices
** installing vignettes
** testing if installed package can be loaded from temporary location
** testing if installed package can be loaded from final location
** testing if installed package keeps a record of temporary installation path
* MD5 sums
packaged installation of 'optimalFlow' as optimalFlow_1.7.0.zip
* DONE (optimalFlow)