| Back to Multiple platform build/check report for BioC 3.15 | 
 | 
This page was generated on 2022-10-19 13:23:25 -0400 (Wed, 19 Oct 2022).
| Hostname | OS | Arch (*) | R version | Installed pkgs | 
|---|---|---|---|---|
| nebbiolo1 | Linux (Ubuntu 20.04.5 LTS) | x86_64 | 4.2.1 (2022-06-23) -- "Funny-Looking Kid" | 4386 | 
| palomino3 | Windows Server 2022 Datacenter | x64 | 4.2.1 (2022-06-23 ucrt) -- "Funny-Looking Kid" | 4138 | 
| merida1 | macOS 10.14.6 Mojave | x86_64 | 4.2.1 (2022-06-23) -- "Funny-Looking Kid" | 4205 | 
| Click on any hostname to see more info about the system (e.g. compilers) (*) as reported by 'uname -p', except on Windows and Mac OS X | ||||
| To the developers/maintainers of the openPrimeRui package: - Please allow up to 24 hours (and sometimes 48 hours) for your latest push to git@git.bioconductor.org:packages/openPrimeRui.git to reflect on this report. See How and When does the builder pull? When will my changes propagate? for more information. - Make sure to use the following settings in order to reproduce any error or warning you see on this page. | 
| Package 1377/2140 | Hostname | OS / Arch | INSTALL | BUILD | CHECK | BUILD BIN | ||||||||
| openPrimeRui 1.18.0  (landing page) Matthias Döring 
 | nebbiolo1 | Linux (Ubuntu 20.04.5 LTS) / x86_64 | OK | OK | OK |  | ||||||||
| palomino3 | Windows Server 2022 Datacenter / x64 | OK | OK | OK | OK |  | ||||||||
| merida1 | macOS 10.14.6 Mojave / x86_64 | OK | OK | OK | OK |  | ||||||||
| Package: openPrimeRui | 
| Version: 1.18.0 | 
| Command: rm -rf openPrimeRui.buildbin-libdir && mkdir openPrimeRui.buildbin-libdir && /Users/biocbuild/BBS/utils/build-universal.sh openPrimeRui_1.18.0.tar.gz /Library/Frameworks/R.framework/Resources/bin/R openPrimeRui.buildbin-libdir | 
| StartedAt: 2022-10-19 10:50:43 -0400 (Wed, 19 Oct 2022) | 
| EndedAt: 2022-10-19 10:51:16 -0400 (Wed, 19 Oct 2022) | 
| EllapsedTime: 33.8 seconds | 
| RetCode: 0 | 
| Status: OK | 
| PackageFile: openPrimeRui_1.18.0.tgz | 
| PackageFileSize: 2.385 MiB | 
############################################################################## ############################################################################## ### ### Running command: ### ### rm -rf openPrimeRui.buildbin-libdir && mkdir openPrimeRui.buildbin-libdir && /Users/biocbuild/BBS/utils/build-universal.sh openPrimeRui_1.18.0.tar.gz /Library/Frameworks/R.framework/Resources/bin/R openPrimeRui.buildbin-libdir ### ############################################################################## ############################################################################## >>>>>>> >>>>>>> INSTALLATION WITH 'R CMD INSTALL --preclean --no-multiarch --library=openPrimeRui.buildbin-libdir openPrimeRui_1.18.0.tar.gz' >>>>>>> * installing *source* package ‘openPrimeRui’ ... ** using staged installation ** R ** inst ** byte-compile and prepare package for lazy loading The number of cores for was set to '2' by 'parallel_setup()'. ** help *** installing help indices ** building package indices ** installing vignettes ** testing if installed package can be loaded from temporary location The number of cores for was set to '2' by 'parallel_setup()'. ** testing if installed package can be loaded from final location The number of cores for was set to '2' by 'parallel_setup()'. ** testing if installed package keeps a record of temporary installation path * DONE (openPrimeRui)