Back to Multiple platform build/check report for BioC 3.15 |
|
This page was generated on 2022-03-18 11:08:12 -0400 (Fri, 18 Mar 2022).
Hostname | OS | Arch (*) | R version | Installed pkgs |
---|---|---|---|---|
nebbiolo1 | Linux (Ubuntu 20.04.4 LTS) | x86_64 | R Under development (unstable) (2022-02-17 r81757) -- "Unsuffered Consequences" | 4334 |
riesling1 | Windows Server 2019 Standard | x64 | R Under development (unstable) (2021-11-21 r81221) -- "Unsuffered Consequences" | 4097 |
palomino3 | Windows Server 2022 Datacenter | x64 | R Under development (unstable) (2022-02-17 r81757 ucrt) -- "Unsuffered Consequences" | 4083 |
merida1 | macOS 10.14.6 Mojave | x86_64 | R Under development (unstable) (2022-03-02 r81842) -- "Unsuffered Consequences" | 4134 |
Click on any hostname to see more info about the system (e.g. compilers) (*) as reported by 'uname -p', except on Windows and Mac OS X |
To the developers/maintainers of the oligoClasses package: - Please allow up to 24 hours (and sometimes 48 hours) for your latest push to git@git.bioconductor.org:packages/oligoClasses.git to reflect on this report. See How and When does the builder pull? When will my changes propagate? here for more information. - Make sure to use the following settings in order to reproduce any error or warning you see on this page. |
Package 1326/2090 | Hostname | OS / Arch | INSTALL | BUILD | CHECK | BUILD BIN | ||||||||
oligoClasses 1.57.0 (landing page) Benilton Carvalho
| nebbiolo1 | Linux (Ubuntu 20.04.4 LTS) / x86_64 | OK | OK | WARNINGS | |||||||||
riesling1 | Windows Server 2019 Standard / x64 | OK | OK | WARNINGS | OK | |||||||||
palomino3 | Windows Server 2022 Datacenter / x64 | OK | OK | WARNINGS | OK | |||||||||
merida1 | macOS 10.14.6 Mojave / x86_64 | OK | OK | WARNINGS | OK | |||||||||
Package: oligoClasses |
Version: 1.57.0 |
Command: D:\biocbuild\bbs-3.15-bioc\R\bin\R.exe CMD INSTALL oligoClasses |
StartedAt: 2022-03-17 15:40:49 -0400 (Thu, 17 Mar 2022) |
EndedAt: 2022-03-17 15:42:21 -0400 (Thu, 17 Mar 2022) |
EllapsedTime: 91.8 seconds |
RetCode: 0 |
Status: OK |
############################################################################## ############################################################################## ### ### Running command: ### ### D:\biocbuild\bbs-3.15-bioc\R\bin\R.exe CMD INSTALL oligoClasses ### ############################################################################## ############################################################################## * installing to library 'D:/biocbuild/bbs-3.15-bioc/R/library' * installing *source* package 'oligoClasses' ... ** using staged installation ** R ** data ** inst ** byte-compile and prepare package for lazy loading ** help *** installing help indices converting help for package 'oligoClasses' finding HTML links ... done AlleleSet-class html finding level-2 HTML links ... done AlleleSet-methods html AssayData-methods html AssayDataList html BeadStudioSet-class html BeadStudioSetList-class html CNSet-class html ClassesNotExported html CopyNumberSet-class html CopyNumberSet-methods html DBPDInfo-class html FeatureSetExtensions-class html GRanges-methods html GenomeAnnotatedDataFrame-class html GenomeAnnotatedDataFrameFrom-methods html SnpSet-methods html SnpSet2-class html SnpSuperSet-class html SummarizedExperiment-methods html affyPlatforms html annotationPackages html assayDataList-methods html REDIRECT:topic Previous alias or file overwritten by alias: D:/biocbuild/bbs-3.15-bioc/R/library/00LOCK-oligoClasses/00new/oligoClasses/help/assayDataList.html batch html batchStatistics html celfileDate html celfileName html checkExists html checkOrder html chromosome-methods html chromosome2integer html clusterOpts html clusterOptsDeprecated html createFF html data-efsExample html data-scqsExample html data-sfsExample html data-sqsExample html db html defunct html exprs-methods html featureDataList-methods html ff_matrix html ff_or_matrix-class html ffdf html fileConnections html flags html gSet-class html gSetList-class html generics html genomeBuild html geometry-methods html getBar html getSequenceLengths html i2p_p2i html integerMatrix html is.ffmatrix html isPackageLoaded html isSnp-methods html kind html largeObjects html ldOpts html length-methods html library2 html list.celfiles html locusLevelData html makeFeatureGRanges html manufacturer-methods html ocLapply html oligoSetExample html oligoSnpSet-methods html parStatus html pdPkgFromBioC html platform-methods html pmFragmentLength-methods html position-methods html requireAnnotation html requireClusterPkgSetDeprecated html sampleNames-methods html splitVec html ** building package indices ** installing vignettes ** testing if installed package can be loaded from temporary location ** testing if installed package can be loaded from final location ** testing if installed package keeps a record of temporary installation path * DONE (oligoClasses) Making 'packages.html' ...Warning in packageDescription(i, lib.loc = lib, fields = "Title", encoding = "UTF-8") : DESCRIPTION file of package 'sRACIPE' is missing or broken done