| Back to Multiple platform build/check report for BioC 3.15 |
|
This page was generated on 2022-03-18 11:08:11 -0400 (Fri, 18 Mar 2022).
| Hostname | OS | Arch (*) | R version | Installed pkgs |
|---|---|---|---|---|
| nebbiolo1 | Linux (Ubuntu 20.04.4 LTS) | x86_64 | R Under development (unstable) (2022-02-17 r81757) -- "Unsuffered Consequences" | 4334 |
| riesling1 | Windows Server 2019 Standard | x64 | R Under development (unstable) (2021-11-21 r81221) -- "Unsuffered Consequences" | 4097 |
| palomino3 | Windows Server 2022 Datacenter | x64 | R Under development (unstable) (2022-02-17 r81757 ucrt) -- "Unsuffered Consequences" | 4083 |
| merida1 | macOS 10.14.6 Mojave | x86_64 | R Under development (unstable) (2022-03-02 r81842) -- "Unsuffered Consequences" | 4134 |
| Click on any hostname to see more info about the system (e.g. compilers) (*) as reported by 'uname -p', except on Windows and Mac OS X | ||||
|
To the developers/maintainers of the nucleR package: - Please allow up to 24 hours (and sometimes 48 hours) for your latest push to git@git.bioconductor.org:packages/nucleR.git to reflect on this report. See How and When does the builder pull? When will my changes propagate? here for more information. - Make sure to use the following settings in order to reproduce any error or warning you see on this page. |
| Package 1315/2090 | Hostname | OS / Arch | INSTALL | BUILD | CHECK | BUILD BIN | ||||||||
| nucleR 2.27.1 (landing page) Alba Sala
| nebbiolo1 | Linux (Ubuntu 20.04.4 LTS) / x86_64 | OK | OK | WARNINGS | |||||||||
| riesling1 | Windows Server 2019 Standard / x64 | OK | OK | WARNINGS | OK | |||||||||
| palomino3 | Windows Server 2022 Datacenter / x64 | OK | OK | WARNINGS | OK | |||||||||
| merida1 | macOS 10.14.6 Mojave / x86_64 | OK | OK | WARNINGS | OK | |||||||||
| Package: nucleR |
| Version: 2.27.1 |
| Command: rm -rf nucleR.buildbin-libdir && mkdir nucleR.buildbin-libdir && D:\biocbuild\bbs-3.15-bioc\R\bin\R.exe CMD INSTALL --build --library=nucleR.buildbin-libdir nucleR_2.27.1.tar.gz |
| StartedAt: 2022-03-17 21:25:48 -0400 (Thu, 17 Mar 2022) |
| EndedAt: 2022-03-17 21:26:54 -0400 (Thu, 17 Mar 2022) |
| EllapsedTime: 66.5 seconds |
| RetCode: 0 |
| Status: OK |
| PackageFile: nucleR_2.27.1.zip |
| PackageFileSize: 1.345 MiB |
##############################################################################
##############################################################################
###
### Running command:
###
### rm -rf nucleR.buildbin-libdir && mkdir nucleR.buildbin-libdir && D:\biocbuild\bbs-3.15-bioc\R\bin\R.exe CMD INSTALL --build --library=nucleR.buildbin-libdir nucleR_2.27.1.tar.gz
###
##############################################################################
##############################################################################
* installing *source* package 'nucleR' ...
** using staged installation
** R
** data
** inst
** byte-compile and prepare package for lazy loading
** help
*** installing help indices
converting help for package 'nucleR'
finding HTML links ... done
controlCorrection html
coverage.rpm html
dot-fftRegion html
dot-getThreshold html
dot-loadFiles html
dot-loadPairedBam html
dot-loadSingleBam html
dot-mid html
dot-processStrand html
dot-unlist_as_integer html
dot-vectorizedAll html
dot-xlapply html
export.bed html
export.wig html
filterFFT html
fragmentLenDetect html
mergeCalls html
nucleR-package html
nucleosome_htseq html
nucleosome_tiling html
pcKeepCompDetect html
peakDetection html
peakScoring html
plotPeaks html
processReads html
processTilingArray html
readBAM html
readBowtie html
syntheticNucMap html
** building package indices
** installing vignettes
** testing if installed package can be loaded from temporary location
** testing if installed package can be loaded from final location
** testing if installed package keeps a record of temporary installation path
* MD5 sums
packaged installation of 'nucleR' as nucleR_2.27.1.zip
* DONE (nucleR)