| Back to Multiple platform build/check report for BioC 3.15 |
|
This page was generated on 2022-03-18 11:08:10 -0400 (Fri, 18 Mar 2022).
| Hostname | OS | Arch (*) | R version | Installed pkgs |
|---|---|---|---|---|
| nebbiolo1 | Linux (Ubuntu 20.04.4 LTS) | x86_64 | R Under development (unstable) (2022-02-17 r81757) -- "Unsuffered Consequences" | 4334 |
| riesling1 | Windows Server 2019 Standard | x64 | R Under development (unstable) (2021-11-21 r81221) -- "Unsuffered Consequences" | 4097 |
| palomino3 | Windows Server 2022 Datacenter | x64 | R Under development (unstable) (2022-02-17 r81757 ucrt) -- "Unsuffered Consequences" | 4083 |
| merida1 | macOS 10.14.6 Mojave | x86_64 | R Under development (unstable) (2022-03-02 r81842) -- "Unsuffered Consequences" | 4134 |
| Click on any hostname to see more info about the system (e.g. compilers) (*) as reported by 'uname -p', except on Windows and Mac OS X | ||||
|
To the developers/maintainers of the netZooR package: - Please allow up to 24 hours (and sometimes 48 hours) for your latest push to git@git.bioconductor.org:packages/netZooR.git to reflect on this report. See How and When does the builder pull? When will my changes propagate? here for more information. - Make sure to use the following settings in order to reproduce any error or warning you see on this page. |
| Package 1299/2090 | Hostname | OS / Arch | INSTALL | BUILD | CHECK | BUILD BIN | ||||||||
| netZooR 0.99.85 (landing page) Marouen Ben Guebila
| nebbiolo1 | Linux (Ubuntu 20.04.4 LTS) / x86_64 | OK | OK | OK | |||||||||
| riesling1 | Windows Server 2019 Standard / x64 | OK | OK | OK | OK | |||||||||
| palomino3 | Windows Server 2022 Datacenter / x64 | OK | OK | OK | OK | |||||||||
| merida1 | macOS 10.14.6 Mojave / x86_64 | OK | OK | OK | OK | |||||||||
| Package: netZooR |
| Version: 0.99.85 |
| Command: rm -rf netZooR.buildbin-libdir && mkdir netZooR.buildbin-libdir && D:\biocbuild\bbs-3.15-bioc\R\bin\R.exe CMD INSTALL --build --library=netZooR.buildbin-libdir netZooR_0.99.85.tar.gz |
| StartedAt: 2022-03-17 21:25:21 -0400 (Thu, 17 Mar 2022) |
| EndedAt: 2022-03-17 21:26:32 -0400 (Thu, 17 Mar 2022) |
| EllapsedTime: 71.2 seconds |
| RetCode: 0 |
| Status: OK |
| PackageFile: netZooR_0.99.85.zip |
| PackageFileSize: 3.594 MiB |
##############################################################################
##############################################################################
###
### Running command:
###
### rm -rf netZooR.buildbin-libdir && mkdir netZooR.buildbin-libdir && D:\biocbuild\bbs-3.15-bioc\R\bin\R.exe CMD INSTALL --build --library=netZooR.buildbin-libdir netZooR_0.99.85.tar.gz
###
##############################################################################
##############################################################################
* installing *source* package 'netZooR' ...
** using staged installation
** R
** data
** inst
** byte-compile and prepare package for lazy loading
** help
*** installing help indices
converting help for package 'netZooR'
finding HTML links ... done
alpaca html
alpacaCommunityStructureRotation html
alpacaComputeDWBMmatmScale html
alpacaComputeWBMmat html
alpacaDeltaZAnalysis html
alpacaDeltaZAnalysisLouvain html
alpacaExtractTopGenes html
alpacaGOtabtogenes html
alpacaGenLouvain html
alpacaGoToGenes html
alpacaListToGo html
alpacaMetaNetwork html
alpacaNodeToGene html
alpacaRotationAnalysis html
alpacaRotationAnalysisLouvain html
alpacaSimulateNetwork html
alpacaTestNodeRank html
alpacaTidyConfig html
alpacaTopEnsembltoTopSym html
alpacaWBMlouvain html
condorCluster html
condorCoreEnrich html
condorMatrixModularity html
condorModularityMax html
condorPlotCommunities html
condorPlotHeatmap html
condorQscore html
createCondorObject html
createPandaStyle html
exon.size html
genes html
lioness html
lionessPy html
monster html
monsterBereFull html
monsterCalculateTmPValues html
monsterCheckDataType html
monsterGetTm html
monsterHclHeatmapPlot html
monsterMonsterNI html
monsterPlotMonsterAnalysis html
monsterPrintMonsterAnalysis html
monsterRes html
monsterTransformationMatrix html
monsterTransitionNetworkPlot html
monsterTransitionPCAPlot html
monsterdTFIPlot html
mut.ucec html
otter html
pandaPy html
pandaToAlpaca html
pandaToCondorObject html
runEgret html
sambar html
sambarConvertgmt html
sambarCorgenelength html
sambarDesparsify html
small1976 html
sourcePPI html
visPandaInCytoscape html
yeast html
** building package indices
** installing vignettes
** testing if installed package can be loaded from temporary location
** testing if installed package can be loaded from final location
** testing if installed package keeps a record of temporary installation path
* MD5 sums
packaged installation of 'netZooR' as netZooR_0.99.85.zip
* DONE (netZooR)