| Back to Multiple platform build/check report for BioC 3.15 |
|
This page was generated on 2022-03-18 11:08:10 -0400 (Fri, 18 Mar 2022).
| Hostname | OS | Arch (*) | R version | Installed pkgs |
|---|---|---|---|---|
| nebbiolo1 | Linux (Ubuntu 20.04.4 LTS) | x86_64 | R Under development (unstable) (2022-02-17 r81757) -- "Unsuffered Consequences" | 4334 |
| riesling1 | Windows Server 2019 Standard | x64 | R Under development (unstable) (2021-11-21 r81221) -- "Unsuffered Consequences" | 4097 |
| palomino3 | Windows Server 2022 Datacenter | x64 | R Under development (unstable) (2022-02-17 r81757 ucrt) -- "Unsuffered Consequences" | 4083 |
| merida1 | macOS 10.14.6 Mojave | x86_64 | R Under development (unstable) (2022-03-02 r81842) -- "Unsuffered Consequences" | 4134 |
| Click on any hostname to see more info about the system (e.g. compilers) (*) as reported by 'uname -p', except on Windows and Mac OS X | ||||
|
To the developers/maintainers of the netOmics package: - Please allow up to 24 hours (and sometimes 48 hours) for your latest push to git@git.bioconductor.org:packages/netOmics.git to reflect on this report. See How and When does the builder pull? When will my changes propagate? here for more information. - Make sure to use the following settings in order to reproduce any error or warning you see on this page. |
| Package 1292/2090 | Hostname | OS / Arch | INSTALL | BUILD | CHECK | BUILD BIN | ||||||||
| netOmics 1.1.0 (landing page) Antoine Bodein
| nebbiolo1 | Linux (Ubuntu 20.04.4 LTS) / x86_64 | OK | OK | OK | |||||||||
| riesling1 | Windows Server 2019 Standard / x64 | OK | OK | OK | OK | |||||||||
| palomino3 | Windows Server 2022 Datacenter / x64 | OK | OK | OK | OK | |||||||||
| merida1 | macOS 10.14.6 Mojave / x86_64 | OK | OK | OK | OK | |||||||||
| Package: netOmics |
| Version: 1.1.0 |
| Command: D:\biocbuild\bbs-3.15-bioc\R\bin\R.exe CMD check --no-multiarch --install=check:netOmics.install-out.txt --library=D:\biocbuild\bbs-3.15-bioc\R\library --no-vignettes --timings netOmics_1.1.0.tar.gz |
| StartedAt: 2022-03-17 19:43:42 -0400 (Thu, 17 Mar 2022) |
| EndedAt: 2022-03-17 19:46:54 -0400 (Thu, 17 Mar 2022) |
| EllapsedTime: 191.6 seconds |
| RetCode: 0 |
| Status: OK |
| CheckDir: netOmics.Rcheck |
| Warnings: 0 |
##############################################################################
##############################################################################
###
### Running command:
###
### D:\biocbuild\bbs-3.15-bioc\R\bin\R.exe CMD check --no-multiarch --install=check:netOmics.install-out.txt --library=D:\biocbuild\bbs-3.15-bioc\R\library --no-vignettes --timings netOmics_1.1.0.tar.gz
###
##############################################################################
##############################################################################
* using log directory 'D:/biocbuild/bbs-3.15-bioc/meat/netOmics.Rcheck'
* using R Under development (unstable) (2021-11-21 r81221)
* using platform: x86_64-w64-mingw32 (64-bit)
* using session charset: ISO8859-1
* using option '--no-vignettes'
* checking for file 'netOmics/DESCRIPTION' ... OK
* this is package 'netOmics' version '1.1.0'
* package encoding: UTF-8
* checking package namespace information ... OK
* checking package dependencies ... OK
* checking if this is a source package ... OK
* checking if there is a namespace ... OK
* checking for hidden files and directories ... OK
* checking for portable file names ... OK
* checking whether package 'netOmics' can be installed ... OK
* checking installed package size ... OK
* checking package directory ... OK
* checking 'build' directory ... OK
* checking DESCRIPTION meta-information ... OK
* checking top-level files ... OK
* checking for left-over files ... OK
* checking index information ... OK
* checking package subdirectories ... OK
* checking R files for non-ASCII characters ... OK
* checking R files for syntax errors ... OK
* checking whether the package can be loaded ... OK
* checking whether the package can be loaded with stated dependencies ... OK
* checking whether the package can be unloaded cleanly ... OK
* checking whether the namespace can be loaded with stated dependencies ... OK
* checking whether the namespace can be unloaded cleanly ... OK
* checking dependencies in R code ... OK
* checking S3 generic/method consistency ... OK
* checking replacement functions ... OK
* checking foreign function calls ... OK
* checking R code for possible problems ... NOTE
.interaction_from_dataframe: no visible binding for global variable '.'
.rwr_find_closest: no visible binding for global variable 'SeedName'
.rwr_find_closest: no visible binding for global variable 'NodeNames'
.rwr_find_closest: no visible binding for global variable 'Score'
.rwr_find_closest: no visible binding for global variable 'attribute'
.rwr_find_closest: no visible binding for global variable 'value'
combine_layers: no visible binding for global variable '.'
get_grn: no visible binding for global variable '.'
get_interaction_from_ORA: no visible binding for global variable
'significant'
get_interaction_from_ORA: no visible binding for global variable
'term_id'
get_interaction_from_ORA: no visible binding for global variable
'target'
get_interaction_from_ORA: no visible binding for global variable
'input'
plot_rwr_subnetwork: no visible binding for global variable 'rwr'
plot_rwr_subnetwork: no visible binding for global variable 'type'
plot_rwr_subnetwork: no visible binding for global variable 'N'
plot_rwr_subnetwork: no visible global function definition for 'title'
plot_rwr_subnetwork: no visible binding for global variable 'name'
rwr_top_k_graph: no visible binding for global variable 'SeedName'
rwr_top_k_graph: no visible binding for global variable 'Score'
rwr_top_k_graph: no visible binding for global variable 'NodeNames'
summary_plot_rwr_attributes: no visible binding for global variable
'seed'
summary_plot_rwr_attributes: no visible binding for global variable 'N'
summary_plot_rwr_attributes: no visible binding for global variable
'type'
Undefined global functions or variables:
. N NodeNames Score SeedName attribute input name rwr seed
significant target term_id title type value
Consider adding
importFrom("graphics", "title")
to your NAMESPACE file.
* checking Rd files ... OK
* checking Rd metadata ... OK
* checking Rd cross-references ... OK
* checking for missing documentation entries ... OK
* checking for code/documentation mismatches ... OK
* checking Rd \usage sections ... OK
* checking Rd contents ... OK
* checking for unstated dependencies in examples ... OK
* checking contents of 'data' directory ... OK
* checking data for non-ASCII characters ... OK
* checking data for ASCII and uncompressed saves ... OK
* checking files in 'vignettes' ... OK
* checking examples ... OK
Examples with CPU (user + system) or elapsed time > 5s
user system elapsed
get_interaction_from_ORA 0.23 0 9.39
* checking for unstated dependencies in 'tests' ... OK
* checking tests ...
Running 'testthat.R'
OK
* checking for unstated dependencies in vignettes ... OK
* checking package vignettes in 'inst/doc' ... OK
* checking running R code from vignettes ... SKIPPED
* checking re-building of vignette outputs ... SKIPPED
* checking PDF version of manual ... OK
* DONE
Status: 1 NOTE
See
'D:/biocbuild/bbs-3.15-bioc/meat/netOmics.Rcheck/00check.log'
for details.
netOmics.Rcheck/00install.out
##############################################################################
##############################################################################
###
### Running command:
###
### D:\biocbuild\bbs-3.15-bioc\R\bin\R.exe CMD INSTALL netOmics
###
##############################################################################
##############################################################################
* installing to library 'D:/biocbuild/bbs-3.15-bioc/R/library'
* installing *source* package 'netOmics' ...
** using staged installation
** R
** data
** inst
** byte-compile and prepare package for lazy loading
** help
*** installing help indices
converting help for package 'netOmics'
finding HTML links ... done
combine_layers html
get_ORA html
get_go_info html
get_graph_stats html
get_grn html
get_interaction_from_ORA html
get_interaction_from_correlation html
get_interaction_from_database html
hmp_T2D html
netOmics html
plot_rwr_subnetwork html
random_walk_restart html
rwr_find_closest_type html
rwr_find_seeds_between_attributes html
summary_plot_rwr_attributes html
** building package indices
** installing vignettes
** testing if installed package can be loaded from temporary location
** testing if installed package can be loaded from final location
** testing if installed package keeps a record of temporary installation path
* DONE (netOmics)
Making 'packages.html' ...Warning in packageDescription(i, lib.loc = lib, fields = "Title", encoding = "UTF-8") :
DESCRIPTION file of package 'SigCheck' is missing or broken
done
netOmics.Rcheck/tests/testthat.Rout
R Under development (unstable) (2021-11-21 r81221) -- "Unsuffered Consequences"
Copyright (C) 2021 The R Foundation for Statistical Computing
Platform: x86_64-w64-mingw32/x64 (64-bit)
R is free software and comes with ABSOLUTELY NO WARRANTY.
You are welcome to redistribute it under certain conditions.
Type 'license()' or 'licence()' for distribution details.
R is a collaborative project with many contributors.
Type 'contributors()' for more information and
'citation()' on how to cite R or R packages in publications.
Type 'demo()' for some demos, 'help()' for on-line help, or
'help.start()' for an HTML browser interface to help.
Type 'q()' to quit R.
> library(testthat)
> library(netOmics)
>
> test_check("netOmics")
[ FAIL 0 | WARN 0 | SKIP 0 | PASS 140 ]
>
> proc.time()
user system elapsed
16.28 1.06 51.96
netOmics.Rcheck/netOmics-Ex.timings
| name | user | system | elapsed | |
| combine_layers | 0.03 | 0.00 | 0.03 | |
| get_graph_stats | 0.01 | 0.00 | 0.02 | |
| get_grn | 2.33 | 0.10 | 2.42 | |
| get_interaction_from_ORA | 0.23 | 0.00 | 9.39 | |
| get_interaction_from_correlation | 0 | 0 | 0 | |
| get_interaction_from_database | 0.03 | 0.00 | 0.03 | |
| plot_rwr_subnetwork | 0.25 | 0.00 | 0.25 | |
| random_walk_restart | 0.21 | 0.04 | 0.25 | |
| rwr_find_closest_type | 0.25 | 0.03 | 0.28 | |
| rwr_find_seeds_between_attributes | 0.62 | 0.00 | 0.63 | |
| summary_plot_rwr_attributes | 0.56 | 0.00 | 0.56 | |