| Back to Multiple platform build/check report for BioC 3.15 |
|
This page was generated on 2022-10-19 13:20:36 -0400 (Wed, 19 Oct 2022).
| Hostname | OS | Arch (*) | R version | Installed pkgs |
|---|---|---|---|---|
| nebbiolo1 | Linux (Ubuntu 20.04.5 LTS) | x86_64 | 4.2.1 (2022-06-23) -- "Funny-Looking Kid" | 4386 |
| palomino3 | Windows Server 2022 Datacenter | x64 | 4.2.1 (2022-06-23 ucrt) -- "Funny-Looking Kid" | 4138 |
| merida1 | macOS 10.14.6 Mojave | x86_64 | 4.2.1 (2022-06-23) -- "Funny-Looking Kid" | 4205 |
| Click on any hostname to see more info about the system (e.g. compilers) (*) as reported by 'uname -p', except on Windows and Mac OS X | ||||
|
To the developers/maintainers of the netDx package: - Please allow up to 24 hours (and sometimes 48 hours) for your latest push to git@git.bioconductor.org:packages/netDx.git to reflect on this report. See How and When does the builder pull? When will my changes propagate? for more information. - Make sure to use the following settings in order to reproduce any error or warning you see on this page. |
| Package 1316/2140 | Hostname | OS / Arch | INSTALL | BUILD | CHECK | BUILD BIN | ||||||||
| netDx 1.8.0 (landing page) Shraddha Pai
| nebbiolo1 | Linux (Ubuntu 20.04.5 LTS) / x86_64 | OK | OK | OK | |||||||||
| palomino3 | Windows Server 2022 Datacenter / x64 | ... NOT SUPPORTED ... | ||||||||||||
| merida1 | macOS 10.14.6 Mojave / x86_64 | OK | TIMEOUT | skipped | skipped | |||||||||
| Package: netDx |
| Version: 1.8.0 |
| Command: /home/biocbuild/bbs-3.15-bioc/R/bin/R CMD check --install=check:netDx.install-out.txt --library=/home/biocbuild/bbs-3.15-bioc/R/library --no-vignettes --timings netDx_1.8.0.tar.gz |
| StartedAt: 2022-10-18 20:50:49 -0400 (Tue, 18 Oct 2022) |
| EndedAt: 2022-10-18 21:01:54 -0400 (Tue, 18 Oct 2022) |
| EllapsedTime: 665.7 seconds |
| RetCode: 0 |
| Status: OK |
| CheckDir: netDx.Rcheck |
| Warnings: 0 |
##############################################################################
##############################################################################
###
### Running command:
###
### /home/biocbuild/bbs-3.15-bioc/R/bin/R CMD check --install=check:netDx.install-out.txt --library=/home/biocbuild/bbs-3.15-bioc/R/library --no-vignettes --timings netDx_1.8.0.tar.gz
###
##############################################################################
##############################################################################
* using log directory ‘/home/biocbuild/bbs-3.15-bioc/meat/netDx.Rcheck’
* using R version 4.2.1 (2022-06-23)
* using platform: x86_64-pc-linux-gnu (64-bit)
* using session charset: UTF-8
* using option ‘--no-vignettes’
* checking for file ‘netDx/DESCRIPTION’ ... OK
* this is package ‘netDx’ version ‘1.8.0’
* package encoding: UTF-8
* checking package namespace information ... OK
* checking package dependencies ... OK
* checking if this is a source package ... OK
* checking if there is a namespace ... OK
* checking for hidden files and directories ... NOTE
Found the following hidden files and directories:
.BBSoptions
These were most likely included in error. See section ‘Package
structure’ in the ‘Writing R Extensions’ manual.
* checking for portable file names ... OK
* checking for sufficient/correct file permissions ... OK
* checking whether package ‘netDx’ can be installed ... OK
* checking installed package size ... OK
* checking package directory ... OK
* checking ‘build’ directory ... OK
* checking DESCRIPTION meta-information ... NOTE
Malformed Description field: should contain one or more complete sentences.
* checking top-level files ... OK
* checking for left-over files ... OK
* checking index information ... OK
* checking package subdirectories ... NOTE
Found the following CITATION file in a non-standard place:
CITATION.cff
Most likely ‘inst/CITATION’ should be used instead.
* checking R files for non-ASCII characters ... OK
* checking R files for syntax errors ... OK
* checking whether the package can be loaded ... OK
* checking whether the package can be loaded with stated dependencies ... OK
* checking whether the package can be unloaded cleanly ... OK
* checking whether the namespace can be loaded with stated dependencies ... OK
* checking whether the namespace can be unloaded cleanly ... OK
* checking dependencies in R code ... OK
* checking S3 generic/method consistency ... OK
* checking replacement functions ... OK
* checking foreign function calls ... OK
* checking R code for possible problems ... OK
* checking Rd files ... OK
* checking Rd metadata ... OK
* checking Rd cross-references ... OK
* checking for missing documentation entries ... OK
* checking for code/documentation mismatches ... OK
* checking Rd \usage sections ... OK
* checking Rd contents ... OK
* checking for unstated dependencies in examples ... OK
* checking contents of ‘data’ directory ... OK
* checking data for non-ASCII characters ... OK
* checking data for ASCII and uncompressed saves ... OK
* checking files in ‘vignettes’ ... OK
* checking examples ... OK
Examples with CPU (user + system) or elapsed time > 5s
user system elapsed
buildPredictor 21.791 1.695 26.165
createPSN_MultiData 19.523 1.588 30.752
runFeatureSelection 7.687 0.528 4.622
smoothMutations_LabelProp 7.421 0.607 29.857
RR_featureTally 7.456 0.424 7.880
compileFeatures 6.481 0.463 19.053
thresholdSmoothedMutations 4.982 0.396 27.179
enrichLabelNets 1.821 0.155 53.010
getEnr 1.033 0.168 9.201
makePSN_NamedMatrix 0.083 0.007 8.468
countIntType_batch 0.029 0.000 8.450
* checking for unstated dependencies in ‘tests’ ... OK
* checking tests ...
Running ‘testthat.R’
OK
* checking for unstated dependencies in vignettes ... OK
* checking package vignettes in ‘inst/doc’ ... OK
* checking running R code from vignettes ... SKIPPED
* checking re-building of vignette outputs ... SKIPPED
* checking PDF version of manual ... OK
* DONE
Status: 3 NOTEs
See
‘/home/biocbuild/bbs-3.15-bioc/meat/netDx.Rcheck/00check.log’
for details.
netDx.Rcheck/00install.out
############################################################################## ############################################################################## ### ### Running command: ### ### /home/biocbuild/bbs-3.15-bioc/R/bin/R CMD INSTALL netDx ### ############################################################################## ############################################################################## * installing to library ‘/home/biocbuild/bbs-3.15-bioc/R/library’ * installing *source* package ‘netDx’ ... ** using staged installation ** R ** data ** inst ** byte-compile and prepare package for lazy loading ** help *** installing help indices ** building package indices ** installing vignettes ** testing if installed package can be loaded from temporary location ** testing if installed package can be loaded from final location ** testing if installed package keeps a record of temporary installation path * DONE (netDx)
netDx.Rcheck/tests/testthat.Rout
R version 4.2.1 (2022-06-23) -- "Funny-Looking Kid"
Copyright (C) 2022 The R Foundation for Statistical Computing
Platform: x86_64-pc-linux-gnu (64-bit)
R is free software and comes with ABSOLUTELY NO WARRANTY.
You are welcome to redistribute it under certain conditions.
Type 'license()' or 'licence()' for distribution details.
R is a collaborative project with many contributors.
Type 'contributors()' for more information and
'citation()' on how to cite R or R packages in publications.
Type 'demo()' for some demos, 'help()' for on-line help, or
'help.start()' for an HTML browser interface to help.
Type 'q()' to quit R.
> library(testthat)
> library(netDx)
Attaching package: 'netDx'
The following object is masked from 'package:stats':
predict
>
> test_check("netDx")
TT_STATUS
STATUS TEST TRAIN
LumA 52 178
notLumA 52 243
PRED_CLASS
STATUS LumA notLumA
LumA 41 11
notLumA 17 35
[1] TRUE
[ FAIL 0 | WARN 2 | SKIP 0 | PASS 39 ]
[ FAIL 0 | WARN 2 | SKIP 0 | PASS 39 ]
>
> proc.time()
user system elapsed
67.527 4.907 228.398
netDx.Rcheck/netDx-Ex.timings
| name | user | system | elapsed | |
| MB.pheno | 0.007 | 0.001 | 0.007 | |
| RR_featureTally | 7.456 | 0.424 | 7.880 | |
| avgNormDiff | 0.044 | 0.000 | 0.044 | |
| buildPredictor | 21.791 | 1.695 | 26.165 | |
| buildPredictor_sparseGenetic | 0.620 | 0.055 | 2.447 | |
| callFeatSel | 0.076 | 0.008 | 0.083 | |
| callOverallSelectedFeatures | 0.073 | 0.036 | 0.109 | |
| cleanPathwayName | 0.000 | 0.000 | 0.001 | |
| cnv_GR | 0.039 | 0.000 | 0.039 | |
| cnv_TTstatus | 0.007 | 0.028 | 0.034 | |
| cnv_netPass | 0.005 | 0.000 | 0.006 | |
| cnv_netScores | 0.000 | 0.032 | 0.032 | |
| cnv_patientNetCount | 0.192 | 0.150 | 0.341 | |
| cnv_pheno | 0.007 | 0.004 | 0.012 | |
| compareShortestPath | 0.019 | 0.004 | 0.022 | |
| compileFeatureScores | 0.008 | 0.000 | 0.009 | |
| compileFeatures | 6.481 | 0.463 | 19.053 | |
| confmat | 0.000 | 0.004 | 0.004 | |
| confusionMatrix | 0.124 | 0.000 | 0.124 | |
| convertToMAE | 0.159 | 0.000 | 0.159 | |
| countIntType | 0.001 | 0.000 | 0.001 | |
| countIntType_batch | 0.029 | 0.000 | 8.450 | |
| countPatientsInNet | 0.005 | 0.000 | 0.005 | |
| createPSN_MultiData | 19.523 | 1.588 | 30.752 | |
| dataList2List | 0.360 | 0.028 | 0.388 | |
| enrichLabelNets | 1.821 | 0.155 | 53.010 | |
| featScores | 0.020 | 0.036 | 0.055 | |
| fetchPathwayDefinitions | 0.295 | 0.012 | 0.495 | |
| genes | 0.003 | 0.000 | 0.003 | |
| getEMapInput | 0.734 | 0.072 | 0.843 | |
| getEMapInput_many | 0.723 | 0.095 | 0.850 | |
| getEnr | 1.033 | 0.168 | 9.201 | |
| getFeatureScores | 0.014 | 0.005 | 0.018 | |
| getFileSep | 0 | 0 | 0 | |
| getGMjar_path | 0.154 | 0.027 | 0.152 | |
| getNetConsensus | 0.013 | 0.000 | 0.013 | |
| getOR | 0.000 | 0.003 | 0.004 | |
| getPatientPredictions | 1.734 | 0.084 | 1.821 | |
| getPatientRankings | 0.069 | 0.012 | 0.081 | |
| getRegionOL | 0.353 | 0.052 | 0.404 | |
| getResults | 0.133 | 0.000 | 0.134 | |
| getSimilarity | 0.194 | 0.012 | 0.206 | |
| makePSN_NamedMatrix | 0.083 | 0.007 | 8.468 | |
| makePSN_RangeSets | 0.014 | 0.000 | 0.014 | |
| makeQueries | 0.001 | 0.007 | 0.008 | |
| makeSymmetric | 0.001 | 0.000 | 0.002 | |
| mapNamedRangesToSets | 0.027 | 0.008 | 0.036 | |
| modelres | 0.003 | 0.000 | 0.003 | |
| normDiff | 0.001 | 0.000 | 0.002 | |
| npheno | 0.003 | 0.000 | 0.002 | |
| pathwayList | 0.004 | 0.004 | 0.008 | |
| pathway_GR | 0.065 | 0.004 | 0.068 | |
| perfCalc | 0.002 | 0.000 | 0.002 | |
| pheno | 0.007 | 0.004 | 0.009 | |
| pheno_full | 0.003 | 0.000 | 0.003 | |
| plotEmap | 0.698 | 0.079 | 0.947 | |
| plotPerf | 1.285 | 0.060 | 1.345 | |
| plotPerf_multi | 0.033 | 0.004 | 0.037 | |
| predRes | 0.004 | 0.000 | 0.003 | |
| predictPatientLabels | 0.006 | 0.000 | 0.007 | |
| pruneNets | 0.009 | 0.000 | 0.010 | |
| randAlphanumString | 0.001 | 0.000 | 0.000 | |
| readPathways | 0.683 | 0.036 | 0.751 | |
| runFeatureSelection | 7.687 | 0.528 | 4.622 | |
| runQuery | 2.938 | 0.291 | 4.230 | |
| setupFeatureDB | 0.087 | 0.003 | 0.091 | |
| silh | 0.004 | 0.004 | 0.008 | |
| sim.eucscale | 0.308 | 0.059 | 0.368 | |
| sim.pearscale | 0.371 | 0.008 | 0.379 | |
| simpleCap | 0.000 | 0.001 | 0.000 | |
| smoothMutations_LabelProp | 7.421 | 0.607 | 29.857 | |
| sparsify2 | 0.295 | 0.060 | 0.356 | |
| sparsify3 | 0.258 | 0.032 | 0.289 | |
| splitTestTrain | 0.026 | 0.000 | 0.027 | |
| splitTestTrain_resampling | 0.006 | 0.000 | 0.006 | |
| tSNEPlotter | 0.742 | 0.052 | 0.794 | |
| thresholdSmoothedMutations | 4.982 | 0.396 | 27.179 | |
| toymodel | 1.015 | 2.447 | 3.462 | |
| updateNets | 0.008 | 0.000 | 0.008 | |
| writeNetsSIF | 0.008 | 0.000 | 0.007 | |
| writeQueryBatchFile | 0.004 | 0.000 | 0.004 | |
| writeQueryFile | 0.007 | 0.000 | 0.007 | |
| xpr | 0.048 | 0.020 | 0.068 | |