Back to Multiple platform build/check report for BioC 3.15 |
|
This page was generated on 2022-03-18 11:08:09 -0400 (Fri, 18 Mar 2022).
Hostname | OS | Arch (*) | R version | Installed pkgs |
---|---|---|---|---|
nebbiolo1 | Linux (Ubuntu 20.04.4 LTS) | x86_64 | R Under development (unstable) (2022-02-17 r81757) -- "Unsuffered Consequences" | 4334 |
riesling1 | Windows Server 2019 Standard | x64 | R Under development (unstable) (2021-11-21 r81221) -- "Unsuffered Consequences" | 4097 |
palomino3 | Windows Server 2022 Datacenter | x64 | R Under development (unstable) (2022-02-17 r81757 ucrt) -- "Unsuffered Consequences" | 4083 |
merida1 | macOS 10.14.6 Mojave | x86_64 | R Under development (unstable) (2022-03-02 r81842) -- "Unsuffered Consequences" | 4134 |
Click on any hostname to see more info about the system (e.g. compilers) (*) as reported by 'uname -p', except on Windows and Mac OS X |
To the developers/maintainers of the ncdfFlow package: - Please allow up to 24 hours (and sometimes 48 hours) for your latest push to git@git.bioconductor.org:packages/ncdfFlow.git to reflect on this report. See How and When does the builder pull? When will my changes propagate? here for more information. - Make sure to use the following settings in order to reproduce any error or warning you see on this page. |
Package 1278/2090 | Hostname | OS / Arch | INSTALL | BUILD | CHECK | BUILD BIN | ||||||||
ncdfFlow 2.41.0 (landing page) Mike Jiang
| nebbiolo1 | Linux (Ubuntu 20.04.4 LTS) / x86_64 | OK | OK | WARNINGS | |||||||||
riesling1 | Windows Server 2019 Standard / x64 | OK | OK | WARNINGS | OK | |||||||||
palomino3 | Windows Server 2022 Datacenter / x64 | OK | OK | WARNINGS | OK | |||||||||
merida1 | macOS 10.14.6 Mojave / x86_64 | OK | OK | WARNINGS | OK | |||||||||
Package: ncdfFlow |
Version: 2.41.0 |
Command: rm -rf ncdfFlow.buildbin-libdir && mkdir ncdfFlow.buildbin-libdir && D:\biocbuild\bbs-3.15-bioc\R\bin\R.exe CMD INSTALL --build --library=ncdfFlow.buildbin-libdir ncdfFlow_2.41.0.tar.gz |
StartedAt: 2022-03-17 21:24:49 -0400 (Thu, 17 Mar 2022) |
EndedAt: 2022-03-17 21:26:07 -0400 (Thu, 17 Mar 2022) |
EllapsedTime: 78.4 seconds |
RetCode: 0 |
Status: OK |
PackageFile: ncdfFlow_2.41.0.zip |
PackageFileSize: 2.385 MiB |
############################################################################## ############################################################################## ### ### Running command: ### ### rm -rf ncdfFlow.buildbin-libdir && mkdir ncdfFlow.buildbin-libdir && D:\biocbuild\bbs-3.15-bioc\R\bin\R.exe CMD INSTALL --build --library=ncdfFlow.buildbin-libdir ncdfFlow_2.41.0.tar.gz ### ############################################################################## ############################################################################## * installing *source* package 'ncdfFlow' ... ** using staged installation ** libs "C:/rtools40/mingw64/bin/"g++ -std=gnu++11 -I"D:/biocbuild/bbs-3.15-bioc/R/include" -DNDEBUG -I'D:/biocbuild/bbs-3.15-bioc/R/library/Rcpp/include' -I'D:/biocbuild/bbs-3.15-bioc/R/library/RcppArmadillo/include' -I'D:/biocbuild/bbs-3.15-bioc/R/library/BH/include' -I'D:/biocbuild/bbs-3.15-bioc/R/library/Rhdf5lib/include' -I"C:/extsoft/include" -O2 -Wall -mfpmath=sse -msse2 -mstackrealign -fno-reorder-blocks-and-partition -c RcppExports.cpp -o RcppExports.o "C:/rtools40/mingw64/bin/"g++ -std=gnu++11 -I"D:/biocbuild/bbs-3.15-bioc/R/include" -DNDEBUG -I'D:/biocbuild/bbs-3.15-bioc/R/library/Rcpp/include' -I'D:/biocbuild/bbs-3.15-bioc/R/library/RcppArmadillo/include' -I'D:/biocbuild/bbs-3.15-bioc/R/library/BH/include' -I'D:/biocbuild/bbs-3.15-bioc/R/library/Rhdf5lib/include' -I"C:/extsoft/include" -O2 -Wall -mfpmath=sse -msse2 -mstackrealign -fno-reorder-blocks-and-partition -c bitOps.cpp -o bitOps.o "C:/rtools40/mingw64/bin/"g++ -std=gnu++11 -I"D:/biocbuild/bbs-3.15-bioc/R/include" -DNDEBUG -I'D:/biocbuild/bbs-3.15-bioc/R/library/Rcpp/include' -I'D:/biocbuild/bbs-3.15-bioc/R/library/RcppArmadillo/include' -I'D:/biocbuild/bbs-3.15-bioc/R/library/BH/include' -I'D:/biocbuild/bbs-3.15-bioc/R/library/Rhdf5lib/include' -I"C:/extsoft/include" -O2 -Wall -mfpmath=sse -msse2 -mstackrealign -fno-reorder-blocks-and-partition -c hdfFlow.cpp -o hdfFlow.o In file included from D:/biocbuild/bbs-3.15-bioc/R/library/BH/include/boost/mpl/aux_/na_assert.hpp:23, from D:/biocbuild/bbs-3.15-bioc/R/library/BH/include/boost/mpl/arg.hpp:25, from D:/biocbuild/bbs-3.15-bioc/R/library/BH/include/boost/mpl/placeholders.hpp:24, from D:/biocbuild/bbs-3.15-bioc/R/library/BH/include/boost/iterator/iterator_categories.hpp:16, from D:/biocbuild/bbs-3.15-bioc/R/library/BH/include/boost/iterator/iterator_facade.hpp:13, from D:/biocbuild/bbs-3.15-bioc/R/library/BH/include/boost/range/iterator_range_core.hpp:27, from D:/biocbuild/bbs-3.15-bioc/R/library/BH/include/boost/lexical_cast.hpp:30, from hdfFlow.cpp:2: D:/biocbuild/bbs-3.15-bioc/R/library/BH/include/boost/mpl/assert.hpp:194:21: warning: unnecessary parentheses in declaration of 'assert_arg' [-Wparentheses] failed ************ (Pred::************ ^ D:/biocbuild/bbs-3.15-bioc/R/library/BH/include/boost/mpl/assert.hpp:199:21: warning: unnecessary parentheses in declaration of 'assert_not_arg' [-Wparentheses] failed ************ (boost::mpl::not_<Pred>::************ ^ hdfFlow.cpp: In function 'void readSlice_cpp(hid_t, hid_t, hid_t, std::vector<unsigned int>, unsigned int, unsigned int, double*, bool)': hdfFlow.cpp:486:14: warning: variable 'status' set but not used [-Wunused-but-set-variable] herr_t status; ^~~~~~ "C:/rtools40/mingw64/bin/"gcc -I"D:/biocbuild/bbs-3.15-bioc/R/include" -DNDEBUG -I'D:/biocbuild/bbs-3.15-bioc/R/library/Rcpp/include' -I'D:/biocbuild/bbs-3.15-bioc/R/library/RcppArmadillo/include' -I'D:/biocbuild/bbs-3.15-bioc/R/library/BH/include' -I'D:/biocbuild/bbs-3.15-bioc/R/library/Rhdf5lib/include' -I"C:/extsoft/include" -O2 -Wall -std=gnu99 -mfpmath=sse -msse2 -mstackrealign -fno-reorder-blocks-and-partition -c init.c -o init.o "C:/rtools40/mingw64/bin/"g++ -std=gnu++11 -I"D:/biocbuild/bbs-3.15-bioc/R/include" -DNDEBUG -I'D:/biocbuild/bbs-3.15-bioc/R/library/Rcpp/include' -I'D:/biocbuild/bbs-3.15-bioc/R/library/RcppArmadillo/include' -I'D:/biocbuild/bbs-3.15-bioc/R/library/BH/include' -I'D:/biocbuild/bbs-3.15-bioc/R/library/Rhdf5lib/include' -I"C:/extsoft/include" -O2 -Wall -mfpmath=sse -msse2 -mstackrealign -fno-reorder-blocks-and-partition -c readFrame.cpp -o readFrame.o mkdir -p "D:/biocbuild/bbs-3.15-bioc/meat/ncdfFlow.buildbin-libdir/00LOCK-ncdfFlow/00new/ncdfFlow/lib/x64" "C:/rtools40/mingw64/bin/"ar rs "D:/biocbuild/bbs-3.15-bioc/meat/ncdfFlow.buildbin-libdir/00LOCK-ncdfFlow/00new/ncdfFlow/lib/x64/libncdfFlow.a" RcppExports.o bitOps.o hdfFlow.o init.o readFrame.o C:\rtools40\mingw64\bin\ar.exe: creating D:/biocbuild/bbs-3.15-bioc/meat/ncdfFlow.buildbin-libdir/00LOCK-ncdfFlow/00new/ncdfFlow/lib/x64/libncdfFlow.a C:/rtools40/mingw64/bin/g++ -shared -s -static-libgcc -o ncdfFlow.dll tmp.def RcppExports.o bitOps.o hdfFlow.o init.o readFrame.o -LD:/biocbuild/bbs-3.15-bioc/R/library/Rhdf5lib/lib/x64 -lhdf5_cpp -lhdf5 -lcurl -lssh2 -lssl -lcrypto -lwldap32 -lws2_32 -lcrypt32 -lszip -lz -lpsapi -LC:/extsoft/lib/x64 -LC:/extsoft/lib -LD:/biocbuild/bbs-3.15-bioc/R/bin/x64 -lR installing to D:/biocbuild/bbs-3.15-bioc/meat/ncdfFlow.buildbin-libdir/00LOCK-ncdfFlow/00new/ncdfFlow/libs/x64 ** R ** inst ** byte-compile and prepare package for lazy loading ** help *** installing help indices converting help for package 'ncdfFlow' finding HTML links ... done Indices html as.flowSet html clone.ncdfFlowSet html extractFlowFrame html finding level-2 HTML links ... done flowSet-accessor html getFileName html lapply-methods html ncdfFlow html ncdfFlowList-class html ncdfFlowSet-Subset html ncdfFlowSet-class html ncdfFlowSet-constructor html ncdfFlowSet-split html ncfsApply-ncdfFlowSet-method html rbind2-method html read.ncdfFlowSet html REDIRECT:topic Previous alias or file overwritten by alias: D:/biocbuild/bbs-3.15-bioc/meat/ncdfFlow.buildbin-libdir/00LOCK-ncdfFlow/00new/ncdfFlow/help/read.ncdfFlowset.html replacement-method-for-ncdfFlowSet html save_ncfs html subset-functions html subset-methods html unlink-ncdfFlowSet-method html ** building package indices ** installing vignettes ** testing if installed package can be loaded from temporary location ** testing if installed package can be loaded from final location ** testing if installed package keeps a record of temporary installation path * MD5 sums packaged installation of 'ncdfFlow' as ncdfFlow_2.41.0.zip * DONE (ncdfFlow)