| Back to Multiple platform build/check report for BioC 3.15 |
|
This page was generated on 2022-03-18 11:08:07 -0400 (Fri, 18 Mar 2022).
| Hostname | OS | Arch (*) | R version | Installed pkgs |
|---|---|---|---|---|
| nebbiolo1 | Linux (Ubuntu 20.04.4 LTS) | x86_64 | R Under development (unstable) (2022-02-17 r81757) -- "Unsuffered Consequences" | 4334 |
| riesling1 | Windows Server 2019 Standard | x64 | R Under development (unstable) (2021-11-21 r81221) -- "Unsuffered Consequences" | 4097 |
| palomino3 | Windows Server 2022 Datacenter | x64 | R Under development (unstable) (2022-02-17 r81757 ucrt) -- "Unsuffered Consequences" | 4083 |
| merida1 | macOS 10.14.6 Mojave | x86_64 | R Under development (unstable) (2022-03-02 r81842) -- "Unsuffered Consequences" | 4134 |
| Click on any hostname to see more info about the system (e.g. compilers) (*) as reported by 'uname -p', except on Windows and Mac OS X | ||||
|
To the developers/maintainers of the multiHiCcompare package: - Please allow up to 24 hours (and sometimes 48 hours) for your latest push to git@git.bioconductor.org:packages/multiHiCcompare.git to reflect on this report. See How and When does the builder pull? When will my changes propagate? here for more information. - Make sure to use the following settings in order to reproduce any error or warning you see on this page. |
| Package 1250/2090 | Hostname | OS / Arch | INSTALL | BUILD | CHECK | BUILD BIN | ||||||||
| multiHiCcompare 1.13.0 (landing page) John Stansfield
| nebbiolo1 | Linux (Ubuntu 20.04.4 LTS) / x86_64 | OK | OK | OK | |||||||||
| riesling1 | Windows Server 2019 Standard / x64 | OK | OK | OK | OK | |||||||||
| palomino3 | Windows Server 2022 Datacenter / x64 | OK | OK | OK | OK | |||||||||
| merida1 | macOS 10.14.6 Mojave / x86_64 | OK | OK | OK | OK | |||||||||
| Package: multiHiCcompare |
| Version: 1.13.0 |
| Command: D:\biocbuild\bbs-3.15-bioc\R\bin\R.exe CMD check --no-multiarch --install=check:multiHiCcompare.install-out.txt --library=D:\biocbuild\bbs-3.15-bioc\R\library --no-vignettes --timings multiHiCcompare_1.13.0.tar.gz |
| StartedAt: 2022-03-17 19:41:29 -0400 (Thu, 17 Mar 2022) |
| EndedAt: 2022-03-17 19:45:13 -0400 (Thu, 17 Mar 2022) |
| EllapsedTime: 223.8 seconds |
| RetCode: 0 |
| Status: OK |
| CheckDir: multiHiCcompare.Rcheck |
| Warnings: 0 |
############################################################################## ############################################################################## ### ### Running command: ### ### D:\biocbuild\bbs-3.15-bioc\R\bin\R.exe CMD check --no-multiarch --install=check:multiHiCcompare.install-out.txt --library=D:\biocbuild\bbs-3.15-bioc\R\library --no-vignettes --timings multiHiCcompare_1.13.0.tar.gz ### ############################################################################## ############################################################################## * using log directory 'D:/biocbuild/bbs-3.15-bioc/meat/multiHiCcompare.Rcheck' * using R Under development (unstable) (2021-11-21 r81221) * using platform: x86_64-w64-mingw32 (64-bit) * using session charset: ISO8859-1 * using option '--no-vignettes' * checking for file 'multiHiCcompare/DESCRIPTION' ... OK * this is package 'multiHiCcompare' version '1.13.0' * package encoding: UTF-8 * checking package namespace information ... OK * checking package dependencies ... OK * checking if this is a source package ... OK * checking if there is a namespace ... OK * checking for hidden files and directories ... OK * checking for portable file names ... OK * checking whether package 'multiHiCcompare' can be installed ... OK * checking installed package size ... OK * checking package directory ... OK * checking 'build' directory ... OK * checking DESCRIPTION meta-information ... OK * checking top-level files ... OK * checking for left-over files ... OK * checking index information ... OK * checking package subdirectories ... OK * checking R files for non-ASCII characters ... OK * checking R files for syntax errors ... OK * checking whether the package can be loaded ... OK * checking whether the package can be loaded with stated dependencies ... OK * checking whether the package can be unloaded cleanly ... OK * checking whether the namespace can be loaded with stated dependencies ... OK * checking whether the namespace can be unloaded cleanly ... OK * checking dependencies in R code ... OK * checking S3 generic/method consistency ... OK * checking replacement functions ... OK * checking foreign function calls ... OK * checking R code for possible problems ... NOTE .count_manhattan: no visible global function definition for 'textxy' cyclic_loess: no visible binding for global variable 'chr' cyclic_loess: no visible binding for global variable 'region1' cyclic_loess: no visible binding for global variable 'region2' exportJuicebox: no visible binding for global variable 'logCPM' exportJuicebox: no visible binding for global variable 'logFC' exportJuicebox: no visible binding for global variable 'p.adj' fastlo: no visible binding for global variable 'chr' fastlo: no visible binding for global variable 'region1' fastlo: no visible binding for global variable 'region2' hic_exactTest: no visible binding for global variable 'chr' hic_exactTest: no visible binding for global variable 'region1' hic_exactTest: no visible binding for global variable 'region2' hic_filter: no visible binding for global variable 'hg19_cyto' hic_glm: no visible binding for global variable 'chr' hic_glm: no visible binding for global variable 'region1' hic_glm: no visible binding for global variable 'region2' make_hicexp: no visible binding for global variable 'hg19_cyto' make_hicexp: no visible binding for global variable 'region2' make_hicexp: no visible binding for global variable 'region1' make_hicexp: no visible binding for global variable 'chr' perm_test: no visible binding for global variable 'chr' perm_test: no visible global function definition for 'IRanges' topDirs: no visible binding for global variable 'logCPM' topDirs: no visible binding for global variable 'logFC' topDirs: no visible binding for global variable 'p.adj' Undefined global functions or variables: IRanges chr hg19_cyto logCPM logFC p.adj region1 region2 textxy * checking Rd files ... OK * checking Rd metadata ... OK * checking Rd cross-references ... OK * checking for missing documentation entries ... OK * checking for code/documentation mismatches ... OK * checking Rd \usage sections ... OK * checking Rd contents ... OK * checking for unstated dependencies in examples ... OK * checking contents of 'data' directory ... OK * checking data for non-ASCII characters ... OK * checking LazyData ... OK * checking data for ASCII and uncompressed saves ... OK * checking files in 'vignettes' ... OK * checking examples ... OK * checking for unstated dependencies in 'tests' ... OK * checking tests ... Running 'testthat.R' OK * checking for unstated dependencies in vignettes ... OK * checking package vignettes in 'inst/doc' ... OK * checking running R code from vignettes ... SKIPPED * checking re-building of vignette outputs ... SKIPPED * checking PDF version of manual ... OK * DONE Status: 1 NOTE See 'D:/biocbuild/bbs-3.15-bioc/meat/multiHiCcompare.Rcheck/00check.log' for details.
multiHiCcompare.Rcheck/00install.out
##############################################################################
##############################################################################
###
### Running command:
###
### D:\biocbuild\bbs-3.15-bioc\R\bin\R.exe CMD INSTALL multiHiCcompare
###
##############################################################################
##############################################################################
* installing to library 'D:/biocbuild/bbs-3.15-bioc/R/library'
* installing *source* package 'multiHiCcompare' ...
** using staged installation
** R
** data
*** moving datasets to lazyload DB
** inst
** byte-compile and prepare package for lazy loading
** help
*** installing help indices
converting help for package 'multiHiCcompare'
finding HTML links ... done
HCT116_r1 html
HCT116_r2 html
HCT116_r3 html
HCT116_r4 html
HCT116_r5 html
HCT116_r6 html
Hicexp-class html
MD_composite html
MD_hicexp html
cyclic_loess html
exportJuicebox html
fastlo html
hg19_cyto html
hg38_cyto html
hic_exactTest html
hic_filter html
hic_glm html
hic_scale html
hic_table html
hicexp2 html
hicexp_diff html
make_hicexp html
manhattan_hicexp html
meta html
normalized html
perm_test html
plot_counts html
plot_pvals html
pval_heatmap html
resolution html
results html
show html
smartApply html
topDirs html
** building package indices
** installing vignettes
** testing if installed package can be loaded from temporary location
** testing if installed package can be loaded from final location
** testing if installed package keeps a record of temporary installation path
* DONE (multiHiCcompare)
Making 'packages.html' ... done
multiHiCcompare.Rcheck/tests/testthat.Rout
R Under development (unstable) (2021-11-21 r81221) -- "Unsuffered Consequences"
Copyright (C) 2021 The R Foundation for Statistical Computing
Platform: x86_64-w64-mingw32/x64 (64-bit)
R is free software and comes with ABSOLUTELY NO WARRANTY.
You are welcome to redistribute it under certain conditions.
Type 'license()' or 'licence()' for distribution details.
R is a collaborative project with many contributors.
Type 'contributors()' for more information and
'citation()' on how to cite R or R packages in publications.
Type 'demo()' for some demos, 'help()' for on-line help, or
'help.start()' for an HTML browser interface to help.
Type 'q()' to quit R.
> library(testthat)
> library(multiHiCcompare)
>
> test_check("multiHiCcompare")
[ FAIL 0 | WARN 0 | SKIP 0 | PASS 17 ]
>
> proc.time()
user system elapsed
32.15 1.00 33.04
multiHiCcompare.Rcheck/multiHiCcompare-Ex.timings
| name | user | system | elapsed | |
| Hicexp-class | 0.02 | 0.00 | 0.02 | |
| MD_composite | 0.17 | 0.02 | 0.18 | |
| MD_hicexp | 1.06 | 0.04 | 1.11 | |
| cyclic_loess | 1.19 | 0.10 | 1.28 | |
| exportJuicebox | 0.03 | 0.01 | 0.05 | |
| fastlo | 0.70 | 0.02 | 0.72 | |
| hic_exactTest | 0 | 0 | 0 | |
| hic_filter | 0.41 | 0.00 | 0.41 | |
| hic_glm | 0 | 0 | 0 | |
| hic_scale | 0.06 | 0.01 | 0.07 | |
| hic_table | 0.02 | 0.00 | 0.02 | |
| make_hicexp | 1.21 | 0.11 | 1.33 | |
| manhattan_hicexp | 0.29 | 0.03 | 0.31 | |
| meta | 0.01 | 0.00 | 0.02 | |
| normalized | 0.00 | 0.02 | 0.01 | |
| perm_test | 0 | 0 | 0 | |
| plot_counts | 0.06 | 0.00 | 0.06 | |
| plot_pvals | 0.05 | 0.00 | 0.05 | |
| pval_heatmap | 1.56 | 0.05 | 1.61 | |
| resolution | 0 | 0 | 0 | |
| results | 0.00 | 0.01 | 0.01 | |
| topDirs | 0.01 | 0.02 | 0.03 | |