| Back to Multiple platform build/check report for BioC 3.15 | 
  | 
This page was generated on 2022-03-18 11:08:03 -0400 (Fri, 18 Mar 2022).
| Hostname | OS | Arch (*) | R version | Installed pkgs | 
|---|---|---|---|---|
| nebbiolo1 | Linux (Ubuntu 20.04.4 LTS) | x86_64 | R Under development (unstable) (2022-02-17 r81757) -- "Unsuffered Consequences" | 4334 | 
| riesling1 | Windows Server 2019 Standard | x64 | R Under development (unstable) (2021-11-21 r81221) -- "Unsuffered Consequences" | 4097 | 
| palomino3 | Windows Server 2022 Datacenter | x64 | R Under development (unstable) (2022-02-17 r81757 ucrt) -- "Unsuffered Consequences" | 4083 | 
| merida1 | macOS 10.14.6 Mojave | x86_64 | R Under development (unstable) (2022-03-02 r81842) -- "Unsuffered Consequences" | 4134 | 
| Click on any hostname to see more info about the system (e.g. compilers) (*) as reported by 'uname -p', except on Windows and Mac OS X | ||||
| 
To the developers/maintainers of the mirTarRnaSeq package: - Please allow up to 24 hours (and sometimes 48 hours) for your latest push to git@git.bioconductor.org:packages/mirTarRnaSeq.git to reflect on this report. See How and When does the builder pull? When will my changes propagate? here for more information. - Make sure to use the following settings in order to reproduce any error or warning you see on this page.  | 
| Package 1177/2090 | Hostname | OS / Arch | INSTALL | BUILD | CHECK | BUILD BIN | ||||||||
| mirTarRnaSeq 1.3.0  (landing page) Mercedeh Movassagh 
  | nebbiolo1 | Linux (Ubuntu 20.04.4 LTS) / x86_64 | OK | OK | OK | |||||||||
| riesling1 | Windows Server 2019 Standard / x64 | OK | OK | OK | OK | |||||||||
| palomino3 | Windows Server 2022 Datacenter / x64 | OK | OK | OK | OK | |||||||||
| merida1 | macOS 10.14.6 Mojave / x86_64 | OK | OK | OK | OK | |||||||||
| Package: mirTarRnaSeq | 
| Version: 1.3.0 | 
| Command: rm -rf mirTarRnaSeq.buildbin-libdir && mkdir mirTarRnaSeq.buildbin-libdir && D:\biocbuild\bbs-3.15-bioc\R\bin\R.exe CMD INSTALL --build --library=mirTarRnaSeq.buildbin-libdir mirTarRnaSeq_1.3.0.tar.gz | 
| StartedAt: 2022-03-17 21:21:55 -0400 (Thu, 17 Mar 2022) | 
| EndedAt: 2022-03-17 21:23:16 -0400 (Thu, 17 Mar 2022) | 
| EllapsedTime: 80.5 seconds | 
| RetCode: 0 | 
| Status: OK | 
| PackageFile: mirTarRnaSeq_1.3.0.zip | 
| PackageFileSize: 4.029 MiB | 
##############################################################################
##############################################################################
###
### Running command:
###
###   rm -rf mirTarRnaSeq.buildbin-libdir && mkdir mirTarRnaSeq.buildbin-libdir && D:\biocbuild\bbs-3.15-bioc\R\bin\R.exe CMD INSTALL --build --library=mirTarRnaSeq.buildbin-libdir mirTarRnaSeq_1.3.0.tar.gz
###
##############################################################################
##############################################################################
* installing *source* package 'mirTarRnaSeq' ...
** using staged installation
** R
** data
*** moving datasets to lazyload DB
** inst
** byte-compile and prepare package for lazy loading
** help
*** installing help indices
  converting help for package 'mirTarRnaSeq'
    finding HTML links ... done
    Combine                                 html  
    canonicalModel_                         html  
    combiner                                html  
    corMirnaRna                             html  
    corMirnaRnaMiranda                      html  
    corr_0                                  html  
    downloadMirandaFile                     html  
    drawCorPlot                             html  
    drawInterPlots                          html  
    fdrSig                                  html  
    finInterResult                          html  
    final_results                           html  
    geneVari                                html  
    geneVariant                             html  
    getInputSpecies                         html  
    glm_gaussian                            html  
    glm_multi                               html  
    glm_nb                                  html  
    glm_poisson                             html  
    glm_zeroinfl                            html  
    glm_zeroinfl_negbin                     html  
    glm_zeroinfl_poisson                    html  
    importMirandaFile                       html  
    inter0                                  html  
    mRNA                                    html  
    mRNA0_2                                 html  
    mRNA0_5                                 html  
    mRNA2_5                                 html  
    mRNA_fc                                 html  
    mRNA_fc2                                html  
    makeFormulaRightSide                    html  
    miRNA                                   html  
    miRNA0_2                                html  
    miRNA0_5                                html  
    miRNA2_5                                html  
    miRNA_fc                                html  
    miRNA_fc2                               html  
    miRanComp                               html  
    miRanda                                 html  
    miRandaIntersect                        html  
    miRandaM                                html  
    mirRnaDensityCor                        html  
    mirRnaDensityInter                      html  
    mirRnaHeatmap                           html  
    mirRnaHeatmapDiff                       html  
    mirandaIntersectInter                   html  
    modelAIC                                html  
    modelCoefficients                       html  
    modelData                               html  
    modelModelName                          html  
    modelModelPvalue                        html  
    modelTermPvalues                        html  
    modelsFilter                            html  
    one2OneRnaMiRNA                         html  
    outs                                    html  
    outs2                                   html  
    plotFit                                 html  
    plotResiduals                           html  
    plotTerms                               html  
    results                                 html  
    runAllMirnaModels                       html  
    runModel                                html  
    runModels                               html  
    sampCorRnaMirna                         html  
    sig_InterR                              html  
    sig_corrs                               html  
    some_model                              html  
    threshSig                               html  
    threshSigInter                          html  
    twoTimePoint                            html  
    twoTimePointSamp                        html  
    tzTrans                                 html  
** building package indices
** installing vignettes
** testing if installed package can be loaded from temporary location
** testing if installed package can be loaded from final location
** testing if installed package keeps a record of temporary installation path
* MD5 sums
packaged installation of 'mirTarRnaSeq' as mirTarRnaSeq_1.3.0.zip
* DONE (mirTarRnaSeq)