| Back to Multiple platform build/check report for BioC 3.15 |
|
This page was generated on 2022-03-18 11:08:02 -0400 (Fri, 18 Mar 2022).
| Hostname | OS | Arch (*) | R version | Installed pkgs |
|---|---|---|---|---|
| nebbiolo1 | Linux (Ubuntu 20.04.4 LTS) | x86_64 | R Under development (unstable) (2022-02-17 r81757) -- "Unsuffered Consequences" | 4334 |
| riesling1 | Windows Server 2019 Standard | x64 | R Under development (unstable) (2021-11-21 r81221) -- "Unsuffered Consequences" | 4097 |
| palomino3 | Windows Server 2022 Datacenter | x64 | R Under development (unstable) (2022-02-17 r81757 ucrt) -- "Unsuffered Consequences" | 4083 |
| merida1 | macOS 10.14.6 Mojave | x86_64 | R Under development (unstable) (2022-03-02 r81842) -- "Unsuffered Consequences" | 4134 |
| Click on any hostname to see more info about the system (e.g. compilers) (*) as reported by 'uname -p', except on Windows and Mac OS X | ||||
|
To the developers/maintainers of the minfi package: - Please allow up to 24 hours (and sometimes 48 hours) for your latest push to git@git.bioconductor.org:packages/minfi.git to reflect on this report. See How and When does the builder pull? When will my changes propagate? here for more information. - Make sure to use the following settings in order to reproduce any error or warning you see on this page. |
| Package 1161/2090 | Hostname | OS / Arch | INSTALL | BUILD | CHECK | BUILD BIN | ||||||||
| minfi 1.41.1 (landing page) Kasper Daniel Hansen
| nebbiolo1 | Linux (Ubuntu 20.04.4 LTS) / x86_64 | OK | OK | OK | |||||||||
| riesling1 | Windows Server 2019 Standard / x64 | OK | OK | OK | OK | |||||||||
| palomino3 | Windows Server 2022 Datacenter / x64 | OK | OK | OK | OK | |||||||||
| merida1 | macOS 10.14.6 Mojave / x86_64 | OK | OK | OK | OK | |||||||||
| Package: minfi |
| Version: 1.41.1 |
| Command: rm -rf minfi.buildbin-libdir && mkdir minfi.buildbin-libdir && D:\biocbuild\bbs-3.15-bioc\R\bin\R.exe CMD INSTALL --build --library=minfi.buildbin-libdir minfi_1.41.1.tar.gz |
| StartedAt: 2022-03-17 21:21:15 -0400 (Thu, 17 Mar 2022) |
| EndedAt: 2022-03-17 21:22:53 -0400 (Thu, 17 Mar 2022) |
| EllapsedTime: 97.8 seconds |
| RetCode: 0 |
| Status: OK |
| PackageFile: minfi_1.41.1.zip |
| PackageFileSize: 1.667 MiB |
##############################################################################
##############################################################################
###
### Running command:
###
### rm -rf minfi.buildbin-libdir && mkdir minfi.buildbin-libdir && D:\biocbuild\bbs-3.15-bioc\R\bin\R.exe CMD INSTALL --build --library=minfi.buildbin-libdir minfi_1.41.1.tar.gz
###
##############################################################################
##############################################################################
* installing *source* package 'minfi' ...
** using staged installation
** R
** inst
** byte-compile and prepare package for lazy loading
** help
*** installing help indices
converting help for package 'minfi'
finding HTML links ... done
DelayedArray_utils html
GenomicMethylSet-class html
GenomicRatioSet-class html
IlluminaMethylationAnnotation-class html
IlluminaMethylationManifest-class html
MethylSet-class html
finding level-2 HTML links ... done
RGChannelSet-class html
RatioSet-class html
blockFinder html
bumphunter html
combineArrays html
compartments html
controlStripPlot html
convertArray html
cpgCollapse html
densityBeanPlot html
densityPlot html
detectionP html
dmpFinder html
estimateCellCounts html
fixMethOutliers html
gaphunter html
getAnnotation html
getGenomicRatioSetFromGEO html
getQC html
getSex html
logit2 html
makeGenomicRatioSetFromMatrix html
mapToGenome-methods html
mdsPlot html
minfi-defunct html
minfi-deprecated html
minfi-package html
minfiQC html
plotBetasByType html
plotCpg html
preprocessFunnorm html
preprocessIllumina html
preprocessNoob html
preprocessQuantile html
preprocessRaw html
preprocessSwan html
qcReport html
ratioConvert-methods html
read.metharray html
read.metharray.exp html
read.metharray.sheet html
readGEORawFile html
readTCGA html
subsetByLoci html
utils html
** building package indices
** installing vignettes
** testing if installed package can be loaded from temporary location
** testing if installed package can be loaded from final location
** testing if installed package keeps a record of temporary installation path
* MD5 sums
packaged installation of 'minfi' as minfi_1.41.1.zip
* DONE (minfi)