| Back to Multiple platform build/check report for BioC 3.15 |
|
This page was generated on 2022-03-18 11:08:01 -0400 (Fri, 18 Mar 2022).
| Hostname | OS | Arch (*) | R version | Installed pkgs |
|---|---|---|---|---|
| nebbiolo1 | Linux (Ubuntu 20.04.4 LTS) | x86_64 | R Under development (unstable) (2022-02-17 r81757) -- "Unsuffered Consequences" | 4334 |
| riesling1 | Windows Server 2019 Standard | x64 | R Under development (unstable) (2021-11-21 r81221) -- "Unsuffered Consequences" | 4097 |
| palomino3 | Windows Server 2022 Datacenter | x64 | R Under development (unstable) (2022-02-17 r81757 ucrt) -- "Unsuffered Consequences" | 4083 |
| merida1 | macOS 10.14.6 Mojave | x86_64 | R Under development (unstable) (2022-03-02 r81842) -- "Unsuffered Consequences" | 4134 |
| Click on any hostname to see more info about the system (e.g. compilers) (*) as reported by 'uname -p', except on Windows and Mac OS X | ||||
|
To the developers/maintainers of the microbiomeMarker package: - Please allow up to 24 hours (and sometimes 48 hours) for your latest push to git@git.bioconductor.org:packages/microbiomeMarker.git to reflect on this report. See How and When does the builder pull? When will my changes propagate? here for more information. - Make sure to use the following settings in order to reproduce any error or warning you see on this page. |
| Package 1149/2090 | Hostname | OS / Arch | INSTALL | BUILD | CHECK | BUILD BIN | ||||||||
| microbiomeMarker 1.1.2 (landing page) Yang Cao
| nebbiolo1 | Linux (Ubuntu 20.04.4 LTS) / x86_64 | OK | OK | OK | |||||||||
| riesling1 | Windows Server 2019 Standard / x64 | OK | OK | OK | OK | |||||||||
| palomino3 | Windows Server 2022 Datacenter / x64 | OK | OK | OK | OK | |||||||||
| merida1 | macOS 10.14.6 Mojave / x86_64 | OK | OK | OK | OK | |||||||||
| Package: microbiomeMarker |
| Version: 1.1.2 |
| Command: rm -rf microbiomeMarker.buildbin-libdir && mkdir microbiomeMarker.buildbin-libdir && D:\biocbuild\bbs-3.15-bioc\R\bin\R.exe CMD INSTALL --build --library=microbiomeMarker.buildbin-libdir microbiomeMarker_1.1.2.tar.gz |
| StartedAt: 2022-03-17 21:20:54 -0400 (Thu, 17 Mar 2022) |
| EndedAt: 2022-03-17 21:22:31 -0400 (Thu, 17 Mar 2022) |
| EllapsedTime: 97.1 seconds |
| RetCode: 0 |
| Status: OK |
| PackageFile: microbiomeMarker_1.1.2.zip |
| PackageFileSize: 2.831 MiB |
##############################################################################
##############################################################################
###
### Running command:
###
### rm -rf microbiomeMarker.buildbin-libdir && mkdir microbiomeMarker.buildbin-libdir && D:\biocbuild\bbs-3.15-bioc\R\bin\R.exe CMD INSTALL --build --library=microbiomeMarker.buildbin-libdir microbiomeMarker_1.1.2.tar.gz
###
##############################################################################
##############################################################################
* installing *source* package 'microbiomeMarker' ...
** using staged installation
** R
** data
** inst
** byte-compile and prepare package for lazy loading
** help
*** installing help indices
converting help for package 'microbiomeMarker'
finding HTML links ... done
abundances-methods html
finding level-2 HTML links ... done
aggregate_taxa html
assign-marker_table html
assign-otu_table html
data-caporaso html
data-cid_ying html
data-ecam html
data-enterotypes_arumugam html
data-kostic_crc html
data-oxygen html
data-pediatric_ibd html
data-spontaneous_colitis html
effect_size-plot html
extract-methods html
extract_posthoc_res html
get_treedata_phyloseq html
import_dada2 html
import_picrust2 html
import_qiime2 html
marker_table-class html
marker_table-methods html
microbiomeMarker-class html
microbiomeMarker-package html
microbiomeMarker html
nmarker-methods html
normalize-methods html
phyloseq2DESeq2 html
phyloseq2edgeR html
phyloseq2metagenomeSeq html
plot_abundance html
plot_cladogram html
plot_heatmap html
plot_postHocTest html
plot_sl_roc html
postHocTest-class html
postHocTest html
reexports html
run_aldex html
run_ancom html
run_ancombc html
run_deseq2 html
run_edger html
run_lefse html
run_limma_voom html
run_marker html
run_metagenomeseq html
run_posthoc_test html
run_simple_stat html
run_sl html
run_test_multiple_groups html
run_test_two_groups html
subset_marker html
summarize_taxa html
transform_abundances html
*** copying figures
** building package indices
** installing vignettes
** testing if installed package can be loaded from temporary location
** testing if installed package can be loaded from final location
** testing if installed package keeps a record of temporary installation path
* MD5 sums
packaged installation of 'microbiomeMarker' as microbiomeMarker_1.1.2.zip
* DONE (microbiomeMarker)