| Back to Multiple platform build/check report for BioC 3.15 |
|
This page was generated on 2022-03-18 11:08:01 -0400 (Fri, 18 Mar 2022).
| Hostname | OS | Arch (*) | R version | Installed pkgs |
|---|---|---|---|---|
| nebbiolo1 | Linux (Ubuntu 20.04.4 LTS) | x86_64 | R Under development (unstable) (2022-02-17 r81757) -- "Unsuffered Consequences" | 4334 |
| riesling1 | Windows Server 2019 Standard | x64 | R Under development (unstable) (2021-11-21 r81221) -- "Unsuffered Consequences" | 4097 |
| palomino3 | Windows Server 2022 Datacenter | x64 | R Under development (unstable) (2022-02-17 r81757 ucrt) -- "Unsuffered Consequences" | 4083 |
| merida1 | macOS 10.14.6 Mojave | x86_64 | R Under development (unstable) (2022-03-02 r81842) -- "Unsuffered Consequences" | 4134 |
| Click on any hostname to see more info about the system (e.g. compilers) (*) as reported by 'uname -p', except on Windows and Mac OS X | ||||
|
To the developers/maintainers of the microbiomeDASim package: - Please allow up to 24 hours (and sometimes 48 hours) for your latest push to git@git.bioconductor.org:packages/microbiomeDASim.git to reflect on this report. See How and When does the builder pull? When will my changes propagate? here for more information. - Make sure to use the following settings in order to reproduce any error or warning you see on this page. |
| Package 1147/2090 | Hostname | OS / Arch | INSTALL | BUILD | CHECK | BUILD BIN | ||||||||
| microbiomeDASim 1.9.0 (landing page) Justin Williams
| nebbiolo1 | Linux (Ubuntu 20.04.4 LTS) / x86_64 | OK | OK | OK | |||||||||
| riesling1 | Windows Server 2019 Standard / x64 | OK | OK | OK | OK | |||||||||
| palomino3 | Windows Server 2022 Datacenter / x64 | OK | OK | OK | OK | |||||||||
| merida1 | macOS 10.14.6 Mojave / x86_64 | OK | OK | OK | OK | |||||||||
| Package: microbiomeDASim |
| Version: 1.9.0 |
| Command: D:\biocbuild\bbs-3.15-bioc\R\bin\R.exe CMD check --no-multiarch --install=check:microbiomeDASim.install-out.txt --library=D:\biocbuild\bbs-3.15-bioc\R\library --no-vignettes --timings microbiomeDASim_1.9.0.tar.gz |
| StartedAt: 2022-03-17 19:34:36 -0400 (Thu, 17 Mar 2022) |
| EndedAt: 2022-03-17 19:37:49 -0400 (Thu, 17 Mar 2022) |
| EllapsedTime: 192.9 seconds |
| RetCode: 0 |
| Status: OK |
| CheckDir: microbiomeDASim.Rcheck |
| Warnings: 0 |
##############################################################################
##############################################################################
###
### Running command:
###
### D:\biocbuild\bbs-3.15-bioc\R\bin\R.exe CMD check --no-multiarch --install=check:microbiomeDASim.install-out.txt --library=D:\biocbuild\bbs-3.15-bioc\R\library --no-vignettes --timings microbiomeDASim_1.9.0.tar.gz
###
##############################################################################
##############################################################################
* using log directory 'D:/biocbuild/bbs-3.15-bioc/meat/microbiomeDASim.Rcheck'
* using R Under development (unstable) (2021-11-21 r81221)
* using platform: x86_64-w64-mingw32 (64-bit)
* using session charset: ISO8859-1
* using option '--no-vignettes'
* checking for file 'microbiomeDASim/DESCRIPTION' ... OK
* checking extension type ... Package
* this is package 'microbiomeDASim' version '1.9.0'
* package encoding: UTF-8
* checking package namespace information ... OK
* checking package dependencies ... OK
* checking if this is a source package ... OK
* checking if there is a namespace ... OK
* checking for hidden files and directories ... OK
* checking for portable file names ... OK
* checking whether package 'microbiomeDASim' can be installed ... OK
* checking installed package size ... OK
* checking package directory ... OK
* checking 'build' directory ... OK
* checking DESCRIPTION meta-information ... OK
* checking top-level files ... OK
* checking for left-over files ... OK
* checking index information ... OK
* checking package subdirectories ... OK
* checking R files for non-ASCII characters ... OK
* checking R files for syntax errors ... OK
* checking whether the package can be loaded ... OK
* checking whether the package can be loaded with stated dependencies ... OK
* checking whether the package can be unloaded cleanly ... OK
* checking whether the namespace can be loaded with stated dependencies ... OK
* checking whether the namespace can be unloaded cleanly ... OK
* checking dependencies in R code ... OK
* checking S3 generic/method consistency ... OK
* checking replacement functions ... OK
* checking foreign function calls ... OK
* checking R code for possible problems ... OK
* checking Rd files ... OK
* checking Rd metadata ... OK
* checking Rd cross-references ... OK
* checking for missing documentation entries ... OK
* checking for code/documentation mismatches ... OK
* checking Rd \usage sections ... OK
* checking Rd contents ... OK
* checking for unstated dependencies in examples ... OK
* checking files in 'vignettes' ... OK
* checking examples ... OK
Examples with CPU (user + system) or elapsed time > 5s
user system elapsed
gen_norm_microbiome_obs 17.67 0.08 17.75
simulate2phyloseq 7.95 0.00 7.95
simulate2MRexperiment 7.63 0.00 7.63
* checking for unstated dependencies in 'tests' ... OK
* checking tests ...
Running 'testthat.R'
OK
* checking for unstated dependencies in vignettes ... OK
* checking package vignettes in 'inst/doc' ... OK
* checking running R code from vignettes ... SKIPPED
* checking re-building of vignette outputs ... SKIPPED
* checking PDF version of manual ... OK
* DONE
Status: OK
microbiomeDASim.Rcheck/00install.out
##############################################################################
##############################################################################
###
### Running command:
###
### D:\biocbuild\bbs-3.15-bioc\R\bin\R.exe CMD INSTALL microbiomeDASim
###
##############################################################################
##############################################################################
* installing to library 'D:/biocbuild/bbs-3.15-bioc/R/library'
* installing *source* package 'microbiomeDASim' ...
** using staged installation
** R
** inst
** byte-compile and prepare package for lazy loading
** help
*** installing help indices
converting help for package 'microbiomeDASim'
finding HTML links ... done
IP_form_check html
final_output_gen html
form_beta_check html
gen_microbiome_norm_feature_check html
gen_norm_microbiome html
gen_norm_microbiome_obs html
ggplot_spaghetti html
mean_trend html
mean_trend_beta_vec html
mean_trend_design_mat html
mvrnorm_corr_gen html
mvrnorm_sim html
mvrnorm_sim_obs html
sigma_corr_function html
simulate2MRexperiment html
finding level-2 HTML links ... done
simulate2phyloseq html
timepoint_process html
trunc_bugs html
** building package indices
** installing vignettes
** testing if installed package can be loaded from temporary location
** testing if installed package can be loaded from final location
** testing if installed package keeps a record of temporary installation path
* DONE (microbiomeDASim)
Making 'packages.html' ... done
microbiomeDASim.Rcheck/tests/testthat.Rout
R Under development (unstable) (2021-11-21 r81221) -- "Unsuffered Consequences"
Copyright (C) 2021 The R Foundation for Statistical Computing
Platform: x86_64-w64-mingw32/x64 (64-bit)
R is free software and comes with ABSOLUTELY NO WARRANTY.
You are welcome to redistribute it under certain conditions.
Type 'license()' or 'licence()' for distribution details.
R is a collaborative project with many contributors.
Type 'contributors()' for more information and
'citation()' on how to cite R or R packages in publications.
Type 'demo()' for some demos, 'help()' for on-line help, or
'help.start()' for an HTML browser interface to help.
Type 'q()' to quit R.
> library(testthat)
> library(microbiomeDASim)
>
> test_check("microbiomeDASim")
[ FAIL 0 | WARN 0 | SKIP 0 | PASS 33 ]
>
> proc.time()
user system elapsed
9.12 0.56 9.81
microbiomeDASim.Rcheck/microbiomeDASim-Ex.timings
| name | user | system | elapsed | |
| gen_norm_microbiome | 4.71 | 0.01 | 4.72 | |
| gen_norm_microbiome_obs | 17.67 | 0.08 | 17.75 | |
| ggplot_spaghetti | 2.53 | 0.06 | 2.60 | |
| mean_trend | 0.29 | 0.00 | 0.30 | |
| mvrnorm_corr_gen | 0.27 | 0.00 | 0.27 | |
| mvrnorm_sim | 2.44 | 0.00 | 2.43 | |
| mvrnorm_sim_obs | 3.07 | 0.10 | 3.17 | |
| simulate2MRexperiment | 7.63 | 0.00 | 7.63 | |
| simulate2phyloseq | 7.95 | 0.00 | 7.95 | |