Back to Multiple platform build/check report for BioC 3.15 |
|
This page was generated on 2022-03-18 11:08:01 -0400 (Fri, 18 Mar 2022).
Hostname | OS | Arch (*) | R version | Installed pkgs |
---|---|---|---|---|
nebbiolo1 | Linux (Ubuntu 20.04.4 LTS) | x86_64 | R Under development (unstable) (2022-02-17 r81757) -- "Unsuffered Consequences" | 4334 |
riesling1 | Windows Server 2019 Standard | x64 | R Under development (unstable) (2021-11-21 r81221) -- "Unsuffered Consequences" | 4097 |
palomino3 | Windows Server 2022 Datacenter | x64 | R Under development (unstable) (2022-02-17 r81757 ucrt) -- "Unsuffered Consequences" | 4083 |
merida1 | macOS 10.14.6 Mojave | x86_64 | R Under development (unstable) (2022-03-02 r81842) -- "Unsuffered Consequences" | 4134 |
Click on any hostname to see more info about the system (e.g. compilers) (*) as reported by 'uname -p', except on Windows and Mac OS X |
To the developers/maintainers of the mia package: - Please allow up to 24 hours (and sometimes 48 hours) for your latest push to git@git.bioconductor.org:packages/mia.git to reflect on this report. See How and When does the builder pull? When will my changes propagate? here for more information. - Make sure to use the following settings in order to reproduce any error or warning you see on this page. |
Package 1142/2090 | Hostname | OS / Arch | INSTALL | BUILD | CHECK | BUILD BIN | ||||||||
mia 1.3.18 (landing page) Felix G.M. Ernst
| nebbiolo1 | Linux (Ubuntu 20.04.4 LTS) / x86_64 | OK | OK | OK | |||||||||
riesling1 | Windows Server 2019 Standard / x64 | OK | OK | ERROR | OK | |||||||||
palomino3 | Windows Server 2022 Datacenter / x64 | OK | OK | OK | OK | |||||||||
merida1 | macOS 10.14.6 Mojave / x86_64 | OK | OK | OK | OK | |||||||||
Package: mia |
Version: 1.3.18 |
Command: rm -rf mia.buildbin-libdir && mkdir mia.buildbin-libdir && D:\biocbuild\bbs-3.15-bioc\R\bin\R.exe CMD INSTALL --build --library=mia.buildbin-libdir mia_1.3.18.tar.gz |
StartedAt: 2022-03-17 21:20:45 -0400 (Thu, 17 Mar 2022) |
EndedAt: 2022-03-17 21:22:18 -0400 (Thu, 17 Mar 2022) |
EllapsedTime: 93.0 seconds |
RetCode: 0 |
Status: OK |
PackageFile: mia_1.3.18.zip |
PackageFileSize: 2.175 MiB |
############################################################################## ############################################################################## ### ### Running command: ### ### rm -rf mia.buildbin-libdir && mkdir mia.buildbin-libdir && D:\biocbuild\bbs-3.15-bioc\R\bin\R.exe CMD INSTALL --build --library=mia.buildbin-libdir mia_1.3.18.tar.gz ### ############################################################################## ############################################################################## * installing *source* package 'mia' ... ** using staged installation ** R ** data ** inst ** byte-compile and prepare package for lazy loading ** help *** installing help indices converting help for package 'mia' finding HTML links ... done agglomerate-methods html calculateDMN html calculateDistance html calculateJSD html calculateOverlap html calculateUnifrac html REDIRECT:topic Previous alias or file overwritten by alias: D:/biocbuild/bbs-3.15-bioc/meat/mia.buildbin-libdir/00LOCK-mia/00new/mia/help/calculateUniFrac.html estimateDivergence html finding level-2 HTML links ... done estimateDiversity html estimateDominance html estimateEvenness html estimateRichness html getAbundance html getExperimentCrossCorrelation html getPrevalence html isContaminant html loadFromMetaphlan html loadFromMothur html loadFromQIIME2 html makePhyloseqFromTreeSummarizedExperiment html makeSummarizedExperimentFromBiom html makeTreeSummarizedExperimentFromDADA2 html makeTreeSummarizedExperimentFromPhyloseq html meltAssay html merge-methods html mia-datasets html mia-package html perSampleDominantTaxa html relabundance html runCCA html runDPCoA html runNMDS html splitByRanks html subsampleCounts html subsetSamples html summaries html taxonomy-methods html transformCounts html ** building package indices ** installing vignettes ** testing if installed package can be loaded from temporary location ** testing if installed package can be loaded from final location ** testing if installed package keeps a record of temporary installation path * MD5 sums packaged installation of 'mia' as mia_1.3.18.zip * DONE (mia)