| Back to Multiple platform build/check report for BioC 3.15 |
|
This page was generated on 2022-10-19 13:21:48 -0400 (Wed, 19 Oct 2022).
| Hostname | OS | Arch (*) | R version | Installed pkgs |
|---|---|---|---|---|
| nebbiolo1 | Linux (Ubuntu 20.04.5 LTS) | x86_64 | 4.2.1 (2022-06-23) -- "Funny-Looking Kid" | 4386 |
| palomino3 | Windows Server 2022 Datacenter | x64 | 4.2.1 (2022-06-23 ucrt) -- "Funny-Looking Kid" | 4138 |
| merida1 | macOS 10.14.6 Mojave | x86_64 | 4.2.1 (2022-06-23) -- "Funny-Looking Kid" | 4205 |
| Click on any hostname to see more info about the system (e.g. compilers) (*) as reported by 'uname -p', except on Windows and Mac OS X | ||||
|
To the developers/maintainers of the methInheritSim package: - Please allow up to 24 hours (and sometimes 48 hours) for your latest push to git@git.bioconductor.org:packages/methInheritSim.git to reflect on this report. See How and When does the builder pull? When will my changes propagate? for more information. - Make sure to use the following settings in order to reproduce any error or warning you see on this page. |
| Package 1142/2140 | Hostname | OS / Arch | INSTALL | BUILD | CHECK | BUILD BIN | ||||||||
| methInheritSim 1.18.0 (landing page) Pascal Belleau
| nebbiolo1 | Linux (Ubuntu 20.04.5 LTS) / x86_64 | OK | OK | OK | |||||||||
| palomino3 | Windows Server 2022 Datacenter / x64 | OK | OK | OK | OK | |||||||||
| merida1 | macOS 10.14.6 Mojave / x86_64 | OK | OK | OK | OK | |||||||||
| Package: methInheritSim |
| Version: 1.18.0 |
| Command: chmod a+r methInheritSim -R && F:\biocbuild\bbs-3.15-bioc\R\bin\R.exe CMD build --keep-empty-dirs --no-resave-data methInheritSim |
| StartedAt: 2022-10-18 19:26:58 -0400 (Tue, 18 Oct 2022) |
| EndedAt: 2022-10-18 19:28:29 -0400 (Tue, 18 Oct 2022) |
| EllapsedTime: 90.3 seconds |
| RetCode: 0 |
| Status: OK |
| PackageFile: methInheritSim_1.18.0.tar.gz |
| PackageFileSize: 1.117 MiB |
##############################################################################
##############################################################################
###
### Running command:
###
### chmod a+r methInheritSim -R && F:\biocbuild\bbs-3.15-bioc\R\bin\R.exe CMD build --keep-empty-dirs --no-resave-data methInheritSim
###
##############################################################################
##############################################################################
* checking for file 'methInheritSim/DESCRIPTION' ... OK
* preparing 'methInheritSim':
* checking DESCRIPTION meta-information ... OK
* installing the package to build vignettes
* creating vignettes ... OK
* checking for LF line-endings in source and make files and shell scripts
* checking for empty or unneeded directories
* looking to see if a 'data/datalist' file should be added
NB: this package now depends on R (>= 3.5.0)
WARNING: Added dependency on R >= 3.5.0 because serialized objects in
serialize/load version 3 cannot be read in older versions of R.
File(s) containing such objects:
'methInheritSim/data/dataSimExample.RData'
'methInheritSim/vignettes/demo_runSim/methylGR_S1_1_3_0.9_0.8_0.5_1.rds'
'methInheritSim/vignettes/demo_runSim/methylGR_S1_1_3_0.9_0.8_0.5_2.rds'
'methInheritSim/vignettes/demo_runSim/methylGR_S1_1_6_0.9_0.8_0.5_1.rds'
'methInheritSim/vignettes/demo_runSim/methylGR_S1_1_6_0.9_0.8_0.5_2.rds'
'methInheritSim/vignettes/demo_runSim/simData_S1_1_3_0.9_0.8_0.5_1.rds'
'methInheritSim/vignettes/demo_runSim/simData_S1_1_3_0.9_0.8_0.5_2.rds'
'methInheritSim/vignettes/demo_runSim/simData_S1_1_6_0.9_0.8_0.5_1.rds'
'methInheritSim/vignettes/demo_runSim/simData_S1_1_6_0.9_0.8_0.5_2.rds'
'methInheritSim/vignettes/demo_runSim/syntheticChr_S1_1.rds'
* building 'methInheritSim_1.18.0.tar.gz'