| Back to Multiple platform build/check report for BioC 3.15 | 
 | 
This page was generated on 2022-03-18 11:07:59 -0400 (Fri, 18 Mar 2022).
| Hostname | OS | Arch (*) | R version | Installed pkgs | 
|---|---|---|---|---|
| nebbiolo1 | Linux (Ubuntu 20.04.4 LTS) | x86_64 | R Under development (unstable) (2022-02-17 r81757) -- "Unsuffered Consequences" | 4334 | 
| riesling1 | Windows Server 2019 Standard | x64 | R Under development (unstable) (2021-11-21 r81221) -- "Unsuffered Consequences" | 4097 | 
| palomino3 | Windows Server 2022 Datacenter | x64 | R Under development (unstable) (2022-02-17 r81757 ucrt) -- "Unsuffered Consequences" | 4083 | 
| merida1 | macOS 10.14.6 Mojave | x86_64 | R Under development (unstable) (2022-03-02 r81842) -- "Unsuffered Consequences" | 4134 | 
| Click on any hostname to see more info about the system (e.g. compilers) (*) as reported by 'uname -p', except on Windows and Mac OS X | ||||
| To the developers/maintainers of the metavizr package: - Please allow up to 24 hours (and sometimes 48 hours) for your latest push to git@git.bioconductor.org:packages/metavizr.git to reflect on this report. See How and When does the builder pull? When will my changes propagate? here for more information. - Make sure to use the following settings in order to reproduce any error or warning you see on this page. | 
| Package 1112/2090 | Hostname | OS / Arch | INSTALL | BUILD | CHECK | BUILD BIN | ||||||||
| metavizr 1.19.0  (landing page) Hector Corrada Bravo 
 | nebbiolo1 | Linux (Ubuntu 20.04.4 LTS) / x86_64 | OK | OK | OK |  | ||||||||
| riesling1 | Windows Server 2019 Standard / x64 | OK | OK | OK | OK | |||||||||
| palomino3 | Windows Server 2022 Datacenter / x64 | OK | OK | OK | OK |  | ||||||||
| merida1 | macOS 10.14.6 Mojave / x86_64 | OK | OK | OK | OK |  | ||||||||
| Package: metavizr | 
| Version: 1.19.0 | 
| Command: D:\biocbuild\bbs-3.15-bioc\R\bin\R.exe CMD check --no-multiarch --install=check:metavizr.install-out.txt --library=D:\biocbuild\bbs-3.15-bioc\R\library --no-vignettes --timings metavizr_1.19.0.tar.gz | 
| StartedAt: 2022-03-17 19:32:23 -0400 (Thu, 17 Mar 2022) | 
| EndedAt: 2022-03-17 19:37:35 -0400 (Thu, 17 Mar 2022) | 
| EllapsedTime: 311.2 seconds | 
| RetCode: 0 | 
| Status: OK | 
| CheckDir: metavizr.Rcheck | 
| Warnings: 0 | 
##############################################################################
##############################################################################
###
### Running command:
###
###   D:\biocbuild\bbs-3.15-bioc\R\bin\R.exe CMD check --no-multiarch --install=check:metavizr.install-out.txt --library=D:\biocbuild\bbs-3.15-bioc\R\library --no-vignettes --timings metavizr_1.19.0.tar.gz
###
##############################################################################
##############################################################################
* using log directory 'D:/biocbuild/bbs-3.15-bioc/meat/metavizr.Rcheck'
* using R Under development (unstable) (2021-11-21 r81221)
* using platform: x86_64-w64-mingw32 (64-bit)
* using session charset: ISO8859-1
* using option '--no-vignettes'
* checking for file 'metavizr/DESCRIPTION' ... OK
* checking extension type ... Package
* this is package 'metavizr' version '1.19.0'
* checking package namespace information ... OK
* checking package dependencies ... OK
* checking if this is a source package ... OK
* checking if there is a namespace ... OK
* checking for hidden files and directories ... OK
* checking for portable file names ... OK
* checking whether package 'metavizr' can be installed ... OK
* checking installed package size ... OK
* checking package directory ... OK
* checking 'build' directory ... OK
* checking DESCRIPTION meta-information ... OK
* checking top-level files ... OK
* checking for left-over files ... OK
* checking index information ... OK
* checking package subdirectories ... OK
* checking R files for non-ASCII characters ... OK
* checking R files for syntax errors ... OK
* checking whether the package can be loaded ... OK
* checking whether the package can be loaded with stated dependencies ... OK
* checking whether the package can be unloaded cleanly ... OK
* checking whether the namespace can be loaded with stated dependencies ... OK
* checking whether the namespace can be unloaded cleanly ... OK
* checking dependencies in R code ... OK
* checking S3 generic/method consistency ... OK
* checking replacement functions ... OK
* checking foreign function calls ... OK
* checking R code for possible problems ... OK
* checking Rd files ... OK
* checking Rd metadata ... OK
* checking Rd cross-references ... OK
* checking for missing documentation entries ... OK
* checking for code/documentation mismatches ... OK
* checking Rd \usage sections ... OK
* checking Rd contents ... OK
* checking for unstated dependencies in examples ... OK
* checking files in 'vignettes' ... OK
* checking examples ... OK
Examples with CPU (user + system) or elapsed time > 5s
                  user system elapsed
replaceNAFeatures 9.25   1.34   10.59
* checking for unstated dependencies in 'tests' ... OK
* checking tests ...
  Running 'testthat.R'
 OK
* checking for unstated dependencies in vignettes ... OK
* checking package vignettes in 'inst/doc' ... OK
* checking running R code from vignettes ... SKIPPED
* checking re-building of vignette outputs ... SKIPPED
* checking PDF version of manual ... OK
* DONE
Status: OK
metavizr.Rcheck/00install.out
##############################################################################
##############################################################################
###
### Running command:
###
###   D:\biocbuild\bbs-3.15-bioc\R\bin\R.exe CMD INSTALL metavizr
###
##############################################################################
##############################################################################
* installing to library 'D:/biocbuild/bbs-3.15-bioc/R/library'
* installing *source* package 'metavizr' ...
** using staged installation
** R
** inst
** byte-compile and prepare package for lazy loading
Warning: replacing previous import 'GenomicFeatures::proteinToGenome' by 'ensembldb::proteinToGenome' when loading 'epivizrData'
** help
*** installing help indices
  converting help for package 'metavizr'
    finding HTML links ... done
    EpivizMetagenomicsData-class            html  
    EpivizMetagenomicsDataInnerNodes-class
                                            html  
    EpivizMetagenomicsDataTimeSeries-class
                                            html  
    MetavizApp-class                        html  
    MetavizGraph-class                      html  
    MetavizGraphInnerNodes-class            html  
    buildMetavizGraph                       html  
    buildMetavizGraphInnerNodes             html  
    generateSelection                       html  
    metavizControl                          html  
    register-MRexperiment-method            html  
    register-phyloseq-method                html  
    finding level-2 HTML links ... done
    replaceNAFeatures                       html  
    setMetavizStandalone                    html  
    startMetaviz                            html  
    startMetavizStandalone                  html  
    validateObject                          html  
** building package indices
** installing vignettes
** testing if installed package can be loaded from temporary location
Warning: replacing previous import 'GenomicFeatures::proteinToGenome' by 'ensembldb::proteinToGenome' when loading 'epivizrData'
** testing if installed package can be loaded from final location
Warning: replacing previous import 'GenomicFeatures::proteinToGenome' by 'ensembldb::proteinToGenome' when loading 'epivizrData'
** testing if installed package keeps a record of temporary installation path
* DONE (metavizr)
Making 'packages.html' ... done
metavizr.Rcheck/tests/testthat.Rout
R Under development (unstable) (2021-11-21 r81221) -- "Unsuffered Consequences"
Copyright (C) 2021 The R Foundation for Statistical Computing
Platform: x86_64-w64-mingw32/x64 (64-bit)
R is free software and comes with ABSOLUTELY NO WARRANTY.
You are welcome to redistribute it under certain conditions.
Type 'license()' or 'licence()' for distribution details.
R is a collaborative project with many contributors.
Type 'contributors()' for more information and
'citation()' on how to cite R or R packages in publications.
Type 'demo()' for some demos, 'help()' for on-line help, or
'help.start()' for an HTML browser interface to help.
Type 'q()' to quit R.
> library(testthat)
> library(metavizr)
Loading required package: metagenomeSeq
Loading required package: Biobase
Loading required package: BiocGenerics
Attaching package: 'BiocGenerics'
The following objects are masked from 'package:stats':
    IQR, mad, sd, var, xtabs
The following objects are masked from 'package:base':
    Filter, Find, Map, Position, Reduce, anyDuplicated, append,
    as.data.frame, basename, cbind, colnames, dirname, do.call,
    duplicated, eval, evalq, get, grep, grepl, intersect, is.unsorted,
    lapply, mapply, match, mget, order, paste, pmax, pmax.int, pmin,
    pmin.int, rank, rbind, rownames, sapply, setdiff, sort, table,
    tapply, union, unique, unsplit, which.max, which.min
Welcome to Bioconductor
    Vignettes contain introductory material; view with
    'browseVignettes()'. To cite Bioconductor, see
    'citation("Biobase")', and for packages 'citation("pkgname")'.
Loading required package: limma
Attaching package: 'limma'
The following object is masked from 'package:BiocGenerics':
    plotMA
Loading required package: glmnet
Loading required package: Matrix
Loaded glmnet 4.1-3
Loading required package: RColorBrewer
Loading required package: data.table
Loading required package: digest
Warning message:
replacing previous import 'GenomicFeatures::proteinToGenome' by 'ensembldb::proteinToGenome' when loading 'epivizrData' 
> 
> test_check("metavizr")
[ FAIL 0 | WARN 68 | SKIP 0 | PASS 21 ]
[ FAIL 0 | WARN 68 | SKIP 0 | PASS 21 ]
> 
> proc.time()
   user  system elapsed 
  34.85    2.93   37.75 
metavizr.Rcheck/metavizr-Ex.timings
| name | user | system | elapsed | |
| EpivizMetagenomicsData-class | 0 | 0 | 0 | |
| EpivizMetagenomicsDataInnerNodes-class | 0 | 0 | 0 | |
| EpivizMetagenomicsDataTimeSeries-class | 0 | 0 | 0 | |
| generateSelection | 0 | 0 | 0 | |
| metavizControl | 0 | 0 | 0 | |
| replaceNAFeatures | 9.25 | 1.34 | 10.59 | |
| setMetavizStandalone | 0 | 0 | 0 | |
| startMetaviz | 0.13 | 0.00 | 0.12 | |
| startMetavizStandalone | 0.08 | 0.00 | 0.08 | |
| validateObject | 0.15 | 0.03 | 0.19 | |