| Back to Multiple platform build/check report for BioC 3.15 |
|
This page was generated on 2022-03-18 11:07:59 -0400 (Fri, 18 Mar 2022).
| Hostname | OS | Arch (*) | R version | Installed pkgs |
|---|---|---|---|---|
| nebbiolo1 | Linux (Ubuntu 20.04.4 LTS) | x86_64 | R Under development (unstable) (2022-02-17 r81757) -- "Unsuffered Consequences" | 4334 |
| riesling1 | Windows Server 2019 Standard | x64 | R Under development (unstable) (2021-11-21 r81221) -- "Unsuffered Consequences" | 4097 |
| palomino3 | Windows Server 2022 Datacenter | x64 | R Under development (unstable) (2022-02-17 r81757 ucrt) -- "Unsuffered Consequences" | 4083 |
| merida1 | macOS 10.14.6 Mojave | x86_64 | R Under development (unstable) (2022-03-02 r81842) -- "Unsuffered Consequences" | 4134 |
| Click on any hostname to see more info about the system (e.g. compilers) (*) as reported by 'uname -p', except on Windows and Mac OS X | ||||
|
To the developers/maintainers of the metaseqR2 package: - Please allow up to 24 hours (and sometimes 48 hours) for your latest push to git@git.bioconductor.org:packages/metaseqR2.git to reflect on this report. See How and When does the builder pull? When will my changes propagate? here for more information. - Make sure to use the following settings in order to reproduce any error or warning you see on this page. |
| Package 1111/2090 | Hostname | OS / Arch | INSTALL | BUILD | CHECK | BUILD BIN | ||||||||
| metaseqR2 1.7.11 (landing page) Panagiotis Moulos
| nebbiolo1 | Linux (Ubuntu 20.04.4 LTS) / x86_64 | OK | OK | WARNINGS | |||||||||
| riesling1 | Windows Server 2019 Standard / x64 | OK | OK | WARNINGS | OK | |||||||||
| palomino3 | Windows Server 2022 Datacenter / x64 | OK | OK | WARNINGS | OK | |||||||||
| merida1 | macOS 10.14.6 Mojave / x86_64 | OK | OK | WARNINGS | OK | |||||||||
| Package: metaseqR2 |
| Version: 1.7.11 |
| Command: rm -rf metaseqR2.buildbin-libdir && mkdir metaseqR2.buildbin-libdir && D:\biocbuild\bbs-3.15-bioc\R\bin\R.exe CMD INSTALL --build --library=metaseqR2.buildbin-libdir metaseqR2_1.7.11.tar.gz |
| StartedAt: 2022-03-17 21:20:09 -0400 (Thu, 17 Mar 2022) |
| EndedAt: 2022-03-17 21:21:22 -0400 (Thu, 17 Mar 2022) |
| EllapsedTime: 73.8 seconds |
| RetCode: 0 |
| Status: OK |
| PackageFile: metaseqR2_1.7.11.zip |
| PackageFileSize: 4.627 MiB |
##############################################################################
##############################################################################
###
### Running command:
###
### rm -rf metaseqR2.buildbin-libdir && mkdir metaseqR2.buildbin-libdir && D:\biocbuild\bbs-3.15-bioc\R\bin\R.exe CMD INSTALL --build --library=metaseqR2.buildbin-libdir metaseqR2_1.7.11.tar.gz
###
##############################################################################
##############################################################################
* installing *source* package 'metaseqR2' ...
** using staged installation
** libs
"C:/rtools40/mingw64/bin/"gcc -I"D:/biocbuild/bbs-3.15-bioc/R/include" -DNDEBUG -I"C:/extsoft/include" -O2 -Wall -std=gnu99 -mfpmath=sse -msse2 -mstackrealign -fno-reorder-blocks-and-partition -c pval.c -o pval.o
pval.c: In function 'add_from_both_sides':
pval.c:26:11: warning: unused variable 'esttotalperlength' [-Wunused-variable]
double esttotalperlength = total/2;
^~~~~~~~~~~~~~~~~
C:/rtools40/mingw64/bin/gcc -shared -s -static-libgcc -o metaseqR2.dll tmp.def pval.o -LC:/extsoft/lib/x64 -LC:/extsoft/lib -LD:/biocbuild/bbs-3.15-bioc/R/bin/x64 -lR
installing to D:/biocbuild/bbs-3.15-bioc/meat/metaseqR2.buildbin-libdir/00LOCK-metaseqR2/00new/metaseqR2/libs/x64
** R
** data
** inst
** byte-compile and prepare package for lazy loading
Warning: replacing previous import 'GenomicRanges::subtract' by 'magrittr::subtract' when loading 'metaseqR2'
** help
*** installing help indices
converting help for package 'metaseqR2'
finding HTML links ... done
buildAnnotationDatabase html
buildCustomAnnotation html
combineBonferroni html
combineHarmonic html
combineMaxp html
combineMinp html
combineSimes html
combineWeight html
createSignalTracks html
diagplotAvgFtd html
diagplotBoxplot html
diagplotCor html
diagplotDeHeatmap html
diagplotEdaseq html
diagplotFiltered html
diagplotFtd html
diagplotMds html
diagplotNoiseq html
diagplotPairs html
diagplotRoc html
diagplotVenn html
diagplotVolcano html
downsampleCounts html
estimateAufcWeights html
estimateSimParams html
getAnnotation html
getDefaults html
getInstalledAnnotations html
getWeights html
hg19pvalues html
importCustomAnnotation html
libsizeListMm9 html
loadAnnotation html
makeSimDataSd html
makeSimDataTcc html
metaTest html
metaseqr2 html
finding level-2 HTML links ... done
metaseqrPlot html
mm9GeneCounts html
normalizeAbsseq html
normalizeDeseq html
normalizeDeseq2 html
normalizeDss html
normalizeEdaseq html
normalizeEdger html
normalizeNbpseq html
normalizeNoiseq html
read2count html
readTargets html
sampleListMm9 html
statAbsseq html
statBayseq html
statDeseq html
statDeseq2 html
statDss html
statEdger html
statLimma html
statNbpseq html
statNoiseq html
** building package indices
** installing vignettes
** testing if installed package can be loaded from temporary location
Warning: replacing previous import 'GenomicRanges::subtract' by 'magrittr::subtract' when loading 'metaseqR2'
** testing if installed package can be loaded from final location
Warning: replacing previous import 'GenomicRanges::subtract' by 'magrittr::subtract' when loading 'metaseqR2'
** testing if installed package keeps a record of temporary installation path
* MD5 sums
packaged installation of 'metaseqR2' as metaseqR2_1.7.11.zip
* DONE (metaseqR2)