| Back to Multiple platform build/check report for BioC 3.15 |
|
This page was generated on 2022-10-19 13:23:14 -0400 (Wed, 19 Oct 2022).
| Hostname | OS | Arch (*) | R version | Installed pkgs |
|---|---|---|---|---|
| nebbiolo1 | Linux (Ubuntu 20.04.5 LTS) | x86_64 | 4.2.1 (2022-06-23) -- "Funny-Looking Kid" | 4386 |
| palomino3 | Windows Server 2022 Datacenter | x64 | 4.2.1 (2022-06-23 ucrt) -- "Funny-Looking Kid" | 4138 |
| merida1 | macOS 10.14.6 Mojave | x86_64 | 4.2.1 (2022-06-23) -- "Funny-Looking Kid" | 4205 |
| Click on any hostname to see more info about the system (e.g. compilers) (*) as reported by 'uname -p', except on Windows and Mac OS X | ||||
|
To the developers/maintainers of the metabomxtr package: - Please allow up to 24 hours (and sometimes 48 hours) for your latest push to git@git.bioconductor.org:packages/metabomxtr.git to reflect on this report. See How and When does the builder pull? When will my changes propagate? for more information. - Make sure to use the following settings in order to reproduce any error or warning you see on this page. |
| Package 1123/2140 | Hostname | OS / Arch | INSTALL | BUILD | CHECK | BUILD BIN | ||||||||
| metabomxtr 1.30.0 (landing page) Michael Nodzenski
| nebbiolo1 | Linux (Ubuntu 20.04.5 LTS) / x86_64 | OK | OK | OK | |||||||||
| palomino3 | Windows Server 2022 Datacenter / x64 | OK | OK | OK | OK | |||||||||
| merida1 | macOS 10.14.6 Mojave / x86_64 | OK | OK | OK | OK | |||||||||
| Package: metabomxtr |
| Version: 1.30.0 |
| Command: /Library/Frameworks/R.framework/Resources/bin/R CMD check --install=check:metabomxtr.install-out.txt --library=/Library/Frameworks/R.framework/Resources/library --no-vignettes --timings metabomxtr_1.30.0.tar.gz |
| StartedAt: 2022-10-19 04:24:44 -0400 (Wed, 19 Oct 2022) |
| EndedAt: 2022-10-19 04:27:10 -0400 (Wed, 19 Oct 2022) |
| EllapsedTime: 145.6 seconds |
| RetCode: 0 |
| Status: OK |
| CheckDir: metabomxtr.Rcheck |
| Warnings: 0 |
##############################################################################
##############################################################################
###
### Running command:
###
### /Library/Frameworks/R.framework/Resources/bin/R CMD check --install=check:metabomxtr.install-out.txt --library=/Library/Frameworks/R.framework/Resources/library --no-vignettes --timings metabomxtr_1.30.0.tar.gz
###
##############################################################################
##############################################################################
* using log directory ‘/Users/biocbuild/bbs-3.15-bioc/meat/metabomxtr.Rcheck’
* using R version 4.2.1 (2022-06-23)
* using platform: x86_64-apple-darwin17.0 (64-bit)
* using session charset: UTF-8
* using option ‘--no-vignettes’
* checking for file ‘metabomxtr/DESCRIPTION’ ... OK
* checking extension type ... Package
* this is package ‘metabomxtr’ version ‘1.30.0’
* checking package namespace information ... OK
* checking package dependencies ... OK
* checking if this is a source package ... OK
* checking if there is a namespace ... OK
* checking for hidden files and directories ... OK
* checking for portable file names ... OK
* checking for sufficient/correct file permissions ... OK
* checking whether package ‘metabomxtr’ can be installed ... OK
* checking installed package size ... OK
* checking package directory ... OK
* checking ‘build’ directory ... OK
* checking DESCRIPTION meta-information ... OK
* checking top-level files ... OK
* checking for left-over files ... OK
* checking index information ... OK
* checking package subdirectories ... OK
* checking R files for non-ASCII characters ... OK
* checking R files for syntax errors ... OK
* checking whether the package can be loaded ... OK
* checking whether the package can be loaded with stated dependencies ... OK
* checking whether the package can be unloaded cleanly ... OK
* checking whether the namespace can be loaded with stated dependencies ... OK
* checking whether the namespace can be unloaded cleanly ... OK
* checking dependencies in R code ... OK
* checking S3 generic/method consistency ... OK
* checking replacement functions ... OK
* checking foreign function calls ... OK
* checking R code for possible problems ... OK
* checking Rd files ... OK
* checking Rd metadata ... OK
* checking Rd cross-references ... OK
* checking for missing documentation entries ... OK
* checking for code/documentation mismatches ... OK
* checking Rd \usage sections ... OK
* checking Rd contents ... OK
* checking for unstated dependencies in examples ... OK
* checking contents of ‘data’ directory ... OK
* checking data for non-ASCII characters ... OK
* checking data for ASCII and uncompressed saves ... OK
* checking sizes of PDF files under ‘inst/doc’ ... OK
* checking files in ‘vignettes’ ... OK
* checking examples ... OK
Examples with CPU (user + system) or elapsed time > 5s
user system elapsed
mxtrmod 6.876 4.505 5.155
metabomxtr-package 5.566 3.055 4.469
metabplot 4.943 2.652 2.883
mixnorm 3.248 2.477 1.706
mxtrmodLRT 3.162 2.478 2.813
* checking for unstated dependencies in vignettes ... OK
* checking package vignettes in ‘inst/doc’ ... OK
* checking running R code from vignettes ... SKIPPED
* checking re-building of vignette outputs ... SKIPPED
* checking PDF version of manual ... OK
* DONE
Status: OK
metabomxtr.Rcheck/00install.out
############################################################################## ############################################################################## ### ### Running command: ### ### /Library/Frameworks/R.framework/Resources/bin/R CMD INSTALL metabomxtr ### ############################################################################## ############################################################################## * installing to library ‘/Library/Frameworks/R.framework/Versions/4.2/Resources/library’ * installing *source* package ‘metabomxtr’ ... ** using staged installation ** R ** data ** byte-compile and prepare package for lazy loading ** help *** installing help indices ** building package indices ** installing vignettes ** testing if installed package can be loaded from temporary location ** testing if installed package can be loaded from final location ** testing if installed package keeps a record of temporary installation path * DONE (metabomxtr)
metabomxtr.Rcheck/metabomxtr-Ex.timings
| name | user | system | elapsed | |
| addBatchMeans | 0.048 | 0.006 | 0.054 | |
| addOutlierInfo | 0.001 | 0.001 | 0.002 | |
| allMissingLevels | 0.006 | 0.002 | 0.008 | |
| anyMissingLevels | 0.003 | 0.002 | 0.005 | |
| idMissingLevels | 0.005 | 0.001 | 0.007 | |
| metabomxtr-package | 5.566 | 3.055 | 4.469 | |
| metabplot | 4.943 | 2.652 | 2.883 | |
| mixnorm | 3.248 | 2.477 | 1.706 | |
| mxtrmod | 6.876 | 4.505 | 5.155 | |
| mxtrmodLL | 0.005 | 0.003 | 0.007 | |
| mxtrmodLRT | 3.162 | 2.478 | 2.813 | |
| mxtrmodstart | 0.004 | 0.002 | 0.007 | |
| removeAllMissingCatVar | 0.005 | 0.001 | 0.006 | |
| removeMissingLevels | 0.005 | 0.003 | 0.009 | |
| runMxtrmod | 1.480 | 0.134 | 1.615 | |