| Back to Multiple platform build/check report for BioC 3.15 |
|
This page was generated on 2022-03-18 11:07:56 -0400 (Fri, 18 Mar 2022).
| Hostname | OS | Arch (*) | R version | Installed pkgs |
|---|---|---|---|---|
| nebbiolo1 | Linux (Ubuntu 20.04.4 LTS) | x86_64 | R Under development (unstable) (2022-02-17 r81757) -- "Unsuffered Consequences" | 4334 |
| riesling1 | Windows Server 2019 Standard | x64 | R Under development (unstable) (2021-11-21 r81221) -- "Unsuffered Consequences" | 4097 |
| palomino3 | Windows Server 2022 Datacenter | x64 | R Under development (unstable) (2022-02-17 r81757 ucrt) -- "Unsuffered Consequences" | 4083 |
| merida1 | macOS 10.14.6 Mojave | x86_64 | R Under development (unstable) (2022-03-02 r81842) -- "Unsuffered Consequences" | 4134 |
| Click on any hostname to see more info about the system (e.g. compilers) (*) as reported by 'uname -p', except on Windows and Mac OS X | ||||
|
To the developers/maintainers of the mbkmeans package: - Please allow up to 24 hours (and sometimes 48 hours) for your latest push to git@git.bioconductor.org:packages/mbkmeans.git to reflect on this report. See How and When does the builder pull? When will my changes propagate? here for more information. - Make sure to use the following settings in order to reproduce any error or warning you see on this page. |
| Package 1068/2090 | Hostname | OS / Arch | INSTALL | BUILD | CHECK | BUILD BIN | ||||||||
| mbkmeans 1.11.0 (landing page) Davide Risso
| nebbiolo1 | Linux (Ubuntu 20.04.4 LTS) / x86_64 | OK | OK | OK | |||||||||
| riesling1 | Windows Server 2019 Standard / x64 | OK | OK | OK | OK | |||||||||
| palomino3 | Windows Server 2022 Datacenter / x64 | OK | OK | OK | OK | |||||||||
| merida1 | macOS 10.14.6 Mojave / x86_64 | OK | OK | OK | OK | |||||||||
| Package: mbkmeans |
| Version: 1.11.0 |
| Command: rm -rf mbkmeans.buildbin-libdir && mkdir mbkmeans.buildbin-libdir && D:\biocbuild\bbs-3.15-bioc\R\bin\R.exe CMD INSTALL --build --library=mbkmeans.buildbin-libdir mbkmeans_1.11.0.tar.gz |
| StartedAt: 2022-03-17 21:19:13 -0400 (Thu, 17 Mar 2022) |
| EndedAt: 2022-03-17 21:20:20 -0400 (Thu, 17 Mar 2022) |
| EllapsedTime: 67.0 seconds |
| RetCode: 0 |
| Status: OK |
| PackageFile: mbkmeans_1.11.0.zip |
| PackageFileSize: 702.9 KiB |
##############################################################################
##############################################################################
###
### Running command:
###
### rm -rf mbkmeans.buildbin-libdir && mkdir mbkmeans.buildbin-libdir && D:\biocbuild\bbs-3.15-bioc\R\bin\R.exe CMD INSTALL --build --library=mbkmeans.buildbin-libdir mbkmeans_1.11.0.tar.gz
###
##############################################################################
##############################################################################
* installing *source* package 'mbkmeans' ...
** using staged installation
** libs
"C:/rtools40/mingw64/bin/"g++ -std=gnu++11 -I"D:/biocbuild/bbs-3.15-bioc/R/include" -DNDEBUG -I'D:/biocbuild/bbs-3.15-bioc/R/library/Rcpp/include' -I'D:/biocbuild/bbs-3.15-bioc/R/library/RcppArmadillo/include' -I'D:/biocbuild/bbs-3.15-bioc/R/library/Rhdf5lib/include' -I'D:/biocbuild/bbs-3.15-bioc/R/library/beachmat/include' -I'D:/biocbuild/bbs-3.15-bioc/R/library/ClusterR/include' -I"C:/extsoft/include" -O2 -Wall -mfpmath=sse -msse2 -mstackrealign -fno-reorder-blocks-and-partition -c RcppExports.cpp -o RcppExports.o
"C:/rtools40/mingw64/bin/"g++ -std=gnu++11 -I"D:/biocbuild/bbs-3.15-bioc/R/include" -DNDEBUG -I'D:/biocbuild/bbs-3.15-bioc/R/library/Rcpp/include' -I'D:/biocbuild/bbs-3.15-bioc/R/library/RcppArmadillo/include' -I'D:/biocbuild/bbs-3.15-bioc/R/library/Rhdf5lib/include' -I'D:/biocbuild/bbs-3.15-bioc/R/library/beachmat/include' -I'D:/biocbuild/bbs-3.15-bioc/R/library/ClusterR/include' -I"C:/extsoft/include" -O2 -Wall -mfpmath=sse -msse2 -mstackrealign -fno-reorder-blocks-and-partition -c mini_batch.cpp -o mini_batch.o
In file included from mini_batch.cpp:3:
D:/biocbuild/bbs-3.15-bioc/R/library/ClusterR/include/ClusterRHeader.h: In member function 'arma::mat clustR::ClustHeader::KMEANS_arma(arma::mat&, int, int, bool, std::__cxx11::string, Rcpp::Nullable<Rcpp::Matrix<14> >, int)':
D:/biocbuild/bbs-3.15-bioc/R/library/ClusterR/include/ClusterRHeader.h:926:14: warning: variable 'status' set but not used [-Wunused-but-set-variable]
bool status;
^~~~~~
D:/biocbuild/bbs-3.15-bioc/R/library/ClusterR/include/ClusterRHeader.h: In member function 'Rcpp::List clustR::ClustHeader::GMM_arma(arma::mat&, int, std::__cxx11::string, std::__cxx11::string, int, int, bool, double, int)':
D:/biocbuild/bbs-3.15-bioc/R/library/ClusterR/include/ClusterRHeader.h:1522:14: warning: variable 'status' set but not used [-Wunused-but-set-variable]
bool status;
^~~~~~
C:/rtools40/mingw64/bin/g++ -shared -s -static-libgcc -o mbkmeans.dll tmp.def RcppExports.o mini_batch.o -LC:/extsoft/lib/x64 -LC:/extsoft/lib -LD:/biocbuild/bbs-3.15-bioc/R/bin/x64 -lR
installing to D:/biocbuild/bbs-3.15-bioc/meat/mbkmeans.buildbin-libdir/00LOCK-mbkmeans/00new/mbkmeans/libs/x64
** R
** inst
** byte-compile and prepare package for lazy loading
** help
*** installing help indices
converting help for package 'mbkmeans'
finding HTML links ... done
MbkmeansParam html
blocksize html
clusterRows html
compute_wcss html
mbkmeans html
mini_batch html
predict_mini_batch html
predict_mini_batch_r html
** building package indices
** installing vignettes
** testing if installed package can be loaded from temporary location
** testing if installed package can be loaded from final location
** testing if installed package keeps a record of temporary installation path
* MD5 sums
packaged installation of 'mbkmeans' as mbkmeans_1.11.0.zip
* DONE (mbkmeans)