| Back to Multiple platform build/check report for BioC 3.15 |
|
This page was generated on 2022-03-18 11:07:55 -0400 (Fri, 18 Mar 2022).
| Hostname | OS | Arch (*) | R version | Installed pkgs |
|---|---|---|---|---|
| nebbiolo1 | Linux (Ubuntu 20.04.4 LTS) | x86_64 | R Under development (unstable) (2022-02-17 r81757) -- "Unsuffered Consequences" | 4334 |
| riesling1 | Windows Server 2019 Standard | x64 | R Under development (unstable) (2021-11-21 r81221) -- "Unsuffered Consequences" | 4097 |
| palomino3 | Windows Server 2022 Datacenter | x64 | R Under development (unstable) (2022-02-17 r81757 ucrt) -- "Unsuffered Consequences" | 4083 |
| merida1 | macOS 10.14.6 Mojave | x86_64 | R Under development (unstable) (2022-03-02 r81842) -- "Unsuffered Consequences" | 4134 |
| Click on any hostname to see more info about the system (e.g. compilers) (*) as reported by 'uname -p', except on Windows and Mac OS X | ||||
|
To the developers/maintainers of the marray package: - Please allow up to 24 hours (and sometimes 48 hours) for your latest push to git@git.bioconductor.org:packages/marray.git to reflect on this report. See How and When does the builder pull? When will my changes propagate? here for more information. - Make sure to use the following settings in order to reproduce any error or warning you see on this page. |
| Package 1051/2090 | Hostname | OS / Arch | INSTALL | BUILD | CHECK | BUILD BIN | ||||||||
| marray 1.73.0 (landing page) Yee Hwa (Jean) Yang
| nebbiolo1 | Linux (Ubuntu 20.04.4 LTS) / x86_64 | OK | OK | OK | |||||||||
| riesling1 | Windows Server 2019 Standard / x64 | OK | OK | OK | OK | |||||||||
| palomino3 | Windows Server 2022 Datacenter / x64 | OK | OK | OK | OK | |||||||||
| merida1 | macOS 10.14.6 Mojave / x86_64 | OK | OK | OK | OK | |||||||||
| Package: marray |
| Version: 1.73.0 |
| Command: rm -rf marray.buildbin-libdir && mkdir marray.buildbin-libdir && D:\biocbuild\bbs-3.15-bioc\R\bin\R.exe CMD INSTALL --build --library=marray.buildbin-libdir marray_1.73.0.tar.gz |
| StartedAt: 2022-03-17 21:18:50 -0400 (Thu, 17 Mar 2022) |
| EndedAt: 2022-03-17 21:19:59 -0400 (Thu, 17 Mar 2022) |
| EllapsedTime: 68.8 seconds |
| RetCode: 0 |
| Status: OK |
| PackageFile: marray_1.73.0.zip |
| PackageFileSize: 5.528 MiB |
##############################################################################
##############################################################################
###
### Running command:
###
### rm -rf marray.buildbin-libdir && mkdir marray.buildbin-libdir && D:\biocbuild\bbs-3.15-bioc\R\bin\R.exe CMD INSTALL --build --library=marray.buildbin-libdir marray_1.73.0.tar.gz
###
##############################################################################
##############################################################################
* installing *source* package 'marray' ...
** using staged installation
** R
** data
** inst
** byte-compile and prepare package for lazy loading
** help
*** installing help indices
converting help for package 'marray'
finding HTML links ... done
boxplot html
bracketMethods html
cbind html
checkTargetInfo html
coerce-methods html
dim html
findID html
htmlPage html
image html
ma2D html
maBoxplot html
maColorBar html
maCompCoord html
maCompInd html
maCompLayout html
maCompNormA html
maCompPlate html
maCoord2Ind html
maDefaultPar html
maDotsDefaults html
maDotsMatch html
maGenControls html
maGeneTable html
maImage html
maImage.func html
maInd2Coord html
maLegendLines html
maLoess html
maLoessLines html
maMAD html
maMed html
maNA html
maNorm html
maNorm2D html
maNormLoess html
maNormMAD html
maNormMain html
maNormMed html
maNormScale html
maNum2Logic html
maPalette html
maPlot html
maPlot.func html
maSelectGnames html
maText html
maTop html
maTwoSamples html
mapGeneInfo html
marray-internal html
marrayInfo-class html
marrayLayout-class html
marrayNorm-class html
marrayRaw-class html
opVersionID html
plotMA html
print-methods html
read.Galfile html
read.marrayInfo html
read.marrayLayout html
read.marrayRaw html
rm.na html
showLargeObject html
stat.confband.text html
stat.gnames html
swirl html
write.list html
write.marray html
write.xls html
** building package indices
** installing vignettes
** testing if installed package can be loaded from temporary location
** testing if installed package can be loaded from final location
** testing if installed package keeps a record of temporary installation path
* MD5 sums
packaged installation of 'marray' as marray_1.73.0.zip
* DONE (marray)