| Back to Multiple platform build/check report for BioC 3.15 |
|
This page was generated on 2022-03-18 11:07:54 -0400 (Fri, 18 Mar 2022).
| Hostname | OS | Arch (*) | R version | Installed pkgs |
|---|---|---|---|---|
| nebbiolo1 | Linux (Ubuntu 20.04.4 LTS) | x86_64 | R Under development (unstable) (2022-02-17 r81757) -- "Unsuffered Consequences" | 4334 |
| riesling1 | Windows Server 2019 Standard | x64 | R Under development (unstable) (2021-11-21 r81221) -- "Unsuffered Consequences" | 4097 |
| palomino3 | Windows Server 2022 Datacenter | x64 | R Under development (unstable) (2022-02-17 r81757 ucrt) -- "Unsuffered Consequences" | 4083 |
| merida1 | macOS 10.14.6 Mojave | x86_64 | R Under development (unstable) (2022-03-02 r81842) -- "Unsuffered Consequences" | 4134 |
| Click on any hostname to see more info about the system (e.g. compilers) (*) as reported by 'uname -p', except on Windows and Mac OS X | ||||
|
To the developers/maintainers of the maanova package: - Please allow up to 24 hours (and sometimes 48 hours) for your latest push to git@git.bioconductor.org:packages/maanova.git to reflect on this report. See How and When does the builder pull? When will my changes propagate? here for more information. - Make sure to use the following settings in order to reproduce any error or warning you see on this page. |
| Package 1029/2090 | Hostname | OS / Arch | INSTALL | BUILD | CHECK | BUILD BIN | ||||||||
| maanova 1.65.0 (landing page) Keith Sheppard
| nebbiolo1 | Linux (Ubuntu 20.04.4 LTS) / x86_64 | OK | OK | OK | |||||||||
| riesling1 | Windows Server 2019 Standard / x64 | OK | OK | OK | OK | |||||||||
| palomino3 | Windows Server 2022 Datacenter / x64 | OK | OK | OK | OK | |||||||||
| merida1 | macOS 10.14.6 Mojave / x86_64 | OK | OK | WARNINGS | OK | |||||||||
| Package: maanova |
| Version: 1.65.0 |
| Command: rm -rf maanova.buildbin-libdir && mkdir maanova.buildbin-libdir && D:\biocbuild\bbs-3.15-bioc\R\bin\R.exe CMD INSTALL --build --library=maanova.buildbin-libdir maanova_1.65.0.tar.gz |
| StartedAt: 2022-03-17 21:18:18 -0400 (Thu, 17 Mar 2022) |
| EndedAt: 2022-03-17 21:19:28 -0400 (Thu, 17 Mar 2022) |
| EllapsedTime: 70.0 seconds |
| RetCode: 0 |
| Status: OK |
| PackageFile: maanova_1.65.0.zip |
| PackageFileSize: 1.291 MiB |
##############################################################################
##############################################################################
###
### Running command:
###
### rm -rf maanova.buildbin-libdir && mkdir maanova.buildbin-libdir && D:\biocbuild\bbs-3.15-bioc\R\bin\R.exe CMD INSTALL --build --library=maanova.buildbin-libdir maanova_1.65.0.tar.gz
###
##############################################################################
##############################################################################
* installing *source* package 'maanova' ...
** using staged installation
** libs
"C:/rtools40/mingw64/bin/"gcc -I"D:/biocbuild/bbs-3.15-bioc/R/include" -DNDEBUG -I"C:/extsoft/include" -O2 -Wall -std=gnu99 -mfpmath=sse -msse2 -mstackrealign -fno-reorder-blocks-and-partition -c makeratio.c -o makeratio.o
"C:/rtools40/mingw64/bin/"gcc -I"D:/biocbuild/bbs-3.15-bioc/R/include" -DNDEBUG -I"C:/extsoft/include" -O2 -Wall -std=gnu99 -mfpmath=sse -msse2 -mstackrealign -fno-reorder-blocks-and-partition -c masvd.c -o masvd.o
masvd.c:114:2: warning: "/*" within comment [-Wcomment]
/* work on a copy of x */
masvd.c:154:1: warning: "/*" within comment [-Wcomment]
/*#ifndef IEEE_754
masvd.c:161:5: warning: "/*" within comment [-Wcomment]
/* work on a copy of x */
masvd.c:165:2: warning: "/*" within comment [-Wcomment]
/* ask for optimal size of work array */
masvd.c:189:2: warning: "/*" within comment [-Wcomment]
/* ask for optimal size of work array */
"C:/rtools40/mingw64/bin/"gcc -I"D:/biocbuild/bbs-3.15-bioc/R/include" -DNDEBUG -I"C:/extsoft/include" -O2 -Wall -std=gnu99 -mfpmath=sse -msse2 -mstackrealign -fno-reorder-blocks-and-partition -c shift.c -o shift.o
shift.c: In function 'shift':
shift.c:27:13: warning: unused variable 'k' [-Wunused-variable]
int i, j, k;
^
"C:/rtools40/mingw64/bin/"gcc -I"D:/biocbuild/bbs-3.15-bioc/R/include" -DNDEBUG -I"C:/extsoft/include" -O2 -Wall -std=gnu99 -mfpmath=sse -msse2 -mstackrealign -fno-reorder-blocks-and-partition -c util.c -o util.o
C:/rtools40/mingw64/bin/gcc -shared -s -static-libgcc -o maanova.dll tmp.def makeratio.o masvd.o shift.o util.o -LD:/biocbuild/bbs-3.15-bioc/R/bin/x64 -lRlapack -LC:/extsoft/lib/x64 -LC:/extsoft/lib -LD:/biocbuild/bbs-3.15-bioc/R/bin/x64 -lR
installing to D:/biocbuild/bbs-3.15-bioc/meat/maanova.buildbin-libdir/00LOCK-maanova/00new/maanova/libs/x64
** R
** data
** demo
** inst
** byte-compile and prepare package for lazy loading
** help
*** installing help indices
converting help for package 'maanova'
finding HTML links ... done
PairContrast html
Rmaanova.version html
abf1 html
adjPval html
arrayview html
consensus html
dyeswapfilter html
fill.missing html
fitmaanova html
fom html
geneprofile html
gridcheck html
kidney html
maanova-internal html
macluster html
matest html
read.madata html
resiplot html
riplot html
subset.madata html
summarytable html
transform.madata html
varplot html
volcano html
write.madata html
** building package indices
** installing vignettes
** testing if installed package can be loaded from temporary location
** testing if installed package can be loaded from final location
** testing if installed package keeps a record of temporary installation path
* MD5 sums
packaged installation of 'maanova' as maanova_1.65.0.zip
* DONE (maanova)