Back to Multiple platform build/check report for BioC 3.15 |
|
This page was generated on 2022-01-07 11:07:54 -0500 (Fri, 07 Jan 2022).
Hostname | OS | Arch (*) | R version | Installed pkgs |
---|---|---|---|---|
nebbiolo1 | Linux (Ubuntu 20.04.4 LTS) | x86_64 | R Under development (unstable) (2022-01-05 r81451) -- "Unsuffered Consequences" | 4077 |
riesling1 | Windows Server 2019 Standard | x64 | R Under development (unstable) (2021-11-21 r81221) -- "Unsuffered Consequences" | 4051 |
merida1 | macOS 10.14.6 Mojave | x86_64 | R Under development (unstable) (2021-11-01 r81125) -- "Unsuffered Consequences" | 4069 |
Click on any hostname to see more info about the system (e.g. compilers) (*) as reported by 'uname -p', except on Windows and Mac OS X |
To the developers/maintainers of the iteremoval package: - Please allow up to 24 hours (and sometimes 48 hours) for your latest push to git@git.bioconductor.org:packages/iteremoval.git to reflect on this report. See How and When does the builder pull? When will my changes propagate? here for more information. - Make sure to use the following settings in order to reproduce any error or warning you see on this page. |
Package 969/2073 | Hostname | OS / Arch | INSTALL | BUILD | CHECK | BUILD BIN | ||||||||
iteremoval 1.15.1 (landing page) Jiacheng Chuan
| nebbiolo1 | Linux (Ubuntu 20.04.4 LTS) / x86_64 | OK | ERROR | skipped | |||||||||
riesling1 | Windows Server 2019 Standard / x64 | OK | OK | OK | OK | |||||||||
merida1 | macOS 10.14.6 Mojave / x86_64 | OK | OK | OK | OK | |||||||||
Package: iteremoval |
Version: 1.15.1 |
Command: rm -rf iteremoval.buildbin-libdir && mkdir iteremoval.buildbin-libdir && /Users/biocbuild/BBS/utils/build-universal.sh iteremoval_1.15.1.tar.gz /Library/Frameworks/R.framework/Resources/bin/R iteremoval.buildbin-libdir |
StartedAt: 2022-01-07 08:50:51 -0500 (Fri, 07 Jan 2022) |
EndedAt: 2022-01-07 08:51:44 -0500 (Fri, 07 Jan 2022) |
EllapsedTime: 52.6 seconds |
RetCode: 0 |
Status: OK |
PackageFile: iteremoval_1.15.1.tgz |
PackageFileSize: 346.4 KiB |
############################################################################## ############################################################################## ### ### Running command: ### ### rm -rf iteremoval.buildbin-libdir && mkdir iteremoval.buildbin-libdir && /Users/biocbuild/BBS/utils/build-universal.sh iteremoval_1.15.1.tar.gz /Library/Frameworks/R.framework/Resources/bin/R iteremoval.buildbin-libdir ### ############################################################################## ############################################################################## >>>>>>> >>>>>>> INSTALLATION WITH 'R CMD INSTALL --preclean --no-multiarch --library=iteremoval.buildbin-libdir iteremoval_1.15.1.tar.gz' >>>>>>> * installing *source* package ‘iteremoval’ ... ** using staged installation ** R ** data *** moving datasets to lazyload DB ** demo ** inst ** byte-compile and prepare package for lazy loading ** help *** installing help indices ** building package indices ** installing vignettes ** testing if installed package can be loaded from temporary location ** testing if installed package can be loaded from final location ** testing if installed package keeps a record of temporary installation path * DONE (iteremoval)