| Back to Multiple platform build/check report for BioC 3.15 |
|
This page was generated on 2022-03-18 11:07:51 -0400 (Fri, 18 Mar 2022).
| Hostname | OS | Arch (*) | R version | Installed pkgs |
|---|---|---|---|---|
| nebbiolo1 | Linux (Ubuntu 20.04.4 LTS) | x86_64 | R Under development (unstable) (2022-02-17 r81757) -- "Unsuffered Consequences" | 4334 |
| riesling1 | Windows Server 2019 Standard | x64 | R Under development (unstable) (2021-11-21 r81221) -- "Unsuffered Consequences" | 4097 |
| palomino3 | Windows Server 2022 Datacenter | x64 | R Under development (unstable) (2022-02-17 r81757 ucrt) -- "Unsuffered Consequences" | 4083 |
| merida1 | macOS 10.14.6 Mojave | x86_64 | R Under development (unstable) (2022-03-02 r81842) -- "Unsuffered Consequences" | 4134 |
| Click on any hostname to see more info about the system (e.g. compilers) (*) as reported by 'uname -p', except on Windows and Mac OS X | ||||
|
To the developers/maintainers of the iterativeBMAsurv package: - Please allow up to 24 hours (and sometimes 48 hours) for your latest push to git@git.bioconductor.org:packages/iterativeBMAsurv.git to reflect on this report. See How and When does the builder pull? When will my changes propagate? here for more information. - Make sure to use the following settings in order to reproduce any error or warning you see on this page. |
| Package 972/2090 | Hostname | OS / Arch | INSTALL | BUILD | CHECK | BUILD BIN | ||||||||
| iterativeBMAsurv 1.53.0 (landing page) Ka Yee Yeung
| nebbiolo1 | Linux (Ubuntu 20.04.4 LTS) / x86_64 | OK | OK | OK | |||||||||
| riesling1 | Windows Server 2019 Standard / x64 | OK | OK | OK | OK | |||||||||
| palomino3 | Windows Server 2022 Datacenter / x64 | OK | OK | OK | OK | |||||||||
| merida1 | macOS 10.14.6 Mojave / x86_64 | OK | OK | OK | OK | |||||||||
| Package: iterativeBMAsurv |
| Version: 1.53.0 |
| Command: D:\biocbuild\bbs-3.15-bioc\R\bin\R.exe CMD check --no-multiarch --install=check:iterativeBMAsurv.install-out.txt --library=D:\biocbuild\bbs-3.15-bioc\R\library --no-vignettes --timings iterativeBMAsurv_1.53.0.tar.gz |
| StartedAt: 2022-03-17 19:24:34 -0400 (Thu, 17 Mar 2022) |
| EndedAt: 2022-03-17 19:26:12 -0400 (Thu, 17 Mar 2022) |
| EllapsedTime: 98.0 seconds |
| RetCode: 0 |
| Status: OK |
| CheckDir: iterativeBMAsurv.Rcheck |
| Warnings: 0 |
##############################################################################
##############################################################################
###
### Running command:
###
### D:\biocbuild\bbs-3.15-bioc\R\bin\R.exe CMD check --no-multiarch --install=check:iterativeBMAsurv.install-out.txt --library=D:\biocbuild\bbs-3.15-bioc\R\library --no-vignettes --timings iterativeBMAsurv_1.53.0.tar.gz
###
##############################################################################
##############################################################################
* using log directory 'D:/biocbuild/bbs-3.15-bioc/meat/iterativeBMAsurv.Rcheck'
* using R Under development (unstable) (2021-11-21 r81221)
* using platform: x86_64-w64-mingw32 (64-bit)
* using session charset: ISO8859-1
* using option '--no-vignettes'
* checking for file 'iterativeBMAsurv/DESCRIPTION' ... OK
* checking extension type ... Package
* this is package 'iterativeBMAsurv' version '1.53.0'
* checking package namespace information ... OK
* checking package dependencies ... OK
* checking if this is a source package ... OK
* checking if there is a namespace ... OK
* checking for hidden files and directories ... OK
* checking for portable file names ... OK
* checking whether package 'iterativeBMAsurv' can be installed ... OK
* checking installed package size ... OK
* checking package directory ... OK
* checking 'build' directory ... OK
* checking DESCRIPTION meta-information ... NOTE
Package listed in more than one of Depends, Imports, Suggests, Enhances:
'survival'
A package should be listed in only one of these fields.
* checking top-level files ... OK
* checking for left-over files ... OK
* checking index information ... OK
* checking package subdirectories ... OK
* checking R files for non-ASCII characters ... OK
* checking R files for syntax errors ... OK
* checking whether the package can be loaded ... OK
* checking whether the package can be loaded with stated dependencies ... OK
* checking whether the package can be unloaded cleanly ... OK
* checking whether the namespace can be loaded with stated dependencies ... OK
* checking whether the namespace can be unloaded cleanly ... OK
* checking dependencies in R code ... NOTE
Packages in Depends field not imported from:
'BMA' 'leaps' 'splines'
These packages need to be imported from (in the NAMESPACE file)
for when this namespace is loaded but not attached.
* checking S3 generic/method consistency ... OK
* checking replacement functions ... OK
* checking foreign function calls ... OK
* checking R code for possible problems ... NOTE
iterateBMAsurv.train: no visible global function definition for
'bic.surv'
iterateBMAsurv.train.wrapper: no visible global function definition for
'bic.surv'
Undefined global functions or variables:
bic.surv
* checking Rd files ... NOTE
prepare_Rd: predictBicSurv.Rd:46: Dropping empty section \note
prepare_Rd: predictiveAssessCategory.Rd:52: Dropping empty section \note
prepare_Rd: printTopGenes.Rd:49: Dropping empty section \note
prepare_Rd: singleGeneCoxph.Rd:54: Dropping empty section \note
prepare_Rd: testCens.Rd:13-14: Dropping empty section \details
prepare_Rd: testSurv.Rd:13-14: Dropping empty section \details
prepare_Rd: trainCens.Rd:13-14: Dropping empty section \details
prepare_Rd: trainSurv.Rd:13-14: Dropping empty section \details
* checking Rd metadata ... OK
* checking Rd cross-references ... OK
* checking for missing documentation entries ... OK
* checking for code/documentation mismatches ... OK
* checking Rd \usage sections ... OK
* checking Rd contents ... OK
* checking for unstated dependencies in examples ... OK
* checking contents of 'data' directory ... OK
* checking data for non-ASCII characters ... OK
* checking data for ASCII and uncompressed saves ... OK
* checking files in 'vignettes' ... OK
* checking examples ... OK
Examples with CPU (user + system) or elapsed time > 5s
user system elapsed
imageplot.iterate.bma.surv 12.36 0.01 12.38
predictiveAssessCategory 6.62 0.10 6.91
iterateBMAsurv.train 6.44 0.03 6.46
iterateBMAsurv.train.wrapper 6.36 0.00 6.36
predictBicSurv 6.18 0.04 6.22
* checking for unstated dependencies in vignettes ... OK
* checking package vignettes in 'inst/doc' ... OK
* checking running R code from vignettes ... SKIPPED
* checking re-building of vignette outputs ... SKIPPED
* checking PDF version of manual ... OK
* DONE
Status: 4 NOTEs
See
'D:/biocbuild/bbs-3.15-bioc/meat/iterativeBMAsurv.Rcheck/00check.log'
for details.
iterativeBMAsurv.Rcheck/00install.out
##############################################################################
##############################################################################
###
### Running command:
###
### D:\biocbuild\bbs-3.15-bioc\R\bin\R.exe CMD INSTALL iterativeBMAsurv
###
##############################################################################
##############################################################################
* installing to library 'D:/biocbuild/bbs-3.15-bioc/R/library'
* installing *source* package 'iterativeBMAsurv' ...
** using staged installation
** R
** data
** byte-compile and prepare package for lazy loading
** help
*** installing help indices
converting help for package 'iterativeBMAsurv'
finding HTML links ... done
crossVal html
imageplot.iterate.bma.surv html
iterateBMAsurv.train html
iterateBMAsurv.train.predict.assess html
iterateBMAsurv.train.wrapper html
iterativeBMAsurv-internal html
iterativeBMAsurv-package html
predictBicSurv html
predictiveAssessCategory html
printTopGenes html
singleGeneCoxph html
testCens html
testData html
testSurv html
trainCens html
trainData html
trainSurv html
** building package indices
** installing vignettes
** testing if installed package can be loaded from temporary location
** testing if installed package can be loaded from final location
** testing if installed package keeps a record of temporary installation path
* DONE (iterativeBMAsurv)
Making 'packages.html' ...Warning in packageDescription(i, lib.loc = lib, fields = "Title", encoding = "UTF-8") :
DESCRIPTION file of package 'MQmetrics' is missing or broken
done
iterativeBMAsurv.Rcheck/iterativeBMAsurv-Ex.timings
| name | user | system | elapsed | |
| crossVal | 1.97 | 0.05 | 2.06 | |
| imageplot.iterate.bma.surv | 12.36 | 0.01 | 12.38 | |
| iterateBMAsurv.train | 6.44 | 0.03 | 6.46 | |
| iterateBMAsurv.train.predict.assess | 0.78 | 0.05 | 0.84 | |
| iterateBMAsurv.train.wrapper | 6.36 | 0.00 | 6.36 | |
| iterativeBMAsurv-package | 2.65 | 0.05 | 2.86 | |
| predictBicSurv | 6.18 | 0.04 | 6.22 | |
| predictiveAssessCategory | 6.62 | 0.10 | 6.91 | |
| printTopGenes | 0.31 | 0.00 | 0.31 | |
| singleGeneCoxph | 0.38 | 0.00 | 0.37 | |