| Back to Multiple platform build/check report for BioC 3.15 |
|
This page was generated on 2022-03-18 11:07:51 -0400 (Fri, 18 Mar 2022).
| Hostname | OS | Arch (*) | R version | Installed pkgs |
|---|---|---|---|---|
| nebbiolo1 | Linux (Ubuntu 20.04.4 LTS) | x86_64 | R Under development (unstable) (2022-02-17 r81757) -- "Unsuffered Consequences" | 4334 |
| riesling1 | Windows Server 2019 Standard | x64 | R Under development (unstable) (2021-11-21 r81221) -- "Unsuffered Consequences" | 4097 |
| palomino3 | Windows Server 2022 Datacenter | x64 | R Under development (unstable) (2022-02-17 r81757 ucrt) -- "Unsuffered Consequences" | 4083 |
| merida1 | macOS 10.14.6 Mojave | x86_64 | R Under development (unstable) (2022-03-02 r81842) -- "Unsuffered Consequences" | 4134 |
| Click on any hostname to see more info about the system (e.g. compilers) (*) as reported by 'uname -p', except on Windows and Mac OS X | ||||
|
To the developers/maintainers of the iterativeBMA package: - Please allow up to 24 hours (and sometimes 48 hours) for your latest push to git@git.bioconductor.org:packages/iterativeBMA.git to reflect on this report. See How and When does the builder pull? When will my changes propagate? here for more information. - Make sure to use the following settings in order to reproduce any error or warning you see on this page. |
| Package 971/2090 | Hostname | OS / Arch | INSTALL | BUILD | CHECK | BUILD BIN | ||||||||
| iterativeBMA 1.53.0 (landing page) Ka Yee Yeung
| nebbiolo1 | Linux (Ubuntu 20.04.4 LTS) / x86_64 | OK | OK | OK | |||||||||
| riesling1 | Windows Server 2019 Standard / x64 | OK | OK | OK | OK | |||||||||
| palomino3 | Windows Server 2022 Datacenter / x64 | OK | OK | OK | OK | |||||||||
| merida1 | macOS 10.14.6 Mojave / x86_64 | OK | OK | OK | OK | |||||||||
| Package: iterativeBMA |
| Version: 1.53.0 |
| Command: D:\biocbuild\bbs-3.15-bioc\R\bin\R.exe CMD check --no-multiarch --install=check:iterativeBMA.install-out.txt --library=D:\biocbuild\bbs-3.15-bioc\R\library --no-vignettes --timings iterativeBMA_1.53.0.tar.gz |
| StartedAt: 2022-03-17 19:24:31 -0400 (Thu, 17 Mar 2022) |
| EndedAt: 2022-03-17 19:25:33 -0400 (Thu, 17 Mar 2022) |
| EllapsedTime: 61.8 seconds |
| RetCode: 0 |
| Status: OK |
| CheckDir: iterativeBMA.Rcheck |
| Warnings: 0 |
##############################################################################
##############################################################################
###
### Running command:
###
### D:\biocbuild\bbs-3.15-bioc\R\bin\R.exe CMD check --no-multiarch --install=check:iterativeBMA.install-out.txt --library=D:\biocbuild\bbs-3.15-bioc\R\library --no-vignettes --timings iterativeBMA_1.53.0.tar.gz
###
##############################################################################
##############################################################################
* using log directory 'D:/biocbuild/bbs-3.15-bioc/meat/iterativeBMA.Rcheck'
* using R Under development (unstable) (2021-11-21 r81221)
* using platform: x86_64-w64-mingw32 (64-bit)
* using session charset: ISO8859-1
* using option '--no-vignettes'
* checking for file 'iterativeBMA/DESCRIPTION' ... OK
* checking extension type ... Package
* this is package 'iterativeBMA' version '1.53.0'
* checking package namespace information ... OK
* checking package dependencies ... OK
* checking if this is a source package ... OK
* checking if there is a namespace ... OK
* checking for hidden files and directories ... OK
* checking for portable file names ... OK
* checking whether package 'iterativeBMA' can be installed ... OK
* checking installed package size ... OK
* checking package directory ... OK
* checking 'build' directory ... OK
* checking DESCRIPTION meta-information ... OK
* checking top-level files ... OK
* checking for left-over files ... OK
* checking index information ... OK
* checking package subdirectories ... OK
* checking R files for non-ASCII characters ... OK
* checking R files for syntax errors ... OK
* checking whether the package can be loaded ... OK
* checking whether the package can be loaded with stated dependencies ... OK
* checking whether the package can be unloaded cleanly ... OK
* checking whether the namespace can be loaded with stated dependencies ... OK
* checking whether the namespace can be unloaded cleanly ... OK
* checking dependencies in R code ... NOTE
Packages in Depends field not imported from:
'BMA' 'Biobase' 'leaps'
These packages need to be imported from (in the NAMESPACE file)
for when this namespace is loaded but not attached.
* checking S3 generic/method consistency ... OK
* checking replacement functions ... OK
* checking foreign function calls ... OK
* checking R code for possible problems ... NOTE
convertSingleName: no visible global function definition for 'exprs'
imageplot.bma.mod: no visible global function definition for 'par'
imageplot.bma.mod: no visible global function definition for 'image'
imageplot.bma.mod: no visible global function definition for 'axis'
iterateBMAglm: no visible global function definition for 'bic.glm'
iterateBMAglm.train: no visible global function definition for 'exprs'
iterateBMAglm.train.predict: no visible global function definition for
'exprs'
iterateBMAglm.train.predict.test: no visible global function definition
for 'exprs'
iterateBMAglm.wrapper: no visible global function definition for
'bic.glm'
Undefined global functions or variables:
axis bic.glm exprs image par
Consider adding
importFrom("graphics", "axis", "image", "par")
to your NAMESPACE file.
* checking Rd files ... NOTE
prepare_Rd: BssWssFast.Rd:39: Dropping empty section \note
prepare_Rd: bma_predict.Rd:36: Dropping empty section \note
prepare_Rd: brier_score.Rd:34: Dropping empty section \note
prepare_Rd: testClass.Rd:13-14: Dropping empty section \details
prepare_Rd: trainClass.Rd:13-14: Dropping empty section \details
* checking Rd metadata ... OK
* checking Rd cross-references ... OK
* checking for missing documentation entries ... OK
* checking for code/documentation mismatches ... OK
* checking Rd \usage sections ... OK
* checking Rd contents ... OK
* checking for unstated dependencies in examples ... OK
* checking contents of 'data' directory ... OK
* checking data for non-ASCII characters ... OK
* checking data for ASCII and uncompressed saves ... OK
* checking files in 'vignettes' ... OK
* checking examples ... OK
* checking for unstated dependencies in vignettes ... OK
* checking package vignettes in 'inst/doc' ... OK
* checking running R code from vignettes ... SKIPPED
* checking re-building of vignette outputs ... SKIPPED
* checking PDF version of manual ... OK
* DONE
Status: 3 NOTEs
See
'D:/biocbuild/bbs-3.15-bioc/meat/iterativeBMA.Rcheck/00check.log'
for details.
iterativeBMA.Rcheck/00install.out
##############################################################################
##############################################################################
###
### Running command:
###
### D:\biocbuild\bbs-3.15-bioc\R\bin\R.exe CMD INSTALL iterativeBMA
###
##############################################################################
##############################################################################
* installing to library 'D:/biocbuild/bbs-3.15-bioc/R/library'
* installing *source* package 'iterativeBMA' ...
** using staged installation
** R
** data
** byte-compile and prepare package for lazy loading
** help
*** installing help indices
converting help for package 'iterativeBMA'
finding HTML links ... done
BssWssFast html
bma_predict html
brier_score html
imageplot_iterate_bma html
iterateBMAglm_train html
iterateBMAglm_train_predict html
iterateBMAglm_train_predict_test html
iterateBMAglm_wrapper html
iterativeBMA-internal html
iterativeBMA-package html
testClass html
testData html
trainClass html
trainData html
** building package indices
** installing vignettes
** testing if installed package can be loaded from temporary location
** testing if installed package can be loaded from final location
** testing if installed package keeps a record of temporary installation path
* DONE (iterativeBMA)
Making 'packages.html' ...Warning in packageDescription(i, lib.loc = lib, fields = "Title", encoding = "UTF-8") :
DESCRIPTION file of package 'MethReg' is missing or broken
Warning in packageDescription(i, lib.loc = lib, fields = "Title", encoding = "UTF-8") :
DESCRIPTION file of package 'TargetDecoy' is missing or broken
done
iterativeBMA.Rcheck/iterativeBMA-Ex.timings
| name | user | system | elapsed | |
| BssWssFast | 0.02 | 0.02 | 0.03 | |
| bma_predict | 1.36 | 0.05 | 1.41 | |
| brier_score | 0.92 | 0.03 | 0.95 | |
| imageplot_iterate_bma | 1.00 | 0.03 | 1.03 | |
| iterateBMAglm_train | 0.99 | 0.00 | 0.99 | |
| iterateBMAglm_train_predict | 0.92 | 0.01 | 0.94 | |
| iterateBMAglm_train_predict_test | 0.95 | 0.00 | 0.95 | |
| iterateBMAglm_wrapper | 1.21 | 0.03 | 1.23 | |
| iterativeBMA-package | 1.31 | 0.02 | 1.33 | |