| Back to Multiple platform build/check report for BioC 3.15 |
|
This page was generated on 2022-03-18 11:07:49 -0400 (Fri, 18 Mar 2022).
| Hostname | OS | Arch (*) | R version | Installed pkgs |
|---|---|---|---|---|
| nebbiolo1 | Linux (Ubuntu 20.04.4 LTS) | x86_64 | R Under development (unstable) (2022-02-17 r81757) -- "Unsuffered Consequences" | 4334 |
| riesling1 | Windows Server 2019 Standard | x64 | R Under development (unstable) (2021-11-21 r81221) -- "Unsuffered Consequences" | 4097 |
| palomino3 | Windows Server 2022 Datacenter | x64 | R Under development (unstable) (2022-02-17 r81757 ucrt) -- "Unsuffered Consequences" | 4083 |
| merida1 | macOS 10.14.6 Mojave | x86_64 | R Under development (unstable) (2022-03-02 r81842) -- "Unsuffered Consequences" | 4134 |
| Click on any hostname to see more info about the system (e.g. compilers) (*) as reported by 'uname -p', except on Windows and Mac OS X | ||||
|
To the developers/maintainers of the interacCircos package: - Please allow up to 24 hours (and sometimes 48 hours) for your latest push to git@git.bioconductor.org:packages/interacCircos.git to reflect on this report. See How and When does the builder pull? When will my changes propagate? here for more information. - Make sure to use the following settings in order to reproduce any error or warning you see on this page. |
| Package 942/2090 | Hostname | OS / Arch | INSTALL | BUILD | CHECK | BUILD BIN | ||||||||
| interacCircos 1.5.0 (landing page) Zhe Cui
| nebbiolo1 | Linux (Ubuntu 20.04.4 LTS) / x86_64 | OK | OK | OK | |||||||||
| riesling1 | Windows Server 2019 Standard / x64 | OK | OK | OK | OK | |||||||||
| palomino3 | Windows Server 2022 Datacenter / x64 | OK | OK | OK | OK | |||||||||
| merida1 | macOS 10.14.6 Mojave / x86_64 | OK | OK | OK | OK | |||||||||
| Package: interacCircos |
| Version: 1.5.0 |
| Command: D:\biocbuild\bbs-3.15-bioc\R\bin\R.exe CMD check --no-multiarch --install=check:interacCircos.install-out.txt --library=D:\biocbuild\bbs-3.15-bioc\R\library --no-vignettes --timings interacCircos_1.5.0.tar.gz |
| StartedAt: 2022-03-17 19:22:52 -0400 (Thu, 17 Mar 2022) |
| EndedAt: 2022-03-17 19:23:36 -0400 (Thu, 17 Mar 2022) |
| EllapsedTime: 43.8 seconds |
| RetCode: 0 |
| Status: OK |
| CheckDir: interacCircos.Rcheck |
| Warnings: 0 |
############################################################################## ############################################################################## ### ### Running command: ### ### D:\biocbuild\bbs-3.15-bioc\R\bin\R.exe CMD check --no-multiarch --install=check:interacCircos.install-out.txt --library=D:\biocbuild\bbs-3.15-bioc\R\library --no-vignettes --timings interacCircos_1.5.0.tar.gz ### ############################################################################## ############################################################################## * using log directory 'D:/biocbuild/bbs-3.15-bioc/meat/interacCircos.Rcheck' * using R Under development (unstable) (2021-11-21 r81221) * using platform: x86_64-w64-mingw32 (64-bit) * using session charset: ISO8859-1 * using option '--no-vignettes' * checking for file 'interacCircos/DESCRIPTION' ... OK * checking extension type ... Package * this is package 'interacCircos' version '1.5.0' * package encoding: UTF-8 * checking package namespace information ... OK * checking package dependencies ... OK * checking if this is a source package ... OK * checking if there is a namespace ... OK * checking for hidden files and directories ... OK * checking for portable file names ... OK * checking whether package 'interacCircos' can be installed ... OK * checking installed package size ... OK * checking package directory ... OK * checking 'build' directory ... OK * checking DESCRIPTION meta-information ... OK * checking top-level files ... OK * checking for left-over files ... OK * checking index information ... OK * checking package subdirectories ... OK * checking R files for non-ASCII characters ... OK * checking R files for syntax errors ... OK * checking whether the package can be loaded ... OK * checking whether the package can be loaded with stated dependencies ... OK * checking whether the package can be unloaded cleanly ... OK * checking whether the namespace can be loaded with stated dependencies ... OK * checking whether the namespace can be unloaded cleanly ... OK * checking dependencies in R code ... OK * checking S3 generic/method consistency ... OK * checking replacement functions ... OK * checking foreign function calls ... OK * checking R code for possible problems ... OK * checking Rd files ... OK * checking Rd metadata ... OK * checking Rd cross-references ... OK * checking for missing documentation entries ... OK * checking for code/documentation mismatches ... OK * checking Rd \usage sections ... OK * checking Rd contents ... OK * checking for unstated dependencies in examples ... OK * checking contents of 'data' directory ... OK * checking data for non-ASCII characters ... OK * checking LazyData ... OK * checking data for ASCII and uncompressed saves ... OK * checking files in 'vignettes' ... OK * checking examples ... OK * checking for unstated dependencies in vignettes ... OK * checking package vignettes in 'inst/doc' ... OK * checking running R code from vignettes ... SKIPPED * checking re-building of vignette outputs ... SKIPPED * checking PDF version of manual ... OK * DONE Status: OK
interacCircos.Rcheck/00install.out
##############################################################################
##############################################################################
###
### Running command:
###
### D:\biocbuild\bbs-3.15-bioc\R\bin\R.exe CMD INSTALL interacCircos
###
##############################################################################
##############################################################################
* installing to library 'D:/biocbuild/bbs-3.15-bioc/R/library'
* installing *source* package 'interacCircos' ...
** using staged installation
** R
** data
*** moving datasets to lazyload DB
** inst
** byte-compile and prepare package for lazy loading
** help
*** installing help indices
converting help for package 'interacCircos'
finding HTML links ... done
Circos html
CircosArc html
CircosAuxLine html
CircosBackground html
CircosBubble html
CircosChord html
CircosChord.p html
CircosCnv html
CircosGene html
CircosHeatmap html
CircosHistogram html
CircosLegend html
CircosLine html
CircosLink html
CircosLollipop html
CircosModuleList html
CircosScatter html
CircosSnp html
CircosText html
CircosWig html
arcExample html
bubbleExample html
chord.pExample html
chordExample html
cnvExample html
geneExample html
heatmapExample html
hg19_ideogram html
histogramExample html
lineExample html
linkExample html
lollipopExample html
scatterExample html
snpExample html
wigExample html
** building package indices
** installing vignettes
** testing if installed package can be loaded from temporary location
** testing if installed package can be loaded from final location
** testing if installed package keeps a record of temporary installation path
* DONE (interacCircos)
Making 'packages.html' ... done
interacCircos.Rcheck/interacCircos-Ex.timings
| name | user | system | elapsed | |
| Circos | 0.21 | 0.03 | 0.23 | |
| CircosArc | 0.09 | 0.05 | 0.14 | |
| CircosAuxLine | 0.05 | 0.03 | 0.08 | |
| CircosBackground | 0.06 | 0.03 | 0.16 | |
| CircosBubble | 0.44 | 0.03 | 0.47 | |
| CircosChord | 0.06 | 0.04 | 0.09 | |
| CircosChord.p | 0.08 | 0.00 | 0.08 | |
| CircosCnv | 0.14 | 0.03 | 0.17 | |
| CircosGene | 0.06 | 0.03 | 0.10 | |
| CircosHeatmap | 0.25 | 0.03 | 0.28 | |
| CircosHistogram | 0.10 | 0.03 | 0.12 | |
| CircosLegend | 0.04 | 0.05 | 0.10 | |
| CircosLine | 0.24 | 0.01 | 0.25 | |
| CircosLink | 0.09 | 0.00 | 0.09 | |
| CircosLollipop | 0.14 | 0.02 | 0.16 | |
| CircosScatter | 0.74 | 0.01 | 0.75 | |
| CircosSnp | 0.31 | 0.04 | 0.34 | |
| CircosText | 0.08 | 0.01 | 0.09 | |
| CircosWig | 0.67 | 0.03 | 0.71 | |