| Back to Multiple platform build/check report for BioC 3.15 |
|
This page was generated on 2022-03-18 11:07:48 -0400 (Fri, 18 Mar 2022).
| Hostname | OS | Arch (*) | R version | Installed pkgs |
|---|---|---|---|---|
| nebbiolo1 | Linux (Ubuntu 20.04.4 LTS) | x86_64 | R Under development (unstable) (2022-02-17 r81757) -- "Unsuffered Consequences" | 4334 |
| riesling1 | Windows Server 2019 Standard | x64 | R Under development (unstable) (2021-11-21 r81221) -- "Unsuffered Consequences" | 4097 |
| palomino3 | Windows Server 2022 Datacenter | x64 | R Under development (unstable) (2022-02-17 r81757 ucrt) -- "Unsuffered Consequences" | 4083 |
| merida1 | macOS 10.14.6 Mojave | x86_64 | R Under development (unstable) (2022-03-02 r81842) -- "Unsuffered Consequences" | 4134 |
| Click on any hostname to see more info about the system (e.g. compilers) (*) as reported by 'uname -p', except on Windows and Mac OS X | ||||
|
To the developers/maintainers of the imageHTS package: - Please allow up to 24 hours (and sometimes 48 hours) for your latest push to git@git.bioconductor.org:packages/imageHTS.git to reflect on this report. See How and When does the builder pull? When will my changes propagate? here for more information. - Make sure to use the following settings in order to reproduce any error or warning you see on this page. |
| Package 924/2090 | Hostname | OS / Arch | INSTALL | BUILD | CHECK | BUILD BIN | ||||||||
| imageHTS 1.45.1 (landing page) Joseph Barry
| nebbiolo1 | Linux (Ubuntu 20.04.4 LTS) / x86_64 | OK | ERROR | skipped | |||||||||
| riesling1 | Windows Server 2019 Standard / x64 | OK | OK | OK | OK | |||||||||
| palomino3 | Windows Server 2022 Datacenter / x64 | OK | OK | ERROR | OK | |||||||||
| merida1 | macOS 10.14.6 Mojave / x86_64 | OK | OK | ERROR | OK | |||||||||
| Package: imageHTS |
| Version: 1.45.1 |
| Command: rm -rf imageHTS.buildbin-libdir && mkdir imageHTS.buildbin-libdir && D:\biocbuild\bbs-3.15-bioc\R\bin\R.exe CMD INSTALL --build --library=imageHTS.buildbin-libdir imageHTS_1.45.1.tar.gz |
| StartedAt: 2022-03-17 21:15:25 -0400 (Thu, 17 Mar 2022) |
| EndedAt: 2022-03-17 21:16:52 -0400 (Thu, 17 Mar 2022) |
| EllapsedTime: 87.9 seconds |
| RetCode: 0 |
| Status: OK |
| PackageFile: imageHTS_1.45.1.zip |
| PackageFileSize: 2.593 MiB |
##############################################################################
##############################################################################
###
### Running command:
###
### rm -rf imageHTS.buildbin-libdir && mkdir imageHTS.buildbin-libdir && D:\biocbuild\bbs-3.15-bioc\R\bin\R.exe CMD INSTALL --build --library=imageHTS.buildbin-libdir imageHTS_1.45.1.tar.gz
###
##############################################################################
##############################################################################
* installing *source* package 'imageHTS' ...
** using staged installation
** R
** inst
** byte-compile and prepare package for lazy loading
** help
*** installing help indices
converting help for package 'imageHTS'
finding HTML links ... done
collectCellFeatures html
countObjects html
extractFeatures html
fileHTS html
getImageConf html
getUnames html
getWellFeatures html
finding level-2 HTML links ... done
highlightSegmentation html
imageHTS html
installCellPicker html
makeCellHTS html
parseDCF html
parseImageConf html
popCellPicker html
prw2uname html
readLearnTS html
segmentATH html
segmentWells html
segmentYeastBF html
summarizeWells html
zprime html
** building package indices
** installing vignettes
** testing if installed package can be loaded from temporary location
** testing if installed package can be loaded from final location
** testing if installed package keeps a record of temporary installation path
* MD5 sums
packaged installation of 'imageHTS' as imageHTS_1.45.1.zip
* DONE (imageHTS)